| Back to Multiple platform build/check report for BioC 3.9 |
|
This page was generated on 2019-04-08 12:35:24 -0400 (Mon, 08 Apr 2019).
| Package 367/1703 | Hostname | OS / Arch | INSTALL | BUILD | CHECK | BUILD BIN | ||||||
| cTRAP 1.1.3 Nuno Saraiva-Agostinho
| malbec2 | Linux (Ubuntu 18.04.2 LTS) / x86_64 | OK | OK | OK | |||||||
| tokay2 | Windows Server 2012 R2 Standard / x64 | OK | OK | OK | OK | |||||||
| celaya2 | OS X 10.11.6 El Capitan / x86_64 | OK | OK | OK | OK | |||||||
| merida2 | OS X 10.11.6 El Capitan / x86_64 | OK | OK | [ OK ] | OK |
| Package: cTRAP |
| Version: 1.1.3 |
| Command: /Library/Frameworks/R.framework/Versions/Current/Resources/bin/R CMD check --install=check:cTRAP.install-out.txt --library=/Library/Frameworks/R.framework/Versions/Current/Resources/library --no-vignettes --timings cTRAP_1.1.3.tar.gz |
| StartedAt: 2019-04-08 00:18:03 -0400 (Mon, 08 Apr 2019) |
| EndedAt: 2019-04-08 00:20:38 -0400 (Mon, 08 Apr 2019) |
| EllapsedTime: 154.9 seconds |
| RetCode: 0 |
| Status: OK |
| CheckDir: cTRAP.Rcheck |
| Warnings: 0 |
##############################################################################
##############################################################################
###
### Running command:
###
### /Library/Frameworks/R.framework/Versions/Current/Resources/bin/R CMD check --install=check:cTRAP.install-out.txt --library=/Library/Frameworks/R.framework/Versions/Current/Resources/library --no-vignettes --timings cTRAP_1.1.3.tar.gz
###
##############################################################################
##############################################################################
* using log directory ‘/Users/biocbuild/bbs-3.9-bioc/meat/cTRAP.Rcheck’
* using R Under development (unstable) (2018-11-27 r75683)
* using platform: x86_64-apple-darwin15.6.0 (64-bit)
* using session charset: UTF-8
* using option ‘--no-vignettes’
* checking for file ‘cTRAP/DESCRIPTION’ ... OK
* this is package ‘cTRAP’ version ‘1.1.3’
* package encoding: UTF-8
* checking package namespace information ... OK
* checking package dependencies ... OK
* checking if this is a source package ... OK
* checking if there is a namespace ... OK
* checking for hidden files and directories ... OK
* checking for portable file names ... OK
* checking for sufficient/correct file permissions ... OK
* checking whether package ‘cTRAP’ can be installed ... OK
* checking installed package size ... OK
* checking package directory ... OK
* checking ‘build’ directory ... OK
* checking DESCRIPTION meta-information ... OK
* checking top-level files ... OK
* checking for left-over files ... OK
* checking index information ... OK
* checking package subdirectories ... OK
* checking R files for non-ASCII characters ... OK
* checking R files for syntax errors ... OK
* checking whether the package can be loaded ... OK
* checking whether the package can be loaded with stated dependencies ... OK
* checking whether the package can be unloaded cleanly ... OK
* checking whether the namespace can be loaded with stated dependencies ... OK
* checking whether the namespace can be unloaded cleanly ... OK
* checking dependencies in R code ... OK
* checking S3 generic/method consistency ... OK
* checking replacement functions ... OK
* checking foreign function calls ... OK
* checking R code for possible problems ... OK
* checking Rd files ... OK
* checking Rd metadata ... OK
* checking Rd cross-references ... OK
* checking for missing documentation entries ... OK
* checking for code/documentation mismatches ... OK
* checking Rd \usage sections ... OK
* checking Rd contents ... OK
* checking for unstated dependencies in examples ... OK
* checking contents of ‘data’ directory ... OK
* checking data for non-ASCII characters ... OK
* checking data for ASCII and uncompressed saves ... OK
* checking files in ‘vignettes’ ... OK
* checking examples ... OK
Examples with CPU or elapsed time > 5s
user system elapsed
downloadL1000data 15.000 9.761 7.257
plotL1000comparison 16.942 5.944 11.976
compareAgainstL1000 5.229 3.905 1.865
downloadENCODEknockdownMetadata 3.648 0.761 12.733
* checking for unstated dependencies in ‘tests’ ... OK
* checking tests ...
Running ‘testthat.R’
OK
* checking for unstated dependencies in vignettes ... OK
* checking package vignettes in ‘inst/doc’ ... OK
* checking running R code from vignettes ... SKIPPED
* checking re-building of vignette outputs ... SKIPPED
* checking PDF version of manual ... OK
* DONE
Status: OK
cTRAP.Rcheck/00install.out
############################################################################## ############################################################################## ### ### Running command: ### ### /Library/Frameworks/R.framework/Versions/Current/Resources/bin/R CMD INSTALL cTRAP ### ############################################################################## ############################################################################## * installing to library ‘/Library/Frameworks/R.framework/Versions/3.6/Resources/library’ * installing *source* package ‘cTRAP’ ... ** R ** data *** moving datasets to lazyload DB ** byte-compile and prepare package for lazy loading ** help *** installing help indices ** building package indices ** installing vignettes ** testing if installed package can be loaded * DONE (cTRAP)
cTRAP.Rcheck/tests/testthat.Rout
R Under development (unstable) (2018-11-27 r75683) -- "Unsuffered Consequences"
Copyright (C) 2018 The R Foundation for Statistical Computing
Platform: x86_64-apple-darwin15.6.0 (64-bit)
R is free software and comes with ABSOLUTELY NO WARRANTY.
You are welcome to redistribute it under certain conditions.
Type 'license()' or 'licence()' for distribution details.
R is a collaborative project with many contributors.
Type 'contributors()' for more information and
'citation()' on how to cite R or R packages in publications.
Type 'demo()' for some demos, 'help()' for on-line help, or
'help.start()' for an HTML browser interface to help.
Type 'q()' to quit R.
> library(testthat)
> library(cTRAP)
>
> test_check("cTRAP")
Comparing with cell line HepG2
Comparing with cell line HepG2
Performing GSA using perturbation signatures...
Comparing with cell line HEPG2
Comparing with cell line HEPG2
Performing GSA using perturbation signatures...
══ testthat results ═══════════════════════════════════════════════════════════
OK: 23 SKIPPED: 0 FAILED: 0
>
> proc.time()
user system elapsed
31.495 7.110 24.963
cTRAP.Rcheck/cTRAP-Ex.timings
| name | user | system | elapsed | |
| compareAgainstL1000 | 5.229 | 3.905 | 1.865 | |
| downloadENCODEknockdownMetadata | 3.648 | 0.761 | 12.733 | |
| downloadENCODEsamples | 0.001 | 0.000 | 0.001 | |
| downloadL1000data | 15.000 | 9.761 | 7.257 | |
| filterL1000metadata | 0.069 | 0.046 | 0.020 | |
| getL1000Conditions | 0.016 | 0.014 | 0.005 | |
| getL1000PerturbationTypes | 0.004 | 0.004 | 0.001 | |
| loadL1000perturbations | 0.004 | 0.004 | 0.001 | |
| performDifferentialExpression | 0.062 | 0.042 | 0.018 | |
| plotL1000comparison | 16.942 | 5.944 | 11.976 | |
| prepareENCODEgeneExpression | 0.009 | 0.001 | 0.010 | |