| Back to Multiple platform build/check report for BioC 3.9 |
|
This page was generated on 2019-10-16 12:20:45 -0400 (Wed, 16 Oct 2019).
| Package 73/1741 | Hostname | OS / Arch | INSTALL | BUILD | CHECK | BUILD BIN | ||||||
| aroma.light 3.14.0 Henrik Bengtsson
| malbec2 | Linux (Ubuntu 18.04.2 LTS) / x86_64 | OK | OK | OK | |||||||
| tokay2 | Windows Server 2012 R2 Standard / x64 | OK | OK | OK | [ OK ] | |||||||
| celaya2 | OS X 10.11.6 El Capitan / x86_64 | OK | OK | OK | OK |
| Package: aroma.light |
| Version: 3.14.0 |
| Command: rm -rf aroma.light.buildbin-libdir && mkdir aroma.light.buildbin-libdir && C:\Users\biocbuild\bbs-3.9-bioc\R\bin\R.exe CMD INSTALL --merge-multiarch --build --library=aroma.light.buildbin-libdir aroma.light_3.14.0.tar.gz |
| StartedAt: 2019-10-16 08:41:58 -0400 (Wed, 16 Oct 2019) |
| EndedAt: 2019-10-16 08:42:38 -0400 (Wed, 16 Oct 2019) |
| EllapsedTime: 40.2 seconds |
| RetCode: 0 |
| Status: OK |
| PackageFile: aroma.light_3.14.0.zip |
| PackageFileSize: 684 KiB |
##############################################################################
##############################################################################
###
### Running command:
###
### rm -rf aroma.light.buildbin-libdir && mkdir aroma.light.buildbin-libdir && C:\Users\biocbuild\bbs-3.9-bioc\R\bin\R.exe CMD INSTALL --merge-multiarch --build --library=aroma.light.buildbin-libdir aroma.light_3.14.0.tar.gz
###
##############################################################################
##############################################################################
install for i386
* installing *source* package 'aroma.light' ...
** using staged installation
** R
** inst
** byte-compile and prepare package for lazy loading
** help
*** installing help indices
converting help for package 'aroma.light'
finding HTML links ... done
1._Calibration_and_Normalization html
Non-documented_objects html
aroma.light-package html
averageQuantile html
backtransformAffine html
backtransformPrincipalCurve html
calibrateMultiscan html
callNaiveGenotypes html
distanceBetweenLines html
findPeaksAndValleys html
fitIWPCA html
fitNaiveGenotypes html
fitPrincipalCurve html
fitXYCurve html
iwpca html
likelihood.smooth.spline html
medianPolish html
normalizeAffine html
normalizeAverage html
normalizeCurveFit html
normalizeDifferencesToAverage html
normalizeFragmentLength html
normalizeQuantileRank html
normalizeQuantileRank.matrix html
normalizeQuantileSpline html
normalizeTumorBoost html
pairedAlleleSpecificCopyNumbers html
plotDensity html
plotMvsA html
plotMvsAPairs html
plotMvsMPairs html
plotXYCurve html
print.SmoothSplineLikelihood html
robustSmoothSpline html
sampleCorrelations html
sampleTuples html
wpca html
** building package indices
** testing if installed package can be loaded from temporary location
** testing if installed package can be loaded from final location
** testing if installed package keeps a record of temporary installation path
install for x64
* installing *source* package 'aroma.light' ...
** testing if installed package can be loaded
* MD5 sums
packaged installation of 'aroma.light' as aroma.light_3.14.0.zip
* DONE (aroma.light)