| Back to Multiple platform build/check report for BioC 3.9 |
|
This page was generated on 2019-10-16 12:36:35 -0400 (Wed, 16 Oct 2019).
| Package 44/1741 | Hostname | OS / Arch | INSTALL | BUILD | CHECK | BUILD BIN | ||||||
| alpine 1.10.0 Michael Love
| malbec2 | Linux (Ubuntu 18.04.2 LTS) / x86_64 | OK | OK | OK | |||||||
| tokay2 | Windows Server 2012 R2 Standard / x64 | OK | OK | OK | [ OK ] | |||||||
| celaya2 | OS X 10.11.6 El Capitan / x86_64 | OK | OK | OK | OK |
| Package: alpine |
| Version: 1.10.0 |
| Command: rm -rf alpine.buildbin-libdir && mkdir alpine.buildbin-libdir && C:\Users\biocbuild\bbs-3.9-bioc\R\bin\R.exe CMD INSTALL --merge-multiarch --build --library=alpine.buildbin-libdir alpine_1.10.0.tar.gz |
| StartedAt: 2019-10-16 08:40:10 -0400 (Wed, 16 Oct 2019) |
| EndedAt: 2019-10-16 08:41:14 -0400 (Wed, 16 Oct 2019) |
| EllapsedTime: 64.0 seconds |
| RetCode: 0 |
| Status: OK |
| PackageFile: alpine_1.10.0.zip |
| PackageFileSize: 384.4 KiB |
##############################################################################
##############################################################################
###
### Running command:
###
### rm -rf alpine.buildbin-libdir && mkdir alpine.buildbin-libdir && C:\Users\biocbuild\bbs-3.9-bioc\R\bin\R.exe CMD INSTALL --merge-multiarch --build --library=alpine.buildbin-libdir alpine_1.10.0.tar.gz
###
##############################################################################
##############################################################################
install for i386
* installing *source* package 'alpine' ...
** using staged installation
** R
** data
** inst
** byte-compile and prepare package for lazy loading
** help
*** installing help indices
converting help for package 'alpine'
finding HTML links ... done
alpine-package html
buildFragtypes html
estimateAbundance html
extractAlpine html
fitBiasModels html
getFragmentWidths html
getReadLength html
mergeGenes html
normalizeDESeq html
plotFragLen html
plotGC html
plotGRL html
plotOrder0 html
plotRelPos html
predictCoverage html
preprocessedData html
splitGenesAcrossChroms html
splitLongGenes html
** building package indices
** installing vignettes
** testing if installed package can be loaded from temporary location
** testing if installed package can be loaded from final location
** testing if installed package keeps a record of temporary installation path
install for x64
* installing *source* package 'alpine' ...
** testing if installed package can be loaded
* MD5 sums
packaged installation of 'alpine' as alpine_1.10.0.zip
* DONE (alpine)