| Back to Multiple platform build/check report for BioC 3.9 |
|
This page was generated on 2019-04-09 13:39:13 -0400 (Tue, 09 Apr 2019).
| Package 41/1703 | Hostname | OS / Arch | INSTALL | BUILD | CHECK | BUILD BIN | ||||||
| alevinQC 0.99.4 Charlotte Soneson
| malbec2 | Linux (Ubuntu 18.04.2 LTS) / x86_64 | OK | OK | OK | |||||||
| tokay2 | Windows Server 2012 R2 Standard / x64 | OK | OK | OK | OK | |||||||
| celaya2 | OS X 10.11.6 El Capitan / x86_64 | OK | OK | OK | OK | |||||||
| merida2 | OS X 10.11.6 El Capitan / x86_64 | OK | OK | [ OK ] | OK |
| Package: alevinQC |
| Version: 0.99.4 |
| Command: /Library/Frameworks/R.framework/Versions/Current/Resources/bin/R CMD check --install=check:alevinQC.install-out.txt --library=/Library/Frameworks/R.framework/Versions/Current/Resources/library --no-vignettes --timings alevinQC_0.99.4.tar.gz |
| StartedAt: 2019-04-08 23:11:09 -0400 (Mon, 08 Apr 2019) |
| EndedAt: 2019-04-08 23:13:02 -0400 (Mon, 08 Apr 2019) |
| EllapsedTime: 113.6 seconds |
| RetCode: 0 |
| Status: OK |
| CheckDir: alevinQC.Rcheck |
| Warnings: 0 |
##############################################################################
##############################################################################
###
### Running command:
###
### /Library/Frameworks/R.framework/Versions/Current/Resources/bin/R CMD check --install=check:alevinQC.install-out.txt --library=/Library/Frameworks/R.framework/Versions/Current/Resources/library --no-vignettes --timings alevinQC_0.99.4.tar.gz
###
##############################################################################
##############################################################################
* using log directory ‘/Users/biocbuild/bbs-3.9-bioc/meat/alevinQC.Rcheck’
* using R Under development (unstable) (2018-11-27 r75683)
* using platform: x86_64-apple-darwin15.6.0 (64-bit)
* using session charset: UTF-8
* using option ‘--no-vignettes’
* checking for file ‘alevinQC/DESCRIPTION’ ... OK
* checking extension type ... Package
* this is package ‘alevinQC’ version ‘0.99.4’
* package encoding: UTF-8
* checking package namespace information ... OK
* checking package dependencies ... OK
* checking if this is a source package ... OK
* checking if there is a namespace ... OK
* checking for hidden files and directories ... OK
* checking for portable file names ... OK
* checking for sufficient/correct file permissions ... OK
* checking whether package ‘alevinQC’ can be installed ... OK
* checking installed package size ... NOTE
installed size is 8.2Mb
sub-directories of 1Mb or more:
extdata 8.1Mb
* checking package directory ... OK
* checking ‘build’ directory ... OK
* checking DESCRIPTION meta-information ... OK
* checking top-level files ... OK
* checking for left-over files ... OK
* checking index information ... OK
* checking package subdirectories ... OK
* checking R files for non-ASCII characters ... OK
* checking R files for syntax errors ... OK
* checking whether the package can be loaded ... OK
* checking whether the package can be loaded with stated dependencies ... OK
* checking whether the package can be unloaded cleanly ... OK
* checking whether the namespace can be loaded with stated dependencies ... OK
* checking whether the namespace can be unloaded cleanly ... OK
* checking dependencies in R code ... OK
* checking S3 generic/method consistency ... OK
* checking replacement functions ... OK
* checking foreign function calls ... OK
* checking R code for possible problems ... NOTE
plotAlevinBarcodeCollapse: no visible binding for global variable
‘inFirstWhiteList’
plotAlevinBarcodeCollapse: no visible binding for global variable
‘collapsedFreq’
plotAlevinBarcodeCollapse: no visible binding for global variable
‘originalFreq’
plotAlevinKneeNbrGenes: no visible binding for global variable
‘inFirstWhiteList’
plotAlevinKneeNbrGenes: no visible binding for global variable
‘nbrGenesAboveZero’
plotAlevinKneeNbrGenes: no visible binding for global variable ‘x’
plotAlevinKneeRaw: no visible binding for global variable ‘ranking’
plotAlevinKneeRaw: no visible binding for global variable
‘originalFreq’
plotAlevinKneeRaw: no visible binding for global variable
‘inFirstWhiteList’
plotAlevinQuant: no visible binding for global variable
‘inFirstWhiteList’
plotAlevinQuant: no visible binding for global variable ‘collapsedFreq’
plotAlevinQuant: no visible binding for global variable ‘totalUMICount’
plotAlevinQuant: no visible binding for global variable
‘inFinalWhiteList’
plotAlevinQuant: no visible binding for global variable
‘nbrGenesAboveZero’
plotAlevinQuantPairs: no visible binding for global variable
‘inFirstWhiteList’
plotAlevinQuantPairs: no visible binding for global variable
‘inFinalWhiteList’
readAlevinQC: no visible binding for global variable ‘V1’
readAlevinQC: no visible binding for global variable ‘V2’
readAlevinQC: no visible binding for global variable ‘CB’
readAlevinQC: no visible binding for global variable ‘V3’
readAlevinQC: no visible binding for global variable ‘V4’
readAlevinQC: no visible binding for global variable ‘V5’
readAlevinQC: no visible binding for global variable ‘inFirstWhiteList’
readAlevinQC: no visible binding for global variable ‘inFinalWhiteList’
Undefined global functions or variables:
CB V1 V2 V3 V4 V5 collapsedFreq inFinalWhiteList inFirstWhiteList
nbrGenesAboveZero originalFreq ranking totalUMICount x
* checking Rd files ... OK
* checking Rd metadata ... OK
* checking Rd cross-references ... OK
* checking for missing documentation entries ... OK
* checking for code/documentation mismatches ... OK
* checking Rd \usage sections ... OK
* checking Rd contents ... OK
* checking for unstated dependencies in examples ... OK
* checking files in ‘vignettes’ ... OK
* checking examples ... OK
Examples with CPU or elapsed time > 5s
user system elapsed
alevinQCReport 15.515 1.714 17.706
plotAlevinKneeRaw 4.877 1.239 6.184
plotAlevinQuantPairs 5.105 0.806 5.983
plotAlevinBarcodeCollapse 4.289 0.850 5.177
* checking for unstated dependencies in ‘tests’ ... OK
* checking tests ...
Running ‘testthat.R’
OK
* checking for unstated dependencies in vignettes ... OK
* checking package vignettes in ‘inst/doc’ ... OK
* checking running R code from vignettes ... SKIPPED
* checking re-building of vignette outputs ... SKIPPED
* checking PDF version of manual ... OK
* DONE
Status: 2 NOTEs
See
‘/Users/biocbuild/bbs-3.9-bioc/meat/alevinQC.Rcheck/00check.log’
for details.
alevinQC.Rcheck/00install.out
############################################################################## ############################################################################## ### ### Running command: ### ### /Library/Frameworks/R.framework/Versions/Current/Resources/bin/R CMD INSTALL alevinQC ### ############################################################################## ############################################################################## * installing to library ‘/Library/Frameworks/R.framework/Versions/3.6/Resources/library’ * installing *source* package ‘alevinQC’ ... ** R ** inst ** byte-compile and prepare package for lazy loading ** help *** installing help indices ** building package indices ** installing vignettes ** testing if installed package can be loaded * DONE (alevinQC)
alevinQC.Rcheck/tests/testthat.Rout
R Under development (unstable) (2018-11-27 r75683) -- "Unsuffered Consequences"
Copyright (C) 2018 The R Foundation for Statistical Computing
Platform: x86_64-apple-darwin15.6.0 (64-bit)
R is free software and comes with ABSOLUTELY NO WARRANTY.
You are welcome to redistribute it under certain conditions.
Type 'license()' or 'licence()' for distribution details.
R is a collaborative project with many contributors.
Type 'contributors()' for more information and
'citation()' on how to cite R or R packages in publications.
Type 'demo()' for some demos, 'help()' for on-line help, or
'help.start()' for an HTML browser interface to help.
Type 'q()' to quit R.
> library(testthat)
> library(alevinQC)
>
> test_check("alevinQC")
══ testthat results ═══════════════════════════════════════════════════════════
OK: 27 SKIPPED: 0 FAILED: 0
>
> proc.time()
user system elapsed
21.250 3.348 25.026
alevinQC.Rcheck/alevinQC-Ex.timings
| name | user | system | elapsed | |
| alevinQCReport | 15.515 | 1.714 | 17.706 | |
| alevinQCShiny | 2.745 | 0.678 | 3.453 | |
| checkAlevinInputFiles | 0.001 | 0.001 | 0.002 | |
| plotAlevinBarcodeCollapse | 4.289 | 0.850 | 5.177 | |
| plotAlevinKneeNbrGenes | 2.591 | 0.741 | 3.361 | |
| plotAlevinKneeRaw | 4.877 | 1.239 | 6.184 | |
| plotAlevinQuant | 3.865 | 0.800 | 4.726 | |
| plotAlevinQuantPairs | 5.105 | 0.806 | 5.983 | |
| readAlevinQC | 2.480 | 0.695 | 3.204 | |