| Back to Multiple platform build/check report for BioC 3.9 | 
 | 
This page was generated on 2019-10-16 12:18:50 -0400 (Wed, 16 Oct 2019).
| Package 24/1741 | Hostname | OS / Arch | INSTALL | BUILD | CHECK | BUILD BIN | ||||||
| affycomp 1.60.0 Rafael A. Irizarry 
 | malbec2 | Linux (Ubuntu 18.04.2 LTS) / x86_64 | OK | OK | OK |  | ||||||
| tokay2 | Windows Server 2012 R2 Standard / x64 | OK | [ OK ] | WARNINGS | OK |  | ||||||
| celaya2 | OS X 10.11.6 El Capitan / x86_64 | OK | OK | OK | OK |  | 
| Package: affycomp | 
| Version: 1.60.0 | 
| Command: chmod a+r affycomp -R && C:\Users\biocbuild\bbs-3.9-bioc\R\bin\R.exe CMD build --keep-empty-dirs --no-resave-data affycomp | 
| StartedAt: 2019-10-15 21:19:56 -0400 (Tue, 15 Oct 2019) | 
| EndedAt: 2019-10-15 21:21:49 -0400 (Tue, 15 Oct 2019) | 
| EllapsedTime: 113.5 seconds | 
| RetCode: 0 | 
| Status: OK | 
| PackageFile: affycomp_1.60.0.tar.gz | 
| PackageFileSize: 7.756 MiB | 
############################################################################## ############################################################################## ### ### Running command: ### ### chmod a+r affycomp -R && C:\Users\biocbuild\bbs-3.9-bioc\R\bin\R.exe CMD build --keep-empty-dirs --no-resave-data affycomp ### ############################################################################## ############################################################################## * checking for file 'affycomp/DESCRIPTION' ... OK * preparing 'affycomp': * checking DESCRIPTION meta-information ... OK * installing the package to build vignettes * creating vignettes ... OK * checking for LF line-endings in source and make files and shell scripts * checking for empty or unneeded directories * looking to see if a 'data/datalist' file should be added * building 'affycomp_1.60.0.tar.gz'