| Back to Multiple platform build/check report for BioC 3.9 | 
 | 
This page was generated on 2019-10-16 11:57:08 -0400 (Wed, 16 Oct 2019).
| Package 26/1741 | Hostname | OS / Arch | INSTALL | BUILD | CHECK | BUILD BIN | ||||||
| affyContam 1.42.0 V. Carey 
 | malbec2 | Linux (Ubuntu 18.04.2 LTS) / x86_64 | [ OK ] | OK | OK |  | ||||||
| tokay2 | Windows Server 2012 R2 Standard / x64 | OK | OK | OK | OK |  | ||||||
| celaya2 | OS X 10.11.6 El Capitan / x86_64 | OK | OK | OK | OK |  | 
| Package: affyContam | 
| Version: 1.42.0 | 
| Command: /home/biocbuild/bbs-3.9-bioc/R/bin/R CMD INSTALL affyContam | 
| StartedAt: 2019-10-15 18:13:02 -0400 (Tue, 15 Oct 2019) | 
| EndedAt: 2019-10-15 18:13:06 -0400 (Tue, 15 Oct 2019) | 
| EllapsedTime: 4.2 seconds | 
| RetCode: 0 | 
| Status: OK | 
##############################################################################
##############################################################################
###
### Running command:
###
###   /home/biocbuild/bbs-3.9-bioc/R/bin/R CMD INSTALL affyContam
###
##############################################################################
##############################################################################
* installing to library ‘/home/biocbuild/bbs-3.9-bioc/R/library’
* installing *source* package ‘affyContam’ ...
** using staged installation
** R
** byte-compile and prepare package for lazy loading
     Package    LibPath                                  Item      
[1,] "affydata" "/home/biocbuild/bbs-3.9-bioc/R/library" "Dilution"
     Title                        
[1,] "AffyBatch instance Dilution"
** help
*** installing help indices
** building package indices
** installing vignettes
** testing if installed package can be loaded from temporary location
     Package    LibPath                                  Item      
[1,] "affydata" "/home/biocbuild/bbs-3.9-bioc/R/library" "Dilution"
     Title                        
[1,] "AffyBatch instance Dilution"
** testing if installed package can be loaded from final location
     Package    LibPath                                  Item      
[1,] "affydata" "/home/biocbuild/bbs-3.9-bioc/R/library" "Dilution"
     Title                        
[1,] "AffyBatch instance Dilution"
** testing if installed package keeps a record of temporary installation path
* DONE (affyContam)