| Back to Multiple platform build/check report for BioC 3.9 |
|
This page was generated on 2019-04-09 13:22:40 -0400 (Tue, 09 Apr 2019).
| Package 13/1703 | Hostname | OS / Arch | INSTALL | BUILD | CHECK | BUILD BIN | ||||||
| aCGH 1.61.0 Peter Dimitrov
| malbec2 | Linux (Ubuntu 18.04.2 LTS) / x86_64 | OK | OK | OK | |||||||
| tokay2 | Windows Server 2012 R2 Standard / x64 | OK | OK | OK | OK | |||||||
| celaya2 | OS X 10.11.6 El Capitan / x86_64 | OK | OK | OK | OK | |||||||
| merida2 | OS X 10.11.6 El Capitan / x86_64 | OK | OK | [ OK ] | OK |
| Package: aCGH |
| Version: 1.61.0 |
| Command: /Library/Frameworks/R.framework/Versions/Current/Resources/bin/R CMD check --install=check:aCGH.install-out.txt --library=/Library/Frameworks/R.framework/Versions/Current/Resources/library --no-vignettes --timings aCGH_1.61.0.tar.gz |
| StartedAt: 2019-04-08 23:07:28 -0400 (Mon, 08 Apr 2019) |
| EndedAt: 2019-04-08 23:09:09 -0400 (Mon, 08 Apr 2019) |
| EllapsedTime: 100.3 seconds |
| RetCode: 0 |
| Status: OK |
| CheckDir: aCGH.Rcheck |
| Warnings: 0 |
##############################################################################
##############################################################################
###
### Running command:
###
### /Library/Frameworks/R.framework/Versions/Current/Resources/bin/R CMD check --install=check:aCGH.install-out.txt --library=/Library/Frameworks/R.framework/Versions/Current/Resources/library --no-vignettes --timings aCGH_1.61.0.tar.gz
###
##############################################################################
##############################################################################
* using log directory ‘/Users/biocbuild/bbs-3.9-bioc/meat/aCGH.Rcheck’
* using R Under development (unstable) (2018-11-27 r75683)
* using platform: x86_64-apple-darwin15.6.0 (64-bit)
* using session charset: UTF-8
* using option ‘--no-vignettes’
* checking for file ‘aCGH/DESCRIPTION’ ... OK
* this is package ‘aCGH’ version ‘1.61.0’
* checking package namespace information ... OK
* checking package dependencies ... OK
* checking if this is a source package ... OK
* checking if there is a namespace ... OK
* checking for hidden files and directories ... OK
* checking for portable file names ... OK
* checking for sufficient/correct file permissions ... OK
* checking whether package ‘aCGH’ can be installed ... OK
* checking installed package size ... OK
* checking package directory ... OK
* checking ‘build’ directory ... OK
* checking DESCRIPTION meta-information ... NOTE
Malformed Title field: should not end in a period.
Packages listed in more than one of Depends, Imports, Suggests, Enhances:
‘cluster’ ‘multtest’ ‘survival’
A package should be listed in only one of these fields.
* checking top-level files ... OK
* checking for left-over files ... OK
* checking index information ... OK
* checking package subdirectories ... OK
* checking R files for non-ASCII characters ... OK
* checking R files for syntax errors ... OK
* checking whether the package can be loaded ... OK
* checking whether the package can be loaded with stated dependencies ... OK
* checking whether the package can be unloaded cleanly ... OK
* checking whether the namespace can be loaded with stated dependencies ... OK
* checking whether the namespace can be unloaded cleanly ... OK
* checking dependencies in R code ... NOTE
Missing or unexported object: ‘multtest::.mt.naNUM’
* checking S3 generic/method consistency ... NOTE
Found the following apparent S3 methods exported but not registered:
[.aCGH dim.aCGH plot.aCGH print.aCGH row.names.aCGH row.names<-.aCGH
subset.hmm subset.hmm.merged summary.aCGH
See section ‘Registering S3 methods’ in the ‘Writing R Extensions’
manual.
* checking replacement functions ... OK
* checking foreign function calls ... OK
* checking R code for possible problems ... NOTE
aCGH.read.Sprocs: warning in read.table(fnames[1], h = TRUE, sep =
"\t", quote = "", comment.char = "", fill = TRUE, blank.lines.skip =
FALSE): partial argument match of 'h' to 'header'
aCGH.read.Sprocs: warning in read.table(latest.mapping.file, sep =
"\t", h = TRUE, quote = "", comment.char = ""): partial argument
match of 'h' to 'header'
plotCGH.func: warning in close.screen(all = TRUE): partial argument
match of 'all' to 'all.screens'
plotCGH.hmm.func: warning in close.screen(all = TRUE): partial argument
match of 'all' to 'all.screens'
plotFreqStat: warning in axis(side = 1, at = kb.loc[ind][1], label =
"", tick = FALSE): partial argument match of 'label' to 'labels'
plotGenome: warning in axis(side = 1, at = clone.genomepos[1]/1000,
label = "", tick = FALSE): partial argument match of 'label' to
'labels'
read.Sproc.files : <anonymous>: warning in read.table(fname, h = TRUE,
sep = "\t", quote = "", comment.char = "", fill = TRUE,
blank.lines.skip = FALSE, dec = "."): partial argument match of 'h'
to 'header'
states.hmm.func: warning in matrix(res$filtered.cond.probs, nr = k):
partial argument match of 'nr' to 'nrow'
states.hmm.func: warning in matrix(res$gamma, nr = k): partial argument
match of 'nr' to 'nrow'
plotSummaryProfile: no visible binding for global variable
‘numchromgain’
plotSummaryProfile: no visible binding for global variable
‘numchromloss’
plotSummaryProfile: no visible binding for global variable ‘numtrans’
plotSummaryProfile: no visible binding for global variable
‘numtrans.binary’
plotSummaryProfile: no visible binding for global variable ‘numaber’
plotSummaryProfile: no visible binding for global variable ‘numamplif’
plotSummaryProfile: no visible binding for global variable
‘numamplif.binary’
plotSummaryProfile: no visible binding for global variable
‘numamplicon’
plotSummaryProfile: no visible binding for global variable
‘sizeamplicon’
Undefined global functions or variables:
numaber numamplicon numamplif numamplif.binary numchromgain
numchromloss numtrans numtrans.binary sizeamplicon
* checking Rd files ... OK
* checking Rd metadata ... OK
* checking Rd cross-references ... OK
* checking for missing documentation entries ... OK
* checking for code/documentation mismatches ... OK
* checking Rd \usage sections ... OK
* checking Rd contents ... OK
* checking for unstated dependencies in examples ... OK
* checking contents of ‘data’ directory ... OK
* checking data for non-ASCII characters ... OK
* checking data for ASCII and uncompressed saves ... OK
* checking line endings in C/C++/Fortran sources/headers ... OK
* checking line endings in Makefiles ... OK
* checking compilation flags in Makevars ... OK
* checking for GNU extensions in Makefiles ... OK
* checking for portable use of $(BLAS_LIBS) and $(LAPACK_LIBS) ... OK
* checking compiled code ... NOTE
Note: information on .o files is not available
* checking sizes of PDF files under ‘inst/doc’ ... OK
* checking files in ‘vignettes’ ... OK
* checking examples ... OK
Examples with CPU or elapsed time > 5s
user system elapsed
plotFreqStat 5.089 0.1 5.239
* checking for unstated dependencies in vignettes ... OK
* checking package vignettes in ‘inst/doc’ ... OK
* checking running R code from vignettes ... SKIPPED
* checking re-building of vignette outputs ... SKIPPED
* checking PDF version of manual ... OK
* DONE
Status: 5 NOTEs
See
‘/Users/biocbuild/bbs-3.9-bioc/meat/aCGH.Rcheck/00check.log’
for details.
aCGH.Rcheck/00install.out
############################################################################## ############################################################################## ### ### Running command: ### ### /Library/Frameworks/R.framework/Versions/Current/Resources/bin/R CMD INSTALL aCGH ### ############################################################################## ############################################################################## * installing to library ‘/Library/Frameworks/R.framework/Versions/3.6/Resources/library’ * installing *source* package ‘aCGH’ ... ** libs clang++ -std=gnu++11 -I"/Library/Frameworks/R.framework/Resources/include" -DNDEBUG -g3 -I/usr/local/include -fPIC -Wall -g -O2 -c hmm.cpp -o hmm.o clang++ -std=gnu++11 -dynamiclib -Wl,-headerpad_max_install_names -undefined dynamic_lookup -single_module -multiply_defined suppress -L/Library/Frameworks/R.framework/Resources/lib -L/usr/local/lib -o aCGH.so hmm.o -lm -F/Library/Frameworks/R.framework/.. -framework R -Wl,-framework -Wl,CoreFoundation installing to /Library/Frameworks/R.framework/Versions/3.6/Resources/library/aCGH/libs ** R ** data ** demo ** inst ** byte-compile and prepare package for lazy loading ** help *** installing help indices ** building package indices ** installing vignettes ** testing if installed package can be loaded * DONE (aCGH)
aCGH.Rcheck/aCGH-Ex.timings
| name | user | system | elapsed | |
| aCGH | 2.241 | 0.162 | 2.435 | |
| aCGH.process | 0.045 | 0.001 | 0.047 | |
| aCGH.read.Sprocs | 0.279 | 0.008 | 0.291 | |
| clusterGenome | 1.348 | 0.103 | 1.485 | |
| colorectal | 0.305 | 0.035 | 0.348 | |
| fga.func | 0.478 | 0.048 | 0.529 | |
| find.hmm.states | 0.456 | 0.025 | 0.485 | |
| gainLoss | 0.921 | 0.044 | 0.972 | |
| heatmap | 0.490 | 0.048 | 0.542 | |
| impute.HMM | 0.448 | 0.011 | 0.460 | |
| impute.lowess | 0.092 | 0.006 | 0.099 | |
| mergeLevels | 0.110 | 0.007 | 0.116 | |
| plotFreqStat | 5.089 | 0.100 | 5.239 | |
| plotGenome | 1.546 | 0.094 | 1.661 | |
| plotHmmStates | 0.301 | 0.034 | 0.340 | |
| plotSummaryProfile | 1.354 | 0.060 | 1.453 | |
| summarize.clones | 0.358 | 0.034 | 0.396 | |
| threshold.func | 0.266 | 0.035 | 0.301 | |