| Back to Multiple platform build/check report for BioC 3.9 |
|
This page was generated on 2019-10-16 11:56:46 -0400 (Wed, 16 Oct 2019).
| Package 1729/1741 | Hostname | OS / Arch | INSTALL | BUILD | CHECK | BUILD BIN | ||||||
| XDE 2.30.0 Robert Scharpf
| malbec2 | Linux (Ubuntu 18.04.2 LTS) / x86_64 | OK | [ OK ] | OK | |||||||
| tokay2 | Windows Server 2012 R2 Standard / x64 | OK | OK | OK | OK | |||||||
| celaya2 | OS X 10.11.6 El Capitan / x86_64 | OK | OK | OK | OK |
| Package: XDE |
| Version: 2.30.0 |
| Command: /home/biocbuild/bbs-3.9-bioc/R/bin/R CMD build --keep-empty-dirs --no-resave-data XDE |
| StartedAt: 2019-10-15 19:45:16 -0400 (Tue, 15 Oct 2019) |
| EndedAt: 2019-10-15 19:46:28 -0400 (Tue, 15 Oct 2019) |
| EllapsedTime: 71.3 seconds |
| RetCode: 0 |
| Status: OK |
| PackageFile: XDE_2.30.0.tar.gz |
| PackageFileSize: 1.165 MiB |
##############################################################################
##############################################################################
###
### Running command:
###
### /home/biocbuild/bbs-3.9-bioc/R/bin/R CMD build --keep-empty-dirs --no-resave-data XDE
###
##############################################################################
##############################################################################
* checking for file ‘XDE/DESCRIPTION’ ... OK
* preparing ‘XDE’:
* checking DESCRIPTION meta-information ... OK
* cleaning src
* installing the package to build vignettes
* creating vignettes ... OK
Warning: ‘inst/doc’ files
‘XDE.Rnw’, ‘XdeParameterClass.Rnw’
ignored as vignettes have been rebuilt.
Run R CMD build with --no-build-vignettes to prevent rebuilding.
* cleaning src
* checking for LF line-endings in source and make files and shell scripts
* checking for empty or unneeded directories
* looking to see if a ‘data/datalist’ file should be added
* building ‘XDE_2.30.0.tar.gz’