| Back to Multiple platform build/check report for BioC 3.9 | 
 | 
This page was generated on 2019-10-16 12:55:54 -0400 (Wed, 16 Oct 2019).
| Package 1727/1741 | Hostname | OS / Arch | INSTALL | BUILD | CHECK | BUILD BIN | ||||||
| XBSeq 1.16.0 Yuanhang Liu 
 | malbec2 | Linux (Ubuntu 18.04.2 LTS) / x86_64 | OK | OK | OK |  | ||||||
| tokay2 | Windows Server 2012 R2 Standard / x64 | OK | OK | OK | OK |  | ||||||
| celaya2 | OS X 10.11.6 El Capitan / x86_64 | [ OK ] | OK | OK | OK |  | 
| Package: XBSeq | 
| Version: 1.16.0 | 
| Command: /Library/Frameworks/R.framework/Versions/Current/Resources/bin/R CMD INSTALL XBSeq | 
| StartedAt: 2019-10-15 19:07:38 -0400 (Tue, 15 Oct 2019) | 
| EndedAt: 2019-10-15 19:08:24 -0400 (Tue, 15 Oct 2019) | 
| EllapsedTime: 46.1 seconds | 
| RetCode: 0 | 
| Status: OK | 
############################################################################## ############################################################################## ### ### Running command: ### ### /Library/Frameworks/R.framework/Versions/Current/Resources/bin/R CMD INSTALL XBSeq ### ############################################################################## ############################################################################## * installing to library ‘/Library/Frameworks/R.framework/Versions/3.6/Resources/library’ * installing *source* package ‘XBSeq’ ... ** using staged installation ** R ** data ** inst ** byte-compile and prepare package for lazy loading ** help *** installing help indices ** building package indices ** installing vignettes ‘XBSeq.Rmd’ using ‘UTF-8’ ** testing if installed package can be loaded from temporary location ** testing if installed package can be loaded from final location ** testing if installed package keeps a record of temporary installation path * DONE (XBSeq)