| Back to Multiple platform build/check report for BioC 3.9 |
|
This page was generated on 2019-10-16 12:14:37 -0400 (Wed, 16 Oct 2019).
| Package 1695/1741 | Hostname | OS / Arch | INSTALL | BUILD | CHECK | BUILD BIN | ||||||
| TxRegInfra 1.4.0 VJ Carey
| malbec2 | Linux (Ubuntu 18.04.2 LTS) / x86_64 | OK | OK | [ OK ] | |||||||
| tokay2 | Windows Server 2012 R2 Standard / x64 | OK | OK | OK | OK | |||||||
| celaya2 | OS X 10.11.6 El Capitan / x86_64 | OK | OK | OK | OK |
| Package: TxRegInfra |
| Version: 1.4.0 |
| Command: /home/biocbuild/bbs-3.9-bioc/R/bin/R CMD check --install=check:TxRegInfra.install-out.txt --library=/home/biocbuild/bbs-3.9-bioc/R/library --no-vignettes --timings TxRegInfra_1.4.0.tar.gz |
| StartedAt: 2019-10-16 05:38:14 -0400 (Wed, 16 Oct 2019) |
| EndedAt: 2019-10-16 05:41:04 -0400 (Wed, 16 Oct 2019) |
| EllapsedTime: 169.9 seconds |
| RetCode: 0 |
| Status: OK |
| CheckDir: TxRegInfra.Rcheck |
| Warnings: 0 |
##############################################################################
##############################################################################
###
### Running command:
###
### /home/biocbuild/bbs-3.9-bioc/R/bin/R CMD check --install=check:TxRegInfra.install-out.txt --library=/home/biocbuild/bbs-3.9-bioc/R/library --no-vignettes --timings TxRegInfra_1.4.0.tar.gz
###
##############################################################################
##############################################################################
* using log directory ‘/home/biocbuild/bbs-3.9-bioc/meat/TxRegInfra.Rcheck’
* using R version 3.6.1 (2019-07-05)
* using platform: x86_64-pc-linux-gnu (64-bit)
* using session charset: UTF-8
* using option ‘--no-vignettes’
* checking for file ‘TxRegInfra/DESCRIPTION’ ... OK
* this is package ‘TxRegInfra’ version ‘1.4.0’
* package encoding: UTF-8
* checking package namespace information ... OK
* checking package dependencies ... OK
* checking if this is a source package ... OK
* checking if there is a namespace ... OK
* checking for hidden files and directories ... OK
* checking for portable file names ... OK
* checking for sufficient/correct file permissions ... OK
* checking whether package ‘TxRegInfra’ can be installed ... OK
* checking installed package size ... OK
* checking package directory ... OK
* checking ‘build’ directory ... OK
* checking DESCRIPTION meta-information ... OK
* checking top-level files ... OK
* checking for left-over files ... OK
* checking index information ... OK
* checking package subdirectories ... OK
* checking R files for non-ASCII characters ... OK
* checking R files for syntax errors ... OK
* checking whether the package can be loaded ... OK
* checking whether the package can be loaded with stated dependencies ... OK
* checking whether the package can be unloaded cleanly ... OK
* checking whether the namespace can be loaded with stated dependencies ... OK
* checking whether the namespace can be unloaded cleanly ... OK
* checking dependencies in R code ... NOTE
'library' or 'require' call to 'shiny' in package code.
Please use :: or requireNamespace() instead.
See section 'Suggested packages' in the 'Writing R Extensions' manual.
* checking S3 generic/method consistency ... OK
* checking replacement functions ... OK
* checking foreign function calls ... OK
* checking R code for possible problems ... NOTE
dnmetaApp: no visible global function definition for ‘fluidPage’
dnmetaApp: no visible global function definition for ‘sidebarLayout’
dnmetaApp: no visible global function definition for ‘sidebarPanel’
dnmetaApp: no visible global function definition for ‘helpText’
dnmetaApp: no visible global function definition for ‘radioButtons’
dnmetaApp: no visible global function definition for
‘checkboxGroupInput’
dnmetaApp: no visible global function definition for ‘uiOutput’
dnmetaApp: no visible global function definition for ‘mainPanel’
dnmetaApp: no visible global function definition for ‘dataTableOutput’
dnmetaApp : server: no visible global function definition for
‘renderUI’
dnmetaApp : server: no visible global function definition for
‘selectInput’
dnmetaApp : server: no visible global function definition for
‘renderDataTable’
dnmetaApp: no visible global function definition for ‘runApp’
Undefined global functions or variables:
checkboxGroupInput dataTableOutput fluidPage helpText mainPanel
radioButtons renderDataTable renderUI runApp selectInput
sidebarLayout sidebarPanel uiOutput
* checking Rd files ... OK
* checking Rd metadata ... OK
* checking Rd cross-references ... OK
* checking for missing documentation entries ... OK
* checking for code/documentation mismatches ... OK
* checking Rd \usage sections ... OK
* checking Rd contents ... OK
* checking for unstated dependencies in examples ... OK
* checking contents of ‘data’ directory ... OK
* checking data for non-ASCII characters ... NOTE
Note: found 14 marked UTF-8 strings
* checking data for ASCII and uncompressed saves ... OK
* checking files in ‘vignettes’ ... OK
* checking examples ... OK
Examples with CPU or elapsed time > 5s
user system elapsed
txmodels 16.278 0.761 20.51
* checking for unstated dependencies in vignettes ... OK
* checking package vignettes in ‘inst/doc’ ... OK
* checking running R code from vignettes ... SKIPPED
* checking re-building of vignette outputs ... SKIPPED
* checking PDF version of manual ... OK
* DONE
Status: 3 NOTEs
See
‘/home/biocbuild/bbs-3.9-bioc/meat/TxRegInfra.Rcheck/00check.log’
for details.
TxRegInfra.Rcheck/00install.out
############################################################################## ############################################################################## ### ### Running command: ### ### /home/biocbuild/bbs-3.9-bioc/R/bin/R CMD INSTALL TxRegInfra ### ############################################################################## ############################################################################## * installing to library ‘/home/biocbuild/bbs-3.9-bioc/R/library’ * installing *source* package ‘TxRegInfra’ ... ** using staged installation ** R ** data *** moving datasets to lazyload DB ** inst ** byte-compile and prepare package for lazy loading ** help *** installing help indices ** building package indices ** installing vignettes ** testing if installed package can be loaded from temporary location ** testing if installed package can be loaded from final location ** testing if installed package keeps a record of temporary installation path * DONE (TxRegInfra)
TxRegInfra.Rcheck/TxRegInfra-Ex.timings
| name | user | system | elapsed | |
| URL_txregInAWS | 0.001 | 0.000 | 0.000 | |
| basicColData | 0.057 | 0.000 | 0.057 | |
| basicFormatter | 0.017 | 0.000 | 0.018 | |
| dgf_meta | 0.006 | 0.000 | 0.005 | |
| dnmeta | 0.182 | 0.000 | 0.183 | |
| dnmetaApp | 0 | 0 | 0 | |
| getDocumentFields | 0.001 | 0.000 | 0.000 | |
| getFieldNames | 0.054 | 0.004 | 0.341 | |
| grConverter | 0.033 | 0.000 | 0.034 | |
| importBedToMongo | 0.005 | 0.024 | 0.028 | |
| listAllCollections | 0.000 | 0.001 | 0.002 | |
| makeAggregator | 0.003 | 0.026 | 0.027 | |
| makeColData | 0.003 | 0.025 | 0.028 | |
| oldbasicColData | 0.005 | 0.004 | 0.009 | |
| ragged41FP | 0.697 | 0.076 | 0.789 | |
| sbov | 0.003 | 0.021 | 0.025 | |
| txmodels | 16.278 | 0.761 | 20.510 | |
| txregCollections | 0.000 | 0.043 | 0.042 | |
| verifyHasMongoCmd | 0 | 0 | 0 | |
| verifyRunningMongodb | 0 | 0 | 0 | |