| Back to Multiple platform build/check report for BioC 3.9 |
|
This page was generated on 2019-10-16 12:39:43 -0400 (Wed, 16 Oct 2019).
| Package 1655/1741 | Hostname | OS / Arch | INSTALL | BUILD | CHECK | BUILD BIN | ||||||
| TnT 1.6.0 Jialin Ma
| malbec2 | Linux (Ubuntu 18.04.2 LTS) / x86_64 | OK | OK | OK | |||||||
| tokay2 | Windows Server 2012 R2 Standard / x64 | OK | OK | WARNINGS | [ OK ] | |||||||
| celaya2 | OS X 10.11.6 El Capitan / x86_64 | OK | OK | OK | OK |
| Package: TnT |
| Version: 1.6.0 |
| Command: rm -rf TnT.buildbin-libdir && mkdir TnT.buildbin-libdir && C:\Users\biocbuild\bbs-3.9-bioc\R\bin\R.exe CMD INSTALL --merge-multiarch --build --library=TnT.buildbin-libdir TnT_1.6.0.tar.gz |
| StartedAt: 2019-10-16 10:22:24 -0400 (Wed, 16 Oct 2019) |
| EndedAt: 2019-10-16 10:23:23 -0400 (Wed, 16 Oct 2019) |
| EllapsedTime: 58.4 seconds |
| RetCode: 0 |
| Status: OK |
| PackageFile: TnT_1.6.0.zip |
| PackageFileSize: 509.7 KiB |
##############################################################################
##############################################################################
###
### Running command:
###
### rm -rf TnT.buildbin-libdir && mkdir TnT.buildbin-libdir && C:\Users\biocbuild\bbs-3.9-bioc\R\bin\R.exe CMD INSTALL --merge-multiarch --build --library=TnT.buildbin-libdir TnT_1.6.0.tar.gz
###
##############################################################################
##############################################################################
install for i386
* installing *source* package 'TnT' ...
** using staged installation
** R
** inst
** byte-compile and prepare package for lazy loading
** help
*** installing help indices
converting help for package 'TnT'
finding HTML links ... done
TnT-shiny html
composite-track html
knit_print.TnTBoard html
mapcol html
Rd warning: C:/Users/biocbuild/bbs-3.9-bioc/tmpdir/RtmpQPL3iL/R.INSTALL2b948816f24/TnT/man/mapcol.Rd:13: file link 'terrain.colors' in package 'grDevices' does not exist and so has been treated as a topic
range-TnTBoard-method html
Rd warning: C:/Users/biocbuild/bbs-3.9-bioc/tmpdir/RtmpQPL3iL/R.INSTALL2b948816f24/TnT/man/range-TnTBoard-method.Rd:14: file link 'range,GenomicRanges-method' in package 'GenomicRanges' does not exist and so has been treated as a topic
range-TnTTrack html
Rd warning: C:/Users/biocbuild/bbs-3.9-bioc/tmpdir/RtmpQPL3iL/R.INSTALL2b948816f24/TnT/man/range-TnTTrack.Rd:19: file link 'range,GenomicRanges-method' in package 'GenomicRanges' does not exist and so has been treated as a topic
saveTnT html
seqinfo html
strandlabel html
tntboard html
tooltip html
track-constructors html
trackSpec html
trackWidget html
trackdata html
tracklist html
** building package indices
** installing vignettes
** testing if installed package can be loaded from temporary location
** testing if installed package can be loaded from final location
** testing if installed package keeps a record of temporary installation path
install for x64
* installing *source* package 'TnT' ...
** testing if installed package can be loaded
* MD5 sums
packaged installation of 'TnT' as TnT_1.6.0.zip
* DONE (TnT)