| Back to Multiple platform build/check report for BioC 3.9 |
|
This page was generated on 2019-10-16 12:22:36 -0400 (Wed, 16 Oct 2019).
| Package 1628/1741 | Hostname | OS / Arch | INSTALL | BUILD | CHECK | BUILD BIN | ||||||
| TargetSearch 1.40.3 Alvaro Cuadros-Inostroza
| malbec2 | Linux (Ubuntu 18.04.2 LTS) / x86_64 | OK | OK | OK | |||||||
| tokay2 | Windows Server 2012 R2 Standard / x64 | [ OK ] | OK | OK | OK | |||||||
| celaya2 | OS X 10.11.6 El Capitan / x86_64 | OK | OK | OK | OK |
| Package: TargetSearch |
| Version: 1.40.3 |
| Command: C:\cygwin\bin\curl.exe -O https://malbec2.bioconductor.org/BBS/3.9/bioc/src/contrib/TargetSearch_1.40.3.tar.gz && rm -rf TargetSearch.buildbin-libdir && mkdir TargetSearch.buildbin-libdir && C:\Users\biocbuild\bbs-3.9-bioc\R\bin\R.exe CMD INSTALL --merge-multiarch --build --library=TargetSearch.buildbin-libdir TargetSearch_1.40.3.tar.gz && C:\Users\biocbuild\bbs-3.9-bioc\R\bin\R.exe CMD INSTALL TargetSearch_1.40.3.zip && rm TargetSearch_1.40.3.tar.gz TargetSearch_1.40.3.zip |
| StartedAt: 2019-10-15 18:43:44 -0400 (Tue, 15 Oct 2019) |
| EndedAt: 2019-10-15 18:45:00 -0400 (Tue, 15 Oct 2019) |
| EllapsedTime: 76.0 seconds |
| RetCode: 0 |
| Status: OK |
##############################################################################
##############################################################################
###
### Running command:
###
### C:\cygwin\bin\curl.exe -O https://malbec2.bioconductor.org/BBS/3.9/bioc/src/contrib/TargetSearch_1.40.3.tar.gz && rm -rf TargetSearch.buildbin-libdir && mkdir TargetSearch.buildbin-libdir && C:\Users\biocbuild\bbs-3.9-bioc\R\bin\R.exe CMD INSTALL --merge-multiarch --build --library=TargetSearch.buildbin-libdir TargetSearch_1.40.3.tar.gz && C:\Users\biocbuild\bbs-3.9-bioc\R\bin\R.exe CMD INSTALL TargetSearch_1.40.3.zip && rm TargetSearch_1.40.3.tar.gz TargetSearch_1.40.3.zip
###
##############################################################################
##############################################################################
% Total % Received % Xferd Average Speed Time Time Time Current
Dload Upload Total Spent Left Speed
0 0 0 0 0 0 0 0 --:--:-- --:--:-- --:--:-- 0
100 189k 100 189k 0 0 2172k 0 --:--:-- --:--:-- --:--:-- 2370k
install for i386
* installing *source* package 'TargetSearch' ...
** using staged installation
** libs
C:/Rtools/mingw_32/bin/gcc -I"C:/Users/BIOCBU~1/BBS-3~1.9-B/R/include" -DNDEBUG -I"C:/extsoft/include" -O3 -Wall -std=gnu99 -mtune=generic -c Rinit.c -o Rinit.o
C:/Rtools/mingw_32/bin/gcc -I"C:/Users/BIOCBU~1/BBS-3~1.9-B/R/include" -DNDEBUG -I"C:/extsoft/include" -O3 -Wall -std=gnu99 -mtune=generic -c detection.c -o detection.o
C:/Rtools/mingw_32/bin/gcc -I"C:/Users/BIOCBU~1/BBS-3~1.9-B/R/include" -DNDEBUG -I"C:/extsoft/include" -O3 -Wall -std=gnu99 -mtune=generic -c file.c -o file.o
C:/Rtools/mingw_32/bin/gcc -I"C:/Users/BIOCBU~1/BBS-3~1.9-B/R/include" -DNDEBUG -I"C:/extsoft/include" -O3 -Wall -std=gnu99 -mtune=generic -c find_peaks.c -o find_peaks.o
C:/Rtools/mingw_32/bin/gcc -I"C:/Users/BIOCBU~1/BBS-3~1.9-B/R/include" -DNDEBUG -I"C:/extsoft/include" -O3 -Wall -std=gnu99 -mtune=generic -c getLine.c -o getLine.o
C:/Rtools/mingw_32/bin/gcc -I"C:/Users/BIOCBU~1/BBS-3~1.9-B/R/include" -DNDEBUG -I"C:/extsoft/include" -O3 -Wall -std=gnu99 -mtune=generic -c hpf.c -o hpf.o
C:/Rtools/mingw_32/bin/gcc -I"C:/Users/BIOCBU~1/BBS-3~1.9-B/R/include" -DNDEBUG -I"C:/extsoft/include" -O3 -Wall -std=gnu99 -mtune=generic -c matrix.c -o matrix.o
C:/Rtools/mingw_32/bin/gcc -I"C:/Users/BIOCBU~1/BBS-3~1.9-B/R/include" -DNDEBUG -I"C:/extsoft/include" -O3 -Wall -std=gnu99 -mtune=generic -c ncdf.c -o ncdf.o
C:/Rtools/mingw_32/bin/gcc -I"C:/Users/BIOCBU~1/BBS-3~1.9-B/R/include" -DNDEBUG -I"C:/extsoft/include" -O3 -Wall -std=gnu99 -mtune=generic -c peak.c -o peak.o
C:/Rtools/mingw_32/bin/gcc -I"C:/Users/BIOCBU~1/BBS-3~1.9-B/R/include" -DNDEBUG -I"C:/extsoft/include" -O3 -Wall -std=gnu99 -mtune=generic -c utils.c -o utils.o
C:/Rtools/mingw_32/bin/gcc -shared -s -static-libgcc -o TargetSearch.dll tmp.def Rinit.o detection.o file.o find_peaks.o getLine.o hpf.o matrix.o ncdf.o peak.o utils.o -LC:/extsoft/lib/i386 -LC:/extsoft/lib -LC:/Users/BIOCBU~1/BBS-3~1.9-B/R/bin/i386 -lR
installing to C:/Users/biocbuild/bbs-3.9-bioc/meat/TargetSearch.buildbin-libdir/00LOCK-TargetSearch/00new/TargetSearch/libs/i386
** R
** data
** inst
** byte-compile and prepare package for lazy loading
** help
*** installing help indices
converting help for package 'TargetSearch'
finding HTML links ... done
FAMEoutliers html
FindAllPeaks html
FindPeaks html
ImportFameSettings html
ImportLibrary html
ImportSamples html
NetCDFPeakFinding html
Profile html
ProfileCleanUp html
RIcorrect html
TSExample html
TargetSearch-defunct html
TargetSearch-deprecated html
TargetSearch-package html
TargetSearchGUI html
Write.Results html
baseline html
checkRimLim html
file html
fixRI html
medianRILib html
peakCDFextraction html
peakFind html
plotFAME html
plotPeak html
plotPeakRI html
plotPeakSimple html
plotRIdev html
plotSpectra html
quantMatrix html
ri2rt html
riMatrix html
rt2ri html
sampleRI html
tsLib-class html
tsMSdata-class html
tsProfile-class html
tsRim-class html
tsSample-class html
writeLibText html
writeMSP html
** building package indices
** installing vignettes
'RICorrection.Rnw'
'TargetSearch.Rnw'
** testing if installed package can be loaded from temporary location
** testing if installed package can be loaded from final location
** testing if installed package keeps a record of temporary installation path
install for x64
* installing *source* package 'TargetSearch' ...
** libs
C:/Rtools/mingw_64/bin/gcc -I"C:/Users/BIOCBU~1/BBS-3~1.9-B/R/include" -DNDEBUG -I"C:/extsoft/include" -O2 -Wall -std=gnu99 -mtune=generic -c Rinit.c -o Rinit.o
C:/Rtools/mingw_64/bin/gcc -I"C:/Users/BIOCBU~1/BBS-3~1.9-B/R/include" -DNDEBUG -I"C:/extsoft/include" -O2 -Wall -std=gnu99 -mtune=generic -c detection.c -o detection.o
C:/Rtools/mingw_64/bin/gcc -I"C:/Users/BIOCBU~1/BBS-3~1.9-B/R/include" -DNDEBUG -I"C:/extsoft/include" -O2 -Wall -std=gnu99 -mtune=generic -c file.c -o file.o
C:/Rtools/mingw_64/bin/gcc -I"C:/Users/BIOCBU~1/BBS-3~1.9-B/R/include" -DNDEBUG -I"C:/extsoft/include" -O2 -Wall -std=gnu99 -mtune=generic -c find_peaks.c -o find_peaks.o
C:/Rtools/mingw_64/bin/gcc -I"C:/Users/BIOCBU~1/BBS-3~1.9-B/R/include" -DNDEBUG -I"C:/extsoft/include" -O2 -Wall -std=gnu99 -mtune=generic -c getLine.c -o getLine.o
C:/Rtools/mingw_64/bin/gcc -I"C:/Users/BIOCBU~1/BBS-3~1.9-B/R/include" -DNDEBUG -I"C:/extsoft/include" -O2 -Wall -std=gnu99 -mtune=generic -c hpf.c -o hpf.o
C:/Rtools/mingw_64/bin/gcc -I"C:/Users/BIOCBU~1/BBS-3~1.9-B/R/include" -DNDEBUG -I"C:/extsoft/include" -O2 -Wall -std=gnu99 -mtune=generic -c matrix.c -o matrix.o
C:/Rtools/mingw_64/bin/gcc -I"C:/Users/BIOCBU~1/BBS-3~1.9-B/R/include" -DNDEBUG -I"C:/extsoft/include" -O2 -Wall -std=gnu99 -mtune=generic -c ncdf.c -o ncdf.o
C:/Rtools/mingw_64/bin/gcc -I"C:/Users/BIOCBU~1/BBS-3~1.9-B/R/include" -DNDEBUG -I"C:/extsoft/include" -O2 -Wall -std=gnu99 -mtune=generic -c peak.c -o peak.o
C:/Rtools/mingw_64/bin/gcc -I"C:/Users/BIOCBU~1/BBS-3~1.9-B/R/include" -DNDEBUG -I"C:/extsoft/include" -O2 -Wall -std=gnu99 -mtune=generic -c utils.c -o utils.o
C:/Rtools/mingw_64/bin/gcc -shared -s -static-libgcc -o TargetSearch.dll tmp.def Rinit.o detection.o file.o find_peaks.o getLine.o hpf.o matrix.o ncdf.o peak.o utils.o -LC:/extsoft/lib/x64 -LC:/extsoft/lib -LC:/Users/BIOCBU~1/BBS-3~1.9-B/R/bin/x64 -lR
installing to C:/Users/biocbuild/bbs-3.9-bioc/meat/TargetSearch.buildbin-libdir/TargetSearch/libs/x64
** testing if installed package can be loaded
* MD5 sums
packaged installation of 'TargetSearch' as TargetSearch_1.40.3.zip
* DONE (TargetSearch)
* installing to library 'C:/Users/biocbuild/bbs-3.9-bioc/R/library'
package 'TargetSearch' successfully unpacked and MD5 sums checked