| Back to Multiple platform build/check report for BioC 3.9 |
|
This page was generated on 2019-10-16 13:05:04 -0400 (Wed, 16 Oct 2019).
| Package 1662/1741 | Hostname | OS / Arch | INSTALL | BUILD | CHECK | BUILD BIN | ||||||
| TPP2D 1.0.0 Nils Kurzawa
| malbec2 | Linux (Ubuntu 18.04.2 LTS) / x86_64 | OK | OK | OK | |||||||
| tokay2 | Windows Server 2012 R2 Standard / x64 | OK | OK | OK | OK | |||||||
| celaya2 | OS X 10.11.6 El Capitan / x86_64 | OK | OK | [ OK ] | OK |
| Package: TPP2D |
| Version: 1.0.0 |
| Command: /Library/Frameworks/R.framework/Versions/Current/Resources/bin/R CMD check --install=check:TPP2D.install-out.txt --library=/Library/Frameworks/R.framework/Versions/Current/Resources/library --no-vignettes --timings TPP2D_1.0.0.tar.gz |
| StartedAt: 2019-10-16 07:27:48 -0400 (Wed, 16 Oct 2019) |
| EndedAt: 2019-10-16 07:29:46 -0400 (Wed, 16 Oct 2019) |
| EllapsedTime: 118.5 seconds |
| RetCode: 0 |
| Status: OK |
| CheckDir: TPP2D.Rcheck |
| Warnings: 0 |
##############################################################################
##############################################################################
###
### Running command:
###
### /Library/Frameworks/R.framework/Versions/Current/Resources/bin/R CMD check --install=check:TPP2D.install-out.txt --library=/Library/Frameworks/R.framework/Versions/Current/Resources/library --no-vignettes --timings TPP2D_1.0.0.tar.gz
###
##############################################################################
##############################################################################
* using log directory ‘/Users/biocbuild/bbs-3.9-bioc/meat/TPP2D.Rcheck’
* using R version 3.6.1 (2019-07-05)
* using platform: x86_64-apple-darwin15.6.0 (64-bit)
* using session charset: UTF-8
* using option ‘--no-vignettes’
* checking for file ‘TPP2D/DESCRIPTION’ ... OK
* this is package ‘TPP2D’ version ‘1.0.0’
* package encoding: UTF-8
* checking package namespace information ... OK
* checking package dependencies ... OK
* checking if this is a source package ... OK
* checking if there is a namespace ... OK
* checking for hidden files and directories ... OK
* checking for portable file names ... OK
* checking for sufficient/correct file permissions ... OK
* checking whether package ‘TPP2D’ can be installed ... OK
* checking installed package size ... OK
* checking package directory ... OK
* checking ‘build’ directory ... OK
* checking DESCRIPTION meta-information ... OK
* checking top-level files ... OK
* checking for left-over files ... OK
* checking index information ... OK
* checking package subdirectories ... OK
* checking R files for non-ASCII characters ... OK
* checking R files for syntax errors ... OK
* checking whether the package can be loaded ... OK
* checking whether the package can be loaded with stated dependencies ... OK
* checking whether the package can be unloaded cleanly ... OK
* checking whether the namespace can be loaded with stated dependencies ... OK
* checking whether the namespace can be unloaded cleanly ... OK
* checking dependencies in R code ... OK
* checking S3 generic/method consistency ... OK
* checking replacement functions ... OK
* checking foreign function calls ... OK
* checking R code for possible problems ... OK
* checking Rd files ... OK
* checking Rd metadata ... OK
* checking Rd cross-references ... OK
* checking for missing documentation entries ... OK
* checking for code/documentation mismatches ... OK
* checking Rd \usage sections ... OK
* checking Rd contents ... OK
* checking for unstated dependencies in examples ... OK
* checking contents of ‘data’ directory ... OK
* checking data for non-ASCII characters ... OK
* checking data for ASCII and uncompressed saves ... OK
* checking files in ‘vignettes’ ... OK
* checking examples ... OK
Examples with CPU or elapsed time > 5s
user system elapsed
fitAndEvalDataset 9.083 0.260 9.344
computeFstat 6.704 0.228 6.932
competeModels 4.985 0.165 5.150
computeFdr 1.855 0.050 6.465
findHits 1.128 0.045 9.145
* checking for unstated dependencies in ‘tests’ ... OK
* checking tests ...
Running ‘testthat.R’
OK
* checking for unstated dependencies in vignettes ... OK
* checking package vignettes in ‘inst/doc’ ... OK
* checking running R code from vignettes ... SKIPPED
* checking re-building of vignette outputs ... SKIPPED
* checking PDF version of manual ... OK
* DONE
Status: OK
TPP2D.Rcheck/00install.out
############################################################################## ############################################################################## ### ### Running command: ### ### /Library/Frameworks/R.framework/Versions/Current/Resources/bin/R CMD INSTALL TPP2D ### ############################################################################## ############################################################################## * installing to library ‘/Library/Frameworks/R.framework/Versions/3.6/Resources/library’ * installing *source* package ‘TPP2D’ ... ** using staged installation ** R ** data ** inst ** byte-compile and prepare package for lazy loading ** help *** installing help indices ** building package indices ** installing vignettes ** testing if installed package can be loaded from temporary location ** testing if installed package can be loaded from final location ** testing if installed package keeps a record of temporary installation path * DONE (TPP2D)
TPP2D.Rcheck/tests/testthat.Rout
R version 3.6.1 (2019-07-05) -- "Action of the Toes"
Copyright (C) 2019 The R Foundation for Statistical Computing
Platform: x86_64-apple-darwin15.6.0 (64-bit)
R is free software and comes with ABSOLUTELY NO WARRANTY.
You are welcome to redistribute it under certain conditions.
Type 'license()' or 'licence()' for distribution details.
R is a collaborative project with many contributors.
Type 'contributors()' for more information and
'citation()' on how to cite R or R packages in publications.
Type 'demo()' for some demos, 'help()' for on-line help, or
'help.start()' for an HTML browser interface to help.
Type 'q()' to quit R.
> Sys.setenv("R_TESTS" = "")
> library(testthat)
> library(TPP2D)
Loading required package: dplyr
Attaching package: 'dplyr'
The following object is masked from 'package:testthat':
matches
The following objects are masked from 'package:stats':
filter, lag
The following objects are masked from 'package:base':
intersect, setdiff, setequal, union
>
> test_check("TPP2D")
══ testthat results ═══════════════════════════════════════════════════════════
[ OK: 11 | SKIPPED: 0 | WARNINGS: 0 | FAILED: 0 ]
>
> proc.time()
user system elapsed
4.525 0.408 7.457
TPP2D.Rcheck/TPP2D-Ex.timings
| name | user | system | elapsed | |
| TPP_importCheckConfigTable | 0.024 | 0.005 | 0.028 | |
| annotateDataList | 0.587 | 0.020 | 0.616 | |
| bootstrapNull | 0.088 | 0.013 | 4.058 | |
| competeModels | 4.985 | 0.165 | 5.150 | |
| computeFdr | 1.855 | 0.050 | 6.465 | |
| computeFstat | 6.704 | 0.228 | 6.932 | |
| configWide2Long | 0.005 | 0.002 | 0.007 | |
| config_tab | 0.001 | 0.001 | 0.003 | |
| filterOutContaminants | 0.040 | 0.001 | 0.041 | |
| findHits | 1.128 | 0.045 | 9.145 | |
| fitAndEvalDataset | 9.083 | 0.260 | 9.344 | |
| fitH0Model | 0.122 | 0.007 | 0.128 | |
| fitH1Model | 1.650 | 0.027 | 1.677 | |
| gg_qq | 0.064 | 0.006 | 0.070 | |
| import2dDataset | 0.530 | 0.009 | 0.539 | |
| import2dMain | 0.161 | 0.005 | 0.166 | |
| plot2dTppFit | 0.533 | 0.012 | 0.544 | |
| plot2dTppProfile | 0.626 | 0.028 | 0.654 | |
| plot2dTppRelProfile | 0.476 | 0.004 | 0.480 | |
| raw_dat_list | 0.002 | 0.002 | 0.003 | |
| recomputeSignalFromRatios | 0.048 | 0.002 | 0.050 | |
| renameColumns | 0.517 | 0.006 | 0.522 | |
| simulated_cell_extract_df | 0.003 | 0.002 | 0.004 | |