| Back to Multiple platform build/check report for BioC 3.9 |
|
This page was generated on 2019-10-16 12:11:59 -0400 (Wed, 16 Oct 2019).
| Package 1639/1741 | Hostname | OS / Arch | INSTALL | BUILD | CHECK | BUILD BIN | ||||||
| TFARM 1.6.0 Liuba Nausicaa Martino
| malbec2 | Linux (Ubuntu 18.04.2 LTS) / x86_64 | OK | OK | [ OK ] | |||||||
| tokay2 | Windows Server 2012 R2 Standard / x64 | OK | OK | OK | OK | |||||||
| celaya2 | OS X 10.11.6 El Capitan / x86_64 | OK | OK | OK | OK |
| Package: TFARM |
| Version: 1.6.0 |
| Command: /home/biocbuild/bbs-3.9-bioc/R/bin/R CMD check --install=check:TFARM.install-out.txt --library=/home/biocbuild/bbs-3.9-bioc/R/library --no-vignettes --timings TFARM_1.6.0.tar.gz |
| StartedAt: 2019-10-16 05:24:27 -0400 (Wed, 16 Oct 2019) |
| EndedAt: 2019-10-16 05:26:25 -0400 (Wed, 16 Oct 2019) |
| EllapsedTime: 117.3 seconds |
| RetCode: 0 |
| Status: OK |
| CheckDir: TFARM.Rcheck |
| Warnings: 0 |
##############################################################################
##############################################################################
###
### Running command:
###
### /home/biocbuild/bbs-3.9-bioc/R/bin/R CMD check --install=check:TFARM.install-out.txt --library=/home/biocbuild/bbs-3.9-bioc/R/library --no-vignettes --timings TFARM_1.6.0.tar.gz
###
##############################################################################
##############################################################################
* using log directory ‘/home/biocbuild/bbs-3.9-bioc/meat/TFARM.Rcheck’
* using R version 3.6.1 (2019-07-05)
* using platform: x86_64-pc-linux-gnu (64-bit)
* using session charset: UTF-8
* using option ‘--no-vignettes’
* checking for file ‘TFARM/DESCRIPTION’ ... OK
* checking extension type ... Package
* this is package ‘TFARM’ version ‘1.6.0’
* checking package namespace information ... OK
* checking package dependencies ... OK
* checking if this is a source package ... OK
* checking if there is a namespace ... OK
* checking for hidden files and directories ... OK
* checking for portable file names ... OK
* checking for sufficient/correct file permissions ... OK
* checking whether package ‘TFARM’ can be installed ... OK
* checking installed package size ... OK
* checking package directory ... OK
* checking ‘build’ directory ... OK
* checking DESCRIPTION meta-information ... OK
* checking top-level files ... OK
* checking for left-over files ... OK
* checking index information ... OK
* checking package subdirectories ... OK
* checking R files for non-ASCII characters ... OK
* checking R files for syntax errors ... OK
* checking whether the package can be loaded ... OK
* checking whether the package can be loaded with stated dependencies ... OK
* checking whether the package can be unloaded cleanly ... OK
* checking whether the namespace can be loaded with stated dependencies ... OK
* checking whether the namespace can be unloaded cleanly ... OK
* checking dependencies in R code ... OK
* checking S3 generic/method consistency ... OK
* checking replacement functions ... OK
* checking foreign function calls ... OK
* checking R code for possible problems ... OK
* checking Rd files ... OK
* checking Rd metadata ... OK
* checking Rd cross-references ... OK
* checking for missing documentation entries ... OK
* checking for code/documentation mismatches ... OK
* checking Rd \usage sections ... OK
* checking Rd contents ... OK
* checking for unstated dependencies in examples ... OK
* checking contents of ‘data’ directory ... OK
* checking data for non-ASCII characters ... OK
* checking data for ASCII and uncompressed saves ... OK
* checking files in ‘vignettes’ ... OK
* checking examples ... OK
Examples with CPU or elapsed time > 5s
user system elapsed
rulesTF0 6.133 0.028 6.161
* checking for unstated dependencies in vignettes ... OK
* checking package vignettes in ‘inst/doc’ ... OK
* checking running R code from vignettes ... SKIPPED
* checking re-building of vignette outputs ... SKIPPED
* checking PDF version of manual ... OK
* DONE
Status: OK
TFARM.Rcheck/00install.out
############################################################################## ############################################################################## ### ### Running command: ### ### /home/biocbuild/bbs-3.9-bioc/R/bin/R CMD INSTALL TFARM ### ############################################################################## ############################################################################## * installing to library ‘/home/biocbuild/bbs-3.9-bioc/R/library’ * installing *source* package ‘TFARM’ ... ** using staged installation ** R ** data *** moving datasets to lazyload DB ** byte-compile and prepare package for lazy loading ** help *** installing help indices ** building package indices ** installing vignettes ** testing if installed package can be loaded from temporary location ** testing if installed package can be loaded from final location ** testing if installed package keeps a record of temporary installation path * DONE (TFARM)
TFARM.Rcheck/TFARM-Ex.timings
| name | user | system | elapsed | |
| DELTA | 0.010 | 0.000 | 0.011 | |
| IComp | 0.044 | 0.000 | 0.043 | |
| IMP | 0.000 | 0.001 | 0.001 | |
| IMP_Z | 0.000 | 0.001 | 0.002 | |
| IPCA | 0.018 | 0.000 | 0.018 | |
| I_c_2 | 0.001 | 0.000 | 0.002 | |
| MCF7_chr1 | 0.077 | 0.000 | 0.076 | |
| TF_Imp | 0.002 | 0.000 | 0.003 | |
| distribViz | 0.021 | 0.000 | 0.020 | |
| heatI | 0.046 | 0.004 | 0.051 | |
| imp_FOSL2 | 0.001 | 0.000 | 0.002 | |
| items | 0 | 0 | 0 | |
| itemset | 0.001 | 0.000 | 0.001 | |
| p_TFs | 0.002 | 0.000 | 0.002 | |
| presAbs | 0.124 | 0.004 | 0.129 | |
| r_FOSL2 | 0.001 | 0.000 | 0.001 | |
| r_TEAD4 | 0.003 | 0.000 | 0.003 | |
| r_noFOSL2 | 0.001 | 0.000 | 0.001 | |
| rulesGen | 0.690 | 0.004 | 0.693 | |
| rulesTF | 0.182 | 0.000 | 0.182 | |
| rulesTF0 | 6.133 | 0.028 | 6.161 | |