| Back to Multiple platform build/check report for BioC 3.9 |
|
This page was generated on 2019-10-16 12:35:19 -0400 (Wed, 16 Oct 2019).
| Package 1566/1741 | Hostname | OS / Arch | INSTALL | BUILD | CHECK | BUILD BIN | ||||||
| SpidermiR 1.14.0 Claudia Cava
| malbec2 | Linux (Ubuntu 18.04.2 LTS) / x86_64 | OK | OK | WARNINGS | |||||||
| tokay2 | Windows Server 2012 R2 Standard / x64 | [ OK ] | OK | WARNINGS | OK | |||||||
| celaya2 | OS X 10.11.6 El Capitan / x86_64 | OK | OK | WARNINGS | OK |
| Package: SpidermiR |
| Version: 1.14.0 |
| Command: C:\cygwin\bin\curl.exe -O https://malbec2.bioconductor.org/BBS/3.9/bioc/src/contrib/SpidermiR_1.14.0.tar.gz && rm -rf SpidermiR.buildbin-libdir && mkdir SpidermiR.buildbin-libdir && C:\Users\biocbuild\bbs-3.9-bioc\R\bin\R.exe CMD INSTALL --merge-multiarch --build --library=SpidermiR.buildbin-libdir SpidermiR_1.14.0.tar.gz && C:\Users\biocbuild\bbs-3.9-bioc\R\bin\R.exe CMD INSTALL SpidermiR_1.14.0.zip && rm SpidermiR_1.14.0.tar.gz SpidermiR_1.14.0.zip |
| StartedAt: 2019-10-15 20:29:17 -0400 (Tue, 15 Oct 2019) |
| EndedAt: 2019-10-15 20:30:12 -0400 (Tue, 15 Oct 2019) |
| EllapsedTime: 54.9 seconds |
| RetCode: 0 |
| Status: OK |
##############################################################################
##############################################################################
###
### Running command:
###
### C:\cygwin\bin\curl.exe -O https://malbec2.bioconductor.org/BBS/3.9/bioc/src/contrib/SpidermiR_1.14.0.tar.gz && rm -rf SpidermiR.buildbin-libdir && mkdir SpidermiR.buildbin-libdir && C:\Users\biocbuild\bbs-3.9-bioc\R\bin\R.exe CMD INSTALL --merge-multiarch --build --library=SpidermiR.buildbin-libdir SpidermiR_1.14.0.tar.gz && C:\Users\biocbuild\bbs-3.9-bioc\R\bin\R.exe CMD INSTALL SpidermiR_1.14.0.zip && rm SpidermiR_1.14.0.tar.gz SpidermiR_1.14.0.zip
###
##############################################################################
##############################################################################
% Total % Received % Xferd Average Speed Time Time Time Current
Dload Upload Total Spent Left Speed
0 0 0 0 0 0 0 0 --:--:-- --:--:-- --:--:-- 0
100 21906 100 21906 0 0 408k 0 --:--:-- --:--:-- --:--:-- 475k
install for i386
* installing *source* package 'SpidermiR' ...
** using staged installation
** R
** inst
** byte-compile and prepare package for lazy loading
Note: possible error in 'simpleNetwork(NetworkData, ': unused argument (textColour = "black")
** help
*** installing help indices
converting help for package 'SpidermiR'
finding HTML links ... done
SpidermiR html
SpidermiRanalyze_Community_detection html
SpidermiRanalyze_Community_detection_bi
html
SpidermiRanalyze_Community_detection_net
html
SpidermiRanalyze_degree_centrality html
SpidermiRanalyze_direct_net html
SpidermiRanalyze_direct_subnetwork html
SpidermiRanalyze_mirnanet_pharm html
SpidermiRanalyze_subnetwork_neigh html
SpidermiRdownload_miRNAextra_cir html
SpidermiRdownload_miRNAprediction html
SpidermiRdownload_miRNAvalidate html
SpidermiRdownload_net html
SpidermiRdownload_pharmacomir html
SpidermiRprepare_NET html
SpidermiRquery_disease html
SpidermiRquery_networks_type html
SpidermiRquery_spec_networks html
SpidermiRquery_species html
SpidermiRvisualize_3Dbarplot html
SpidermiRvisualize_BI html
SpidermiRvisualize_adj_matrix html
SpidermiRvisualize_degree_dist html
SpidermiRvisualize_direction html
SpidermiRvisualize_mirnanet html
SpidermiRvisualize_plot_target html
** building package indices
** installing vignettes
** testing if installed package can be loaded from temporary location
** testing if installed package can be loaded from final location
** testing if installed package keeps a record of temporary installation path
install for x64
* installing *source* package 'SpidermiR' ...
** testing if installed package can be loaded
* MD5 sums
packaged installation of 'SpidermiR' as SpidermiR_1.14.0.zip
* DONE (SpidermiR)
* installing to library 'C:/Users/biocbuild/bbs-3.9-bioc/R/library'
package 'SpidermiR' successfully unpacked and MD5 sums checked