| Back to Multiple platform build/check report for BioC 3.9 |
|
This page was generated on 2019-10-16 12:38:53 -0400 (Wed, 16 Oct 2019).
| Package 1531/1741 | Hostname | OS / Arch | INSTALL | BUILD | CHECK | BUILD BIN | ||||||
| SingleCellExperiment 1.6.0 Davide Risso
| malbec2 | Linux (Ubuntu 18.04.2 LTS) / x86_64 | OK | OK | OK | |||||||
| tokay2 | Windows Server 2012 R2 Standard / x64 | OK | OK | WARNINGS | [ OK ] | |||||||
| celaya2 | OS X 10.11.6 El Capitan / x86_64 | OK | OK | OK | OK |
| Package: SingleCellExperiment |
| Version: 1.6.0 |
| Command: rm -rf SingleCellExperiment.buildbin-libdir && mkdir SingleCellExperiment.buildbin-libdir && C:\Users\biocbuild\bbs-3.9-bioc\R\bin\R.exe CMD INSTALL --merge-multiarch --build --library=SingleCellExperiment.buildbin-libdir SingleCellExperiment_1.6.0.tar.gz |
| StartedAt: 2019-10-16 10:14:22 -0400 (Wed, 16 Oct 2019) |
| EndedAt: 2019-10-16 10:15:09 -0400 (Wed, 16 Oct 2019) |
| EllapsedTime: 47.8 seconds |
| RetCode: 0 |
| Status: OK |
| PackageFile: SingleCellExperiment_1.6.0.zip |
| PackageFileSize: 1.467 MiB |
##############################################################################
##############################################################################
###
### Running command:
###
### rm -rf SingleCellExperiment.buildbin-libdir && mkdir SingleCellExperiment.buildbin-libdir && C:\Users\biocbuild\bbs-3.9-bioc\R\bin\R.exe CMD INSTALL --merge-multiarch --build --library=SingleCellExperiment.buildbin-libdir SingleCellExperiment_1.6.0.tar.gz
###
##############################################################################
##############################################################################
install for i386
* installing *source* package 'SingleCellExperiment' ...
** using staged installation
** R
** inst
** byte-compile and prepare package for lazy loading
** help
*** installing help indices
converting help for package 'SingleCellExperiment'
finding HTML links ... done
LEM-combine html
LEM-getset html
LEM-misc html
LEM-subset html
LinearEmbeddingMatrix html
SCE-assays html
Rd warning: C:/Users/biocbuild/bbs-3.9-bioc/tmpdir/RtmpygP8gw/R.INSTALL2fb07f42d53/SingleCellExperiment/man/SCE-assays.Rd:59: file link 'assays' in package 'SummarizedExperiment' does not exist and so has been treated as a topic
SCE-colData html
finding level-2 HTML links ... done
SCE-combine html
SCE-internal html
SCE-isSpike html
SCE-misc html
SCE-reducedDims html
SCE-sizeFactors html
SCE-subset html
SingleCellExperiment html
** building package indices
** installing vignettes
** testing if installed package can be loaded from temporary location
** testing if installed package can be loaded from final location
** testing if installed package keeps a record of temporary installation path
install for x64
* installing *source* package 'SingleCellExperiment' ...
** testing if installed package can be loaded
* MD5 sums
packaged installation of 'SingleCellExperiment' as SingleCellExperiment_1.6.0.zip
* DONE (SingleCellExperiment)