| Back to Multiple platform build/check report for BioC 3.9 |
|
This page was generated on 2019-10-16 12:28:12 -0400 (Wed, 16 Oct 2019).
| Package 1515/1741 | Hostname | OS / Arch | INSTALL | BUILD | CHECK | BUILD BIN | ||||||
| SigFuge 1.22.0 Patrick Kimes
| malbec2 | Linux (Ubuntu 18.04.2 LTS) / x86_64 | OK | OK | OK | |||||||
| tokay2 | Windows Server 2012 R2 Standard / x64 | OK | OK | OK | [ OK ] | |||||||
| celaya2 | OS X 10.11.6 El Capitan / x86_64 | OK | OK | OK | OK |
| Package: SigFuge |
| Version: 1.22.0 |
| Command: rm -rf SigFuge.buildbin-libdir && mkdir SigFuge.buildbin-libdir && C:\Users\biocbuild\bbs-3.9-bioc\R\bin\R.exe CMD INSTALL --merge-multiarch --build --library=SigFuge.buildbin-libdir SigFuge_1.22.0.tar.gz |
| StartedAt: 2019-10-16 10:13:18 -0400 (Wed, 16 Oct 2019) |
| EndedAt: 2019-10-16 10:13:39 -0400 (Wed, 16 Oct 2019) |
| EllapsedTime: 20.1 seconds |
| RetCode: 0 |
| Status: OK |
| PackageFile: SigFuge_1.22.0.zip |
| PackageFileSize: 1.499 MiB |
##############################################################################
##############################################################################
###
### Running command:
###
### rm -rf SigFuge.buildbin-libdir && mkdir SigFuge.buildbin-libdir && C:\Users\biocbuild\bbs-3.9-bioc\R\bin\R.exe CMD INSTALL --merge-multiarch --build --library=SigFuge.buildbin-libdir SigFuge_1.22.0.tar.gz
###
##############################################################################
##############################################################################
install for i386
* installing *source* package 'SigFuge' ...
** using staged installation
** R
** data
** inst
** byte-compile and prepare package for lazy loading
** help
*** installing help indices
converting help for package 'SigFuge'
finding HTML links ... done
SFfigure html
SFlabels html
SFnormalize html
SFpval html
finding level-2 HTML links ... done
SigFuge-package html
geneAnnot html
geneDepth html
** building package indices
** installing vignettes
** testing if installed package can be loaded from temporary location
** testing if installed package can be loaded from final location
** testing if installed package keeps a record of temporary installation path
install for x64
* installing *source* package 'SigFuge' ...
** testing if installed package can be loaded
* MD5 sums
packaged installation of 'SigFuge' as SigFuge_1.22.0.zip
* DONE (SigFuge)