| Back to Multiple platform build/check report for BioC 3.9 |
|
This page was generated on 2019-10-16 12:38:10 -0400 (Wed, 16 Oct 2019).
| Package 1602/1741 | Hostname | OS / Arch | INSTALL | BUILD | CHECK | BUILD BIN | ||||||
| STROMA4 1.8.0 Sadiq Saleh
| malbec2 | Linux (Ubuntu 18.04.2 LTS) / x86_64 | OK | OK | OK | |||||||
| tokay2 | Windows Server 2012 R2 Standard / x64 | OK | OK | OK | [ OK ] | |||||||
| celaya2 | OS X 10.11.6 El Capitan / x86_64 | OK | OK | OK | OK |
| Package: STROMA4 |
| Version: 1.8.0 |
| Command: rm -rf STROMA4.buildbin-libdir && mkdir STROMA4.buildbin-libdir && C:\Users\biocbuild\bbs-3.9-bioc\R\bin\R.exe CMD INSTALL --merge-multiarch --build --library=STROMA4.buildbin-libdir STROMA4_1.8.0.tar.gz |
| StartedAt: 2019-10-16 10:18:50 -0400 (Wed, 16 Oct 2019) |
| EndedAt: 2019-10-16 10:19:44 -0400 (Wed, 16 Oct 2019) |
| EllapsedTime: 53.2 seconds |
| RetCode: 0 |
| Status: OK |
| PackageFile: STROMA4_1.8.0.zip |
| PackageFileSize: 205.5 KiB |
##############################################################################
##############################################################################
###
### Running command:
###
### rm -rf STROMA4.buildbin-libdir && mkdir STROMA4.buildbin-libdir && C:\Users\biocbuild\bbs-3.9-bioc\R\bin\R.exe CMD INSTALL --merge-multiarch --build --library=STROMA4.buildbin-libdir STROMA4_1.8.0.tar.gz
###
##############################################################################
##############################################################################
install for i386
* installing *source* package 'STROMA4' ...
** using staged installation
** R
** data
*** moving datasets to lazyload DB
** inst
** byte-compile and prepare package for lazy loading
** help
*** installing help indices
converting help for package 'STROMA4'
finding HTML links ... done
B.stroma.property html
BL1.property html
BL2.property html
D.stroma.property html
E.stroma.property html
IM.property html
LAR.property html
M.property html
MSL.property html
T.stroma.property html
assign.properties html
** building package indices
** installing vignettes
** testing if installed package can be loaded from temporary location
** testing if installed package can be loaded from final location
** testing if installed package keeps a record of temporary installation path
install for x64
* installing *source* package 'STROMA4' ...
** testing if installed package can be loaded
* MD5 sums
packaged installation of 'STROMA4' as STROMA4_1.8.0.zip
* DONE (STROMA4)