| Back to Multiple platform build/check report for BioC 3.9 |
|
This page was generated on 2019-10-16 12:58:49 -0400 (Wed, 16 Oct 2019).
| Package 1574/1741 | Hostname | OS / Arch | INSTALL | BUILD | CHECK | BUILD BIN | ||||||
| SPLINTER 1.10.0 Diana Low
| malbec2 | Linux (Ubuntu 18.04.2 LTS) / x86_64 | OK | OK | OK | |||||||
| tokay2 | Windows Server 2012 R2 Standard / x64 | OK | OK | WARNINGS | OK | |||||||
| celaya2 | OS X 10.11.6 El Capitan / x86_64 | OK | OK | [ OK ] | OK |
| Package: SPLINTER |
| Version: 1.10.0 |
| Command: /Library/Frameworks/R.framework/Versions/Current/Resources/bin/R CMD check --install=check:SPLINTER.install-out.txt --library=/Library/Frameworks/R.framework/Versions/Current/Resources/library --no-vignettes --timings SPLINTER_1.10.0.tar.gz |
| StartedAt: 2019-10-16 07:06:20 -0400 (Wed, 16 Oct 2019) |
| EndedAt: 2019-10-16 07:13:37 -0400 (Wed, 16 Oct 2019) |
| EllapsedTime: 437.0 seconds |
| RetCode: 0 |
| Status: OK |
| CheckDir: SPLINTER.Rcheck |
| Warnings: 0 |
##############################################################################
##############################################################################
###
### Running command:
###
### /Library/Frameworks/R.framework/Versions/Current/Resources/bin/R CMD check --install=check:SPLINTER.install-out.txt --library=/Library/Frameworks/R.framework/Versions/Current/Resources/library --no-vignettes --timings SPLINTER_1.10.0.tar.gz
###
##############################################################################
##############################################################################
* using log directory ‘/Users/biocbuild/bbs-3.9-bioc/meat/SPLINTER.Rcheck’
* using R version 3.6.1 (2019-07-05)
* using platform: x86_64-apple-darwin15.6.0 (64-bit)
* using session charset: UTF-8
* using option ‘--no-vignettes’
* checking for file ‘SPLINTER/DESCRIPTION’ ... OK
* checking extension type ... Package
* this is package ‘SPLINTER’ version ‘1.10.0’
* package encoding: UTF-8
* checking package namespace information ... OK
* checking package dependencies ... OK
* checking if this is a source package ... OK
* checking if there is a namespace ... OK
* checking for hidden files and directories ... OK
* checking for portable file names ... OK
* checking for sufficient/correct file permissions ... OK
* checking whether package ‘SPLINTER’ can be installed ... OK
* checking installed package size ... OK
* checking package directory ... OK
* checking ‘build’ directory ... OK
* checking DESCRIPTION meta-information ... OK
* checking top-level files ... OK
* checking for left-over files ... OK
* checking index information ... OK
* checking package subdirectories ... OK
* checking R files for non-ASCII characters ... OK
* checking R files for syntax errors ... OK
* checking whether the package can be loaded ... OK
* checking whether the package can be loaded with stated dependencies ... OK
* checking whether the package can be unloaded cleanly ... OK
* checking whether the namespace can be loaded with stated dependencies ... OK
* checking whether the namespace can be unloaded cleanly ... OK
* checking dependencies in R code ... OK
* checking S3 generic/method consistency ... OK
* checking replacement functions ... OK
* checking foreign function calls ... OK
* checking R code for possible problems ... OK
* checking Rd files ... OK
* checking Rd metadata ... OK
* checking Rd cross-references ... OK
* checking for missing documentation entries ... OK
* checking for code/documentation mismatches ... OK
* checking Rd \usage sections ... OK
* checking Rd contents ... OK
* checking for unstated dependencies in examples ... OK
* checking contents of ‘data’ directory ... OK
* checking data for non-ASCII characters ... OK
* checking data for ASCII and uncompressed saves ... OK
* checking sizes of PDF files under ‘inst/doc’ ... OK
* checking files in ‘vignettes’ ... OK
* checking examples ... OK
Examples with CPU or elapsed time > 5s
user system elapsed
eventPlot 14.784 0.708 16.346
getPCRsizes 5.467 0.480 6.086
addEnsemblAnnotation 0.900 0.031 6.769
* checking for unstated dependencies in vignettes ... OK
* checking package vignettes in ‘inst/doc’ ... OK
* checking running R code from vignettes ... SKIPPED
* checking re-building of vignette outputs ... SKIPPED
* checking PDF version of manual ... OK
* DONE
Status: OK
SPLINTER.Rcheck/00install.out
############################################################################## ############################################################################## ### ### Running command: ### ### /Library/Frameworks/R.framework/Versions/Current/Resources/bin/R CMD INSTALL SPLINTER ### ############################################################################## ############################################################################## * installing to library ‘/Library/Frameworks/R.framework/Versions/3.6/Resources/library’ * installing *source* package ‘SPLINTER’ ... ** using staged installation ** R ** data *** moving datasets to lazyload DB ** inst ** byte-compile and prepare package for lazy loading Creating a generic function for 'toJSON' from package 'jsonlite' in package 'googleVis' ** help *** installing help indices ** building package indices ** installing vignettes ** testing if installed package can be loaded from temporary location Creating a generic function for 'toJSON' from package 'jsonlite' in package 'googleVis' ** testing if installed package can be loaded from final location Creating a generic function for 'toJSON' from package 'jsonlite' in package 'googleVis' ** testing if installed package keeps a record of temporary installation path * DONE (SPLINTER)
SPLINTER.Rcheck/SPLINTER-Ex.timings
| name | user | system | elapsed | |
| acceptor.m | 0.004 | 0.002 | 0.007 | |
| addEnsemblAnnotation | 0.900 | 0.031 | 6.769 | |
| callPrimer3 | 0.000 | 0.000 | 0.001 | |
| checkPrimer | 0.115 | 0.004 | 0.119 | |
| compatible_cds | 0.003 | 0.002 | 0.005 | |
| compatible_tx | 0.002 | 0.002 | 0.003 | |
| donor.m | 0.002 | 0.002 | 0.003 | |
| eventOutcomeCompare | 3.249 | 0.129 | 3.380 | |
| eventOutcomeTranslate | 0.712 | 0.100 | 0.813 | |
| eventPlot | 14.784 | 0.708 | 16.346 | |
| extendROI | 1.213 | 0.098 | 1.352 | |
| extractSpliceEvents | 0.008 | 0.002 | 0.010 | |
| extractSpliceSites | 0.084 | 0.005 | 0.094 | |
| findCompatibleEvents | 0.514 | 0.018 | 0.604 | |
| findCompatibleExon | 0.305 | 0.002 | 0.317 | |
| findTX | 0.010 | 0.000 | 0.009 | |
| getPCRsizes | 5.467 | 0.480 | 6.086 | |
| getRegionDNA | 0.463 | 0.013 | 0.476 | |
| insertRegion | 0.230 | 0.002 | 0.232 | |
| makeROI | 0.406 | 0.010 | 0.416 | |
| makeUniqueIDs | 0.007 | 0.001 | 0.008 | |
| pcr_result1 | 0.002 | 0.002 | 0.003 | |
| plot_seqlogo | 0.059 | 0.002 | 0.061 | |
| primers | 0.001 | 0.001 | 0.003 | |
| psiPlot | 0.444 | 0.012 | 0.456 | |
| region_minus_exon | 0.002 | 0.002 | 0.003 | |
| roi | 0.002 | 0.001 | 0.003 | |
| shapiroAcceptor | 0.693 | 0.060 | 0.757 | |
| shapiroDonor | 0.761 | 0.077 | 0.839 | |
| splice_data | 0.002 | 0.002 | 0.004 | |
| splice_fasta | 0.002 | 0.002 | 0.004 | |
| splitPCRhit | 0.001 | 0.000 | 0.002 | |
| thecds | 0.002 | 0.002 | 0.003 | |
| theexons | 0.002 | 0.002 | 0.003 | |
| valid_cds | 0.001 | 0.001 | 0.003 | |
| valid_tx | 0.001 | 0.001 | 0.003 | |