| Back to Multiple platform build/check report for BioC 3.9 |
|
This page was generated on 2019-10-16 11:56:35 -0400 (Wed, 16 Oct 2019).
| Package 1544/1741 | Hostname | OS / Arch | INSTALL | BUILD | CHECK | BUILD BIN | ||||||
| SMAP 1.48.0 Robin Andersson
| malbec2 | Linux (Ubuntu 18.04.2 LTS) / x86_64 | [ OK ] | OK | OK | |||||||
| tokay2 | Windows Server 2012 R2 Standard / x64 | OK | OK | OK | OK | |||||||
| celaya2 | OS X 10.11.6 El Capitan / x86_64 | OK | OK | OK | OK |
| Package: SMAP |
| Version: 1.48.0 |
| Command: /home/biocbuild/bbs-3.9-bioc/R/bin/R CMD INSTALL SMAP |
| StartedAt: 2019-10-15 18:16:01 -0400 (Tue, 15 Oct 2019) |
| EndedAt: 2019-10-15 18:16:11 -0400 (Tue, 15 Oct 2019) |
| EllapsedTime: 10.7 seconds |
| RetCode: 0 |
| Status: OK |
##############################################################################
##############################################################################
###
### Running command:
###
### /home/biocbuild/bbs-3.9-bioc/R/bin/R CMD INSTALL SMAP
###
##############################################################################
##############################################################################
* installing to library ‘/home/biocbuild/bbs-3.9-bioc/R/library’
* installing *source* package ‘SMAP’ ...
** using staged installation
** libs
gcc -I"/home/biocbuild/bbs-3.9-bioc/R/include" -DNDEBUG -I/usr/local/include -fpic -g -O2 -Wall -c gradient.c -o gradient.o
gradient.c: In function ‘prior_gradient’:
gradient.c:142:7: warning: variable ‘lower’ set but not used [-Wunused-but-set-variable]
int lower;
^~~~~
gradient.c: In function ‘hmm_update’:
gradient.c:247:10: warning: unused variable ‘tmp’ [-Wunused-variable]
double tmp;
^~~
gcc -I"/home/biocbuild/bbs-3.9-bioc/R/include" -DNDEBUG -I/usr/local/include -fpic -g -O2 -Wall -c init.c -o init.o
gcc -I"/home/biocbuild/bbs-3.9-bioc/R/include" -DNDEBUG -I/usr/local/include -fpic -g -O2 -Wall -c overlap.c -o overlap.o
gcc -I"/home/biocbuild/bbs-3.9-bioc/R/include" -DNDEBUG -I/usr/local/include -fpic -g -O2 -Wall -c prob.c -o prob.o
gcc -I"/home/biocbuild/bbs-3.9-bioc/R/include" -DNDEBUG -I/usr/local/include -fpic -g -O2 -Wall -c viterbi.c -o viterbi.o
gcc -shared -L/home/biocbuild/bbs-3.9-bioc/R/lib -L/usr/local/lib -o SMAP.so gradient.o init.o overlap.o prob.o viterbi.o -L/home/biocbuild/bbs-3.9-bioc/R/lib -lR
installing to /home/biocbuild/bbs-3.9-bioc/R/library/00LOCK-SMAP/00new/SMAP/libs
** R
** data
** byte-compile and prepare package for lazy loading
** help
*** installing help indices
** building package indices
** installing vignettes
** testing if installed package can be loaded from temporary location
** checking absolute paths in shared objects and dynamic libraries
** testing if installed package can be loaded from final location
** testing if installed package keeps a record of temporary installation path
* DONE (SMAP)