| Back to Multiple platform build/check report for BioC 3.9 | 
 | 
This page was generated on 2019-05-13 11:44:05 -0400 (Mon, 13 May 2019).
| Package 1487/1741 | Hostname | OS / Arch | INSTALL | BUILD | CHECK | BUILD BIN | ||||||
| SEPA 1.14.0 Zhicheng Ji 
 | malbec2 | Linux (Ubuntu 18.04.2 LTS) / x86_64 | OK | ERROR | skipped | |||||||
| tokay2 | Windows Server 2012 R2 Standard / x64 | OK | OK | ERROR | [ OK ] | |||||||
| celaya2 | OS X 10.11.6 El Capitan / x86_64 | OK | ERROR | skipped | skipped | 
| Package: SEPA | 
| Version: 1.14.0 | 
| Command: rm -rf SEPA.buildbin-libdir && mkdir SEPA.buildbin-libdir && C:\Users\biocbuild\bbs-3.9-bioc\R\bin\R.exe CMD INSTALL --merge-multiarch --build --library=SEPA.buildbin-libdir SEPA_1.14.0.tar.gz | 
| StartedAt: 2019-05-13 10:16:09 -0400 (Mon, 13 May 2019) | 
| EndedAt: 2019-05-13 10:16:29 -0400 (Mon, 13 May 2019) | 
| EllapsedTime: 20.3 seconds | 
| RetCode: 0 | 
| Status: OK | 
| PackageFile: SEPA_1.14.0.zip | 
| PackageFileSize: 908.1 KiB | 
##############################################################################
##############################################################################
###
### Running command:
###
###   rm -rf SEPA.buildbin-libdir && mkdir SEPA.buildbin-libdir && C:\Users\biocbuild\bbs-3.9-bioc\R\bin\R.exe CMD INSTALL --merge-multiarch --build --library=SEPA.buildbin-libdir SEPA_1.14.0.tar.gz
###
##############################################################################
##############################################################################
install for i386
* installing *source* package 'SEPA' ...
** using staged installation
** R
** data
** inst
** byte-compile and prepare package for lazy loading
** help
*** installing help indices
  converting help for package 'SEPA'
    finding HTML links ... done
    HSMMdata                                html  
    SEPA                                    html  
    SEPAui                                  html  
    patternGOanalysis                       html  
    patternsummary                          html  
    pseudotime                              html  
    pseudotimepattern                       html  
    pseudotimevisualize                     html  
    truetime                                html  
    truetimepattern                         html  
    truetimevisualize                       html  
    windowGOanalysis                        html  
    windowGOvisualize                       html  
** building package indices
** installing vignettes
** testing if installed package can be loaded from temporary location
** testing if installed package can be loaded from final location
** testing if installed package keeps a record of temporary installation path
install for x64
* installing *source* package 'SEPA' ...
** using non-staged installation
** testing if installed package can be loaded
* MD5 sums
packaged installation of 'SEPA' as SEPA_1.14.0.zip
* DONE (SEPA)