| Back to Multiple platform build/check report for BioC 3.9 | 
 | 
This page was generated on 2019-10-16 12:42:05 -0400 (Wed, 16 Oct 2019).
| Package 1462/1741 | Hostname | OS / Arch | INSTALL | BUILD | CHECK | BUILD BIN | ||||||
| SCBN 1.2.0 Yan Zhou 
 | malbec2 | Linux (Ubuntu 18.04.2 LTS) / x86_64 | OK | OK | OK |  | ||||||
| tokay2 | Windows Server 2012 R2 Standard / x64 | [ OK ] | OK | OK | OK |  | ||||||
| celaya2 | OS X 10.11.6 El Capitan / x86_64 | OK | OK | OK | OK |  | 
| Package: SCBN | 
| Version: 1.2.0 | 
| Command: C:\cygwin\bin\curl.exe -O https://malbec2.bioconductor.org/BBS/3.9/bioc/src/contrib/SCBN_1.2.0.tar.gz && rm -rf SCBN.buildbin-libdir && mkdir SCBN.buildbin-libdir && C:\Users\biocbuild\bbs-3.9-bioc\R\bin\R.exe CMD INSTALL --merge-multiarch --build --library=SCBN.buildbin-libdir SCBN_1.2.0.tar.gz && C:\Users\biocbuild\bbs-3.9-bioc\R\bin\R.exe CMD INSTALL SCBN_1.2.0.zip && rm SCBN_1.2.0.tar.gz SCBN_1.2.0.zip | 
| StartedAt: 2019-10-15 18:45:04 -0400 (Tue, 15 Oct 2019) | 
| EndedAt: 2019-10-15 18:45:33 -0400 (Tue, 15 Oct 2019) | 
| EllapsedTime: 28.9 seconds | 
| RetCode: 0 | 
| Status: OK | 
##############################################################################
##############################################################################
###
### Running command:
###
###   C:\cygwin\bin\curl.exe -O https://malbec2.bioconductor.org/BBS/3.9/bioc/src/contrib/SCBN_1.2.0.tar.gz && rm -rf SCBN.buildbin-libdir && mkdir SCBN.buildbin-libdir && C:\Users\biocbuild\bbs-3.9-bioc\R\bin\R.exe CMD INSTALL --merge-multiarch --build --library=SCBN.buildbin-libdir SCBN_1.2.0.tar.gz && C:\Users\biocbuild\bbs-3.9-bioc\R\bin\R.exe CMD INSTALL SCBN_1.2.0.zip && rm SCBN_1.2.0.tar.gz SCBN_1.2.0.zip
###
##############################################################################
##############################################################################
  % Total    % Received % Xferd  Average Speed   Time    Time     Time  Current
                                 Dload  Upload   Total   Spent    Left  Speed
  0     0    0     0    0     0      0      0 --:--:-- --:--:-- --:--:--     0
100  298k  100  298k    0     0  2143k      0 --:--:-- --:--:-- --:--:-- 2259k
install for i386
* installing *source* package 'SCBN' ...
** using staged installation
** R
** data
*** moving datasets to lazyload DB
** inst
** byte-compile and prepare package for lazy loading
** help
*** installing help indices
  converting help for package 'SCBN'
    finding HTML links ... done
    SCBN                                    html  
    To                                      html  
    generateDataset                         html  
    orthgene                                html  
    sim_data                                html  
** building package indices
** installing vignettes
** testing if installed package can be loaded from temporary location
** testing if installed package can be loaded from final location
** testing if installed package keeps a record of temporary installation path
install for x64
* installing *source* package 'SCBN' ...
** testing if installed package can be loaded
* MD5 sums
packaged installation of 'SCBN' as SCBN_1.2.0.zip
* DONE (SCBN)
* installing to library 'C:/Users/biocbuild/bbs-3.9-bioc/R/library'
package 'SCBN' successfully unpacked and MD5 sums checked