| Back to Multiple platform build/check report for BioC 3.9 |
|
This page was generated on 2019-10-16 12:54:30 -0400 (Wed, 16 Oct 2019).
| Package 1415/1741 | Hostname | OS / Arch | INSTALL | BUILD | CHECK | BUILD BIN | ||||||
| Rqc 1.18.0 Welliton Souza
| malbec2 | Linux (Ubuntu 18.04.2 LTS) / x86_64 | OK | OK | OK | |||||||
| tokay2 | Windows Server 2012 R2 Standard / x64 | OK | OK | TIMEOUT | OK | |||||||
| celaya2 | OS X 10.11.6 El Capitan / x86_64 | OK | OK | [ OK ] | OK |
| Package: Rqc |
| Version: 1.18.0 |
| Command: /Library/Frameworks/R.framework/Versions/Current/Resources/bin/R CMD check --install=check:Rqc.install-out.txt --library=/Library/Frameworks/R.framework/Versions/Current/Resources/library --no-vignettes --timings Rqc_1.18.0.tar.gz |
| StartedAt: 2019-10-16 06:24:58 -0400 (Wed, 16 Oct 2019) |
| EndedAt: 2019-10-16 06:33:43 -0400 (Wed, 16 Oct 2019) |
| EllapsedTime: 524.7 seconds |
| RetCode: 0 |
| Status: OK |
| CheckDir: Rqc.Rcheck |
| Warnings: 0 |
##############################################################################
##############################################################################
###
### Running command:
###
### /Library/Frameworks/R.framework/Versions/Current/Resources/bin/R CMD check --install=check:Rqc.install-out.txt --library=/Library/Frameworks/R.framework/Versions/Current/Resources/library --no-vignettes --timings Rqc_1.18.0.tar.gz
###
##############################################################################
##############################################################################
* using log directory ‘/Users/biocbuild/bbs-3.9-bioc/meat/Rqc.Rcheck’
* using R version 3.6.1 (2019-07-05)
* using platform: x86_64-apple-darwin15.6.0 (64-bit)
* using session charset: UTF-8
* using option ‘--no-vignettes’
* checking for file ‘Rqc/DESCRIPTION’ ... OK
* checking extension type ... Package
* this is package ‘Rqc’ version ‘1.18.0’
* package encoding: UTF-8
* checking package namespace information ... OK
* checking package dependencies ... OK
* checking if this is a source package ... OK
* checking if there is a namespace ... OK
* checking for hidden files and directories ... NOTE
Found the following hidden files and directories:
.travis.yml
These were most likely included in error. See section ‘Package
structure’ in the ‘Writing R Extensions’ manual.
* checking for portable file names ... OK
* checking for sufficient/correct file permissions ... OK
* checking whether package ‘Rqc’ can be installed ... OK
* checking installed package size ... OK
* checking package directory ... OK
* checking ‘build’ directory ... OK
* checking DESCRIPTION meta-information ... OK
* checking top-level files ... OK
* checking for left-over files ... OK
* checking index information ... OK
* checking package subdirectories ... OK
* checking R files for non-ASCII characters ... OK
* checking R files for syntax errors ... OK
* checking whether the package can be loaded ... OK
* checking whether the package can be loaded with stated dependencies ... OK
* checking whether the package can be unloaded cleanly ... OK
* checking whether the namespace can be loaded with stated dependencies ... OK
* checking whether the namespace can be unloaded cleanly ... OK
* checking dependencies in R code ... NOTE
Namespaces in Imports field not imported from:
'IRanges' 'Rcpp'
All declared Imports should be used.
* checking S3 generic/method consistency ... OK
* checking replacement functions ... OK
* checking foreign function calls ... OK
* checking R code for possible problems ... OK
* checking Rd files ... OK
* checking Rd metadata ... OK
* checking Rd cross-references ... OK
* checking for missing documentation entries ... OK
* checking for code/documentation mismatches ... OK
* checking Rd \usage sections ... OK
* checking Rd contents ... OK
* checking for unstated dependencies in examples ... OK
* checking line endings in C/C++/Fortran sources/headers ... OK
* checking compiled code ... NOTE
Note: information on .o files is not available
* checking files in ‘vignettes’ ... OK
* checking examples ... OK
Examples with CPU or elapsed time > 5s
user system elapsed
Rqc-package 21.856 1.758 24.516
rqc 19.375 1.322 21.582
rqcReport 18.755 1.086 20.812
* checking for unstated dependencies in ‘tests’ ... OK
* checking tests ...
Running ‘testthat.R’
OK
* checking for unstated dependencies in vignettes ... OK
* checking package vignettes in ‘inst/doc’ ... OK
* checking running R code from vignettes ... SKIPPED
* checking re-building of vignette outputs ... SKIPPED
* checking PDF version of manual ... OK
* DONE
Status: 3 NOTEs
See
‘/Users/biocbuild/bbs-3.9-bioc/meat/Rqc.Rcheck/00check.log’
for details.
Rqc.Rcheck/00install.out
############################################################################## ############################################################################## ### ### Running command: ### ### /Library/Frameworks/R.framework/Versions/Current/Resources/bin/R CMD INSTALL Rqc ### ############################################################################## ############################################################################## * installing to library ‘/Library/Frameworks/R.framework/Versions/3.6/Resources/library’ * installing *source* package ‘Rqc’ ... ** using staged installation ** libs clang++ -std=gnu++11 -I"/Library/Frameworks/R.framework/Resources/include" -DNDEBUG -I"/Library/Frameworks/R.framework/Versions/3.6/Resources/library/Rcpp/include" -isysroot /Library/Developer/CommandLineTools/SDKs/MacOSX.sdk -I/usr/local/include -fPIC -Wall -g -O2 -c RRDNA.cpp -o RRDNA.o clang++ -std=gnu++11 -I"/Library/Frameworks/R.framework/Resources/include" -DNDEBUG -I"/Library/Frameworks/R.framework/Versions/3.6/Resources/library/Rcpp/include" -isysroot /Library/Developer/CommandLineTools/SDKs/MacOSX.sdk -I/usr/local/include -fPIC -Wall -g -O2 -c RcppExports.cpp -o RcppExports.o clang++ -std=gnu++11 -dynamiclib -Wl,-headerpad_max_install_names -undefined dynamic_lookup -single_module -multiply_defined suppress -L/Library/Frameworks/R.framework/Resources/lib -L/usr/local/lib -o Rqc.so RRDNA.o RcppExports.o -F/Library/Frameworks/R.framework/.. -framework R -Wl,-framework -Wl,CoreFoundation installing to /Library/Frameworks/R.framework/Versions/3.6/Resources/library/00LOCK-Rqc/00new/Rqc/libs ** R ** inst ** byte-compile and prepare package for lazy loading ** help *** installing help indices ** building package indices ** installing vignettes ** testing if installed package can be loaded from temporary location ** checking absolute paths in shared objects and dynamic libraries ** testing if installed package can be loaded from final location ** testing if installed package keeps a record of temporary installation path * DONE (Rqc)
Rqc.Rcheck/tests/testthat.Rout
R version 3.6.1 (2019-07-05) -- "Action of the Toes"
Copyright (C) 2019 The R Foundation for Statistical Computing
Platform: x86_64-apple-darwin15.6.0 (64-bit)
R is free software and comes with ABSOLUTELY NO WARRANTY.
You are welcome to redistribute it under certain conditions.
Type 'license()' or 'licence()' for distribution details.
R is a collaborative project with many contributors.
Type 'contributors()' for more information and
'citation()' on how to cite R or R packages in publications.
Type 'demo()' for some demos, 'help()' for on-line help, or
'help.start()' for an HTML browser interface to help.
Type 'q()' to quit R.
> library(testthat)
> library(Rqc)
Loading required package: BiocParallel
Loading required package: ShortRead
Loading required package: BiocGenerics
Loading required package: parallel
Attaching package: 'BiocGenerics'
The following objects are masked from 'package:parallel':
clusterApply, clusterApplyLB, clusterCall, clusterEvalQ,
clusterExport, clusterMap, parApply, parCapply, parLapply,
parLapplyLB, parRapply, parSapply, parSapplyLB
The following objects are masked from 'package:stats':
IQR, mad, sd, var, xtabs
The following objects are masked from 'package:base':
Filter, Find, Map, Position, Reduce, anyDuplicated, append,
as.data.frame, basename, cbind, colnames, dirname, do.call,
duplicated, eval, evalq, get, grep, grepl, intersect, is.unsorted,
lapply, mapply, match, mget, order, paste, pmax, pmax.int, pmin,
pmin.int, rank, rbind, rownames, sapply, setdiff, sort, table,
tapply, union, unique, unsplit, which, which.max, which.min
Loading required package: Biostrings
Loading required package: S4Vectors
Loading required package: stats4
Attaching package: 'S4Vectors'
The following object is masked from 'package:base':
expand.grid
Loading required package: IRanges
Loading required package: XVector
Attaching package: 'Biostrings'
The following object is masked from 'package:base':
strsplit
Loading required package: Rsamtools
Loading required package: GenomeInfoDb
Loading required package: GenomicRanges
Loading required package: GenomicAlignments
Loading required package: SummarizedExperiment
Loading required package: Biobase
Welcome to Bioconductor
Vignettes contain introductory material; view with
'browseVignettes()'. To cite Bioconductor, see
'citation("Biobase")', and for packages 'citation("pkgname")'.
Loading required package: DelayedArray
Loading required package: matrixStats
Attaching package: 'matrixStats'
The following objects are masked from 'package:Biobase':
anyMissing, rowMedians
Attaching package: 'DelayedArray'
The following objects are masked from 'package:matrixStats':
colMaxs, colMins, colRanges, rowMaxs, rowMins, rowRanges
The following object is masked from 'package:Biostrings':
type
The following objects are masked from 'package:base':
aperm, apply, rowsum
Loading required package: ggplot2
>
> test_check("Rqc")
══ testthat results ═══════════════════════════════════════════════════════════
[ OK: 27 | SKIPPED: 0 | WARNINGS: 0 | FAILED: 0 ]
Warning messages:
1: In if (S3Case) class1 <- class1[[1L]] :
closing unused connection 5 (/Library/Frameworks/R.framework/Versions/3.6/Resources/library/ShortRead/extdata/E-MTAB-1147/ERR127302_2_subset.fastq.gz)
2: In if (S3Case) class1 <- class1[[1L]] :
closing unused connection 4 (/Library/Frameworks/R.framework/Versions/3.6/Resources/library/ShortRead/extdata/E-MTAB-1147/ERR127302_1_subset.fastq.gz)
>
> proc.time()
user system elapsed
27.429 1.964 29.375
Rqc.Rcheck/Rqc-Ex.timings
| name | user | system | elapsed | |
| Rqc-package | 21.856 | 1.758 | 24.516 | |
| RqcResultSet-class | 0.055 | 0.007 | 0.064 | |
| checkpoint | 0.004 | 0.001 | 0.005 | |
| detectFileFormat | 0.005 | 0.001 | 0.005 | |
| fromRRDNA | 0.001 | 0.000 | 0.002 | |
| matdist | 0.001 | 0.001 | 0.001 | |
| rqc | 19.375 | 1.322 | 21.582 | |
| rqcCycleAverageQualityPcaPlot | 0.453 | 0.003 | 0.456 | |
| rqcCycleAverageQualityPlot | 0.509 | 0.004 | 0.514 | |
| rqcCycleBaseCallsPlot | 1.120 | 0.004 | 1.124 | |
| rqcCycleGCPlot | 0.502 | 0.003 | 0.505 | |
| rqcCycleQualityBoxPlot | 3.003 | 0.014 | 3.017 | |
| rqcCycleQualityPlot | 1.412 | 0.048 | 1.461 | |
| rqcFileHeatmap | 0.401 | 0.004 | 0.405 | |
| rqcGroupCycleAverageQualityPlot | 0.689 | 0.003 | 0.693 | |
| rqcQA | 0.417 | 0.002 | 0.420 | |
| rqcReadFrequencyPlot | 0.459 | 0.005 | 0.463 | |
| rqcReadQualityBoxPlot | 0.493 | 0.005 | 0.496 | |
| rqcReadQualityPlot | 0.416 | 0.004 | 0.419 | |
| rqcReadWidthPlot | 0.409 | 0.002 | 0.411 | |
| rqcReport | 18.755 | 1.086 | 20.812 | |
| rqcShinyReport | 0.004 | 0.001 | 0.005 | |
| stats4trim | 0.086 | 0.010 | 0.095 | |
| subsetByGroup | 0.734 | 0.122 | 0.856 | |
| subsetByPair | 0.010 | 0.001 | 0.011 | |
| toRRDNA | 0.001 | 0.000 | 0.002 | |