CHECK report for RnBeads on merida2
This page was generated on 2019-04-09 13:31:31 -0400 (Tue, 09 Apr 2019).
| RnBeads 2.1.0 Fabian Mueller
 
 
| Snapshot Date: 2019-04-08 17:01:18 -0400 (Mon, 08 Apr 2019) |  | URL: https://git.bioconductor.org/packages/RnBeads |  | Branch: master |  | Last Commit: 1d578f7 |  | Last Changed Date: 2018-12-20 12:40:12 -0400 (Thu, 20 Dec 2018) |  | malbec2 | Linux (Ubuntu 18.04.2 LTS) / x86_64 | OK | OK | OK |  |  | 
| tokay2 | Windows Server 2012 R2 Standard / x64 | OK | OK | OK | OK |  | 
| celaya2 | OS X 10.11.6 El Capitan / x86_64 | OK | OK | OK | OK |  | 
| merida2 | OS X 10.11.6 El Capitan / x86_64 | OK | OK | [ OK ] | OK |  | 
Summary
Command output
Installation output
RnBeads.Rcheck/00install.out
Tests output
RnBeads.Rcheck/tests/runTests.Rout
R Under development (unstable) (2018-11-27 r75683) -- "Unsuffered Consequences"
Copyright (C) 2018 The R Foundation for Statistical Computing
Platform: x86_64-apple-darwin15.6.0 (64-bit)
R is free software and comes with ABSOLUTELY NO WARRANTY.
You are welcome to redistribute it under certain conditions.
Type 'license()' or 'licence()' for distribution details.
R is a collaborative project with many contributors.
Type 'contributors()' for more information and
'citation()' on how to cite R or R packages in publications.
Type 'demo()' for some demos, 'help()' for on-line help, or
'help.start()' for an HTML browser interface to help.
Type 'q()' to quit R.
> BiocGenerics:::testPackage("RnBeads")
Attaching package: 'BiocGenerics'
The following objects are masked from 'package:parallel':
    clusterApply, clusterApplyLB, clusterCall, clusterEvalQ,
    clusterExport, clusterMap, parApply, parCapply, parLapply,
    parLapplyLB, parRapply, parSapply, parSapplyLB
The following objects are masked from 'package:stats':
    IQR, mad, sd, var, xtabs
The following objects are masked from 'package:base':
    Filter, Find, Map, Position, Reduce, anyDuplicated, append,
    as.data.frame, basename, cbind, colMeans, colSums, colnames,
    dirname, do.call, duplicated, eval, evalq, get, grep, grepl,
    intersect, is.unsorted, lapply, mapply, match, mget, order, paste,
    pmax, pmax.int, pmin, pmin.int, rank, rbind, rowMeans, rowSums,
    rownames, sapply, setdiff, sort, table, tapply, union, unique,
    unsplit, which, which.max, which.min
Attaching package: 'S4Vectors'
The following object is masked from 'package:base':
    expand.grid
Attaching package bit
package:bit (c) 2008-2012 Jens Oehlschlaegel (GPL-2)
creators: bit bitwhich
coercion: as.logical as.integer as.bit as.bitwhich which
operator: ! & | xor != ==
querying: print length any all min max range sum summary
bit access: length<- [ [<- [[ [[<-
for more help type ?bit
Attaching package: 'bit'
The following object is masked from 'package:base':
    xor
Attaching package ff
- getOption("fftempdir")=="/tmp/RtmptinXVP"
- getOption("ffextension")=="ff"
- getOption("ffdrop")==TRUE
- getOption("fffinonexit")==TRUE
- getOption("ffpagesize")==65536
- getOption("ffcaching")=="mmnoflush"  -- consider "ffeachflush" if your system stalls on large writes
- getOption("ffbatchbytes")==16777216 -- consider a different value for tuning your system
- getOption("ffmaxbytes")==536870912 -- consider a different value for tuning your system
Attaching package: 'ff'
The following objects are masked from 'package:bit':
    clone, clone.default, clone.list
The following objects are masked from 'package:utils':
    write.csv, write.csv2
The following objects are masked from 'package:base':
    is.factor, is.ordered
Spam version 2.2-2 (2019-03-07) is loaded.
Type 'help( Spam)' or 'demo( spam)' for a short introduction 
and overview of this package.
Help for individual functions is also obtained by adding the
suffix '.spam' to the function name, e.g. 'help( chol.spam)'.
Attaching package: 'spam'
The following object is masked from 'package:stats4':
    mle
The following objects are masked from 'package:base':
    backsolve, forwardsolve
Attaching package: 'maps'
The following object is masked from 'package:cluster':
    votes.repub
See www.image.ucar.edu/˜nychka/Fields for
 a vignette and other supplements. 
Attaching package: 'gplots'
The following object is masked from 'package:IRanges':
    space
The following object is masked from 'package:S4Vectors':
    space
The following object is masked from 'package:stats':
    lowess
Attaching package: 'gridExtra'
The following object is masked from 'package:BiocGenerics':
    combine
Attaching package: 'limma'
The following object is masked from 'package:BiocGenerics':
    plotMA
Welcome to Bioconductor
    Vignettes contain introductory material; view with
    'browseVignettes()'. To cite Bioconductor, see
    'citation("Biobase")', and for packages 'citation("pkgname")'.
Attaching package: 'Biobase'
The following objects are masked from 'package:matrixStats':
    anyMissing, rowMedians
Attaching package: 'AnnotationDbi'
The following object is masked from 'package:MASS':
    select
Attaching package: 'DelayedArray'
The following objects are masked from 'package:matrixStats':
    colMaxs, colMins, colRanges, rowMaxs, rowMins, rowRanges
The following object is masked from 'package:ff':
    maxlength
The following objects are masked from 'package:base':
    aperm, apply, rowsum
Attaching package: 'Biostrings'
The following object is masked from 'package:DelayedArray':
    type
The following objects are masked from 'package:ff':
    mismatch, pattern
The following object is masked from 'package:base':
    strsplit
locfit 1.5-9.1 	 2013-03-22
Setting options('download.file.method.GEOquery'='auto')
Setting options('GEOquery.inmemory.gpl'=FALSE)
Attaching package: 'plyr'
The following object is masked from 'package:XVector':
    compact
The following object is masked from 'package:matrixStats':
    count
The following object is masked from 'package:maps':
    ozone
The following object is masked from 'package:IRanges':
    desc
The following object is masked from 'package:S4Vectors':
    rename
2019-04-09 03:32:47     0.7  STATUS STARTED Unit testing: differential
2019-04-09 03:32:47     0.7  STATUS     STARTED Testing function: rowWelchP
Loading required package: RnBeads.hg19
2019-04-09 03:32:47     0.7  STATUS     COMPLETED Testing function: rowWelchP
2019-04-09 03:32:48     0.7  STATUS     STARTED Testing function: limmaP
2019-04-09 03:32:48     0.7  STATUS     COMPLETED Testing function: limmaP
2019-04-09 03:32:48     0.7  STATUS     STARTED Testing function: computeDiffTab.extended.site
2019-04-09 03:32:49     0.7    INFO         Conducting differential analysis using limma
2019-04-09 03:32:49     0.7  STATUS     COMPLETED Testing function: computeDiffTab.extended.site
2019-04-09 03:32:49     0.7  STATUS     STARTED Testing function: computeDiffTab.default.region
2019-04-09 03:32:49     0.7    INFO         Conducting differential analysis using limma
2019-04-09 03:32:55     0.8  STATUS     COMPLETED Testing function: computeDiffTab.default.region
2019-04-09 03:32:55     0.8  STATUS     STARTED Testing function: combineTestPvalsMeth
2019-04-09 03:32:55     0.8  STATUS     COMPLETED Testing function: combineTestPvalsMeth
2019-04-09 03:32:55     0.8  STATUS     STARTED Testing function: get.adjustment.variables
2019-04-09 03:32:56     0.8  STATUS     COMPLETED Testing function: get.adjustment.variables
2019-04-09 03:32:56     0.8  STATUS     STARTED Testing function: get.comparison.info
2019-04-09 03:32:56     0.8  STATUS     COMPLETED Testing function: get.comparison.info
2019-04-09 03:32:56     0.8  STATUS     STARTED Testing function: rnb.execute.computeDiffMeth
2019-04-09 03:32:57     0.8  STATUS         STARTED Retrieving comparison info
2019-04-09 03:32:57     0.8  STATUS         COMPLETED Retrieving comparison info
2019-04-09 03:32:57     0.8  STATUS         STARTED Computing differential methylation tables
2019-04-09 03:32:58     0.8  STATUS             STARTED Comparing: hESC vs. hiPSC (based on Sample_Group)
2019-04-09 03:32:58     0.8  STATUS                 STARTED Computing Differential Methylation Table
2019-04-09 03:32:58     0.8    INFO                     Conducting differential analysis using limma
2019-04-09 03:32:58     0.8  STATUS                 COMPLETED Computing Differential Methylation Table
2019-04-09 03:32:59     0.8  STATUS                 STARTED Computing Differential Methylation Tables (Region Level)
2019-04-09 03:33:00     0.9  STATUS                     Computed table for tiling
2019-04-09 03:33:00     0.9  STATUS                     Computed table for genes
2019-04-09 03:33:01     1.0  STATUS                     Computed table for promoters
2019-04-09 03:33:02     1.0  STATUS                     Computed table for cpgislands
2019-04-09 03:33:02     1.0  STATUS                 COMPLETED Computing Differential Methylation Tables (Region Level)
2019-04-09 03:33:02     1.0  STATUS             COMPLETED Comparing: hESC vs. hiPSC (based on Sample_Group)
2019-04-09 03:33:02     1.0  STATUS             STARTED Comparing: KOSR vs. TeSR (based on Treatment)
2019-04-09 03:33:03     1.0  STATUS                 STARTED Computing Differential Methylation Table
2019-04-09 03:33:03     1.0    INFO                     Conducting differential analysis using limma
2019-04-09 03:33:03     1.0  STATUS                 COMPLETED Computing Differential Methylation Table
2019-04-09 03:33:03     1.0  STATUS                 STARTED Computing Differential Methylation Tables (Region Level)
2019-04-09 03:33:04     1.0  STATUS                     Computed table for tiling
2019-04-09 03:33:06     1.0  STATUS                     Computed table for genes
2019-04-09 03:33:06     1.0  STATUS                     Computed table for promoters
2019-04-09 03:33:07     1.0  STATUS                     Computed table for cpgislands
2019-04-09 03:33:07     1.0  STATUS                 COMPLETED Computing Differential Methylation Tables (Region Level)
2019-04-09 03:33:07     1.0  STATUS             COMPLETED Comparing: KOSR vs. TeSR (based on Treatment)
2019-04-09 03:33:07     1.0  STATUS         COMPLETED Computing differential methylation tables
2019-04-09 03:33:08     1.0  STATUS     COMPLETED Testing function: rnb.execute.computeDiffMeth
2019-04-09 03:33:08     1.0  STATUS     STARTED Testing function: diffVar
2019-04-09 03:33:08     1.0  STATUS         STARTED diffVar method
2019-04-09 03:33:08     1.0  STATUS         COMPLETED diffVar method
2019-04-09 03:33:09     1.0  STATUS         STARTED diffVar method
Coefficients not estimable: x2x2 
2019-04-09 03:33:09     1.1  STATUS         COMPLETED diffVar method
2019-04-09 03:33:10     1.1  STATUS     COMPLETED Testing function: diffVar
2019-04-09 03:33:10     1.1  STATUS     STARTED Testing function: apply.iEVORA
2019-04-09 03:33:10     1.1  STATUS         STARTED iEVORA method
2019-04-09 03:33:12     1.2    INFO             No DVCs detected. All p-values set to 1.
2019-04-09 03:33:12     1.2  STATUS         COMPLETED iEVORA method
2019-04-09 03:33:13     1.2  STATUS         STARTED Testing function: rnb.execute.diffVar
2019-04-09 03:33:13     1.2  STATUS             STARTED Differential Variability
2019-04-09 03:33:13     1.2  STATUS                 STARTED Retrieving comparison info
2019-04-09 03:33:13     1.2  STATUS                 COMPLETED Retrieving comparison info
2019-04-09 03:33:14     1.2    INFO                 No imputation method selected, 'knn' method used.
2019-04-09 03:33:14     1.2  STATUS                 STARTED Imputation procedure knn 
2019-04-09 03:33:14     1.2  STATUS                 COMPLETED Imputation procedure knn 
2019-04-09 03:33:15     1.2  STATUS                 STARTED Comparing  hESC vs. hiPSC (based on Sample_Group)
2019-04-09 03:33:15     1.2    INFO                     Conducting differential variability using diffVar
2019-04-09 03:33:15     1.2  STATUS                     STARTED diffVar method
2019-04-09 03:33:15     1.2  STATUS                     COMPLETED diffVar method
2019-04-09 03:33:16     1.2  STATUS                     STARTED Computing Differential Variability Tables (Region Level)
2019-04-09 03:33:17     1.2  STATUS                         Computed table for tiling
2019-04-09 03:33:17     1.2  STATUS                         Computed table for genes
2019-04-09 03:33:18     1.2  STATUS                         Computed table for promoters
2019-04-09 03:33:18     1.2  STATUS                         Computed table for cpgislands
2019-04-09 03:33:18     1.2  STATUS                     COMPLETED Computing Differential Variability Tables (Region Level)
2019-04-09 03:33:18     1.2  STATUS                 COMPLETED Comparing  hESC vs. hiPSC (based on Sample_Group)
2019-04-09 03:33:19     1.2  STATUS                 STARTED Comparing  KOSR vs. TeSR (based on Treatment)
2019-04-09 03:33:19     1.2    INFO                     Conducting differential variability using diffVar
2019-04-09 03:33:19     1.2  STATUS                     STARTED diffVar method
2019-04-09 03:33:19     1.2  STATUS                     COMPLETED diffVar method
2019-04-09 03:33:20     1.2  STATUS                     STARTED Computing Differential Variability Tables (Region Level)
2019-04-09 03:33:21     1.2  STATUS                         Computed table for tiling
2019-04-09 03:33:21     1.2  STATUS                         Computed table for genes
2019-04-09 03:33:22     1.2  STATUS                         Computed table for promoters
2019-04-09 03:33:22     1.2  STATUS                         Computed table for cpgislands
2019-04-09 03:33:22     1.2  STATUS                     COMPLETED Computing Differential Variability Tables (Region Level)
2019-04-09 03:33:23     1.2  STATUS                 COMPLETED Comparing  KOSR vs. TeSR (based on Treatment)
2019-04-09 03:33:23     1.2  STATUS             COMPLETED Differential Variability
2019-04-09 03:33:23     1.2  STATUS         COMPLETED Testing function: rnb.execute.diffVar
2019-04-09 03:33:23     1.2  STATUS         STARTED Testing function: rnb.execute.computeDiffMeth and Variability
2019-04-09 03:33:24     1.2  STATUS             STARTED Retrieving comparison info
2019-04-09 03:33:24     1.2  STATUS             COMPLETED Retrieving comparison info
2019-04-09 03:33:24     1.2  STATUS             STARTED Computing differential methylation tables
2019-04-09 03:33:24     1.2  STATUS                 STARTED Comparing: hESC vs. hiPSC (based on Sample_Group)
2019-04-09 03:33:25     1.2  STATUS                     STARTED Computing Differential Methylation Table
2019-04-09 03:33:25     1.2    INFO                         Conducting differential analysis using limma
2019-04-09 03:33:25     1.2  STATUS                         STARTED Imputation procedure knn 
2019-04-09 03:33:25     1.2  STATUS                         COMPLETED Imputation procedure knn 
2019-04-09 03:33:26     1.2    INFO                         Conducting differential variability using diffVar
2019-04-09 03:33:26     1.2  STATUS                         STARTED diffVar method
2019-04-09 03:33:26     1.2  STATUS                         COMPLETED diffVar method
2019-04-09 03:33:27     1.2  STATUS                     COMPLETED Computing Differential Methylation Table
2019-04-09 03:33:27     1.2  STATUS                     STARTED Computing Differential Methylation Tables (Region Level)
2019-04-09 03:33:28     1.2  STATUS                         Computed table for tiling
2019-04-09 03:33:29     1.2  STATUS                         Computed table for genes
2019-04-09 03:33:30     1.2  STATUS                         Computed table for promoters
2019-04-09 03:33:30     1.2  STATUS                         Computed table for cpgislands
2019-04-09 03:33:30     1.2  STATUS                     COMPLETED Computing Differential Methylation Tables (Region Level)
2019-04-09 03:33:31     1.2  STATUS                 COMPLETED Comparing: hESC vs. hiPSC (based on Sample_Group)
2019-04-09 03:33:31     1.2  STATUS                 STARTED Comparing: KOSR vs. TeSR (based on Treatment)
2019-04-09 03:33:31     1.2  STATUS                     STARTED Computing Differential Methylation Table
2019-04-09 03:33:31     1.2    INFO                         Conducting differential analysis using limma
2019-04-09 03:33:32     1.2  STATUS                         STARTED Imputation procedure knn 
2019-04-09 03:33:32     1.2  STATUS                         COMPLETED Imputation procedure knn 
2019-04-09 03:33:32     1.2    INFO                         Conducting differential variability using diffVar
2019-04-09 03:33:32     1.2  STATUS                         STARTED diffVar method
2019-04-09 03:33:33     1.2  STATUS                         COMPLETED diffVar method
2019-04-09 03:33:34     1.1  STATUS                     COMPLETED Computing Differential Methylation Table
2019-04-09 03:33:34     1.1  STATUS                     STARTED Computing Differential Methylation Tables (Region Level)
2019-04-09 03:33:36     1.2  STATUS                         Computed table for tiling
2019-04-09 03:33:37     1.2  STATUS                         Computed table for genes
2019-04-09 03:33:37     1.2  STATUS                         Computed table for promoters
2019-04-09 03:33:38     1.2  STATUS                         Computed table for cpgislands
2019-04-09 03:33:38     1.2  STATUS                     COMPLETED Computing Differential Methylation Tables (Region Level)
2019-04-09 03:33:39     1.2  STATUS                 COMPLETED Comparing: KOSR vs. TeSR (based on Treatment)
2019-04-09 03:33:39     1.2  STATUS             COMPLETED Computing differential methylation tables
2019-04-09 03:33:39     1.2  STATUS         COMPLETED Testing function: rnb.execute.computeDiffMeth and Variability
2019-04-09 03:33:39     1.2  STATUS         STARTED Testing class: RnBDiffMeth
2019-04-09 03:33:40     1.2  STATUS             STARTED Retrieving comparison info
2019-04-09 03:33:40     1.2  STATUS             COMPLETED Retrieving comparison info
2019-04-09 03:33:40     1.2  STATUS             STARTED Computing differential methylation tables
2019-04-09 03:33:40     1.2  STATUS                 STARTED Comparing: hESC vs. hiPSC (based on Sample_Group)
2019-04-09 03:33:41     1.2  STATUS                     STARTED Computing Differential Methylation Table
2019-04-09 03:33:41     1.2    INFO                         Conducting differential analysis using limma
2019-04-09 03:33:41     1.2  STATUS                     COMPLETED Computing Differential Methylation Table
2019-04-09 03:33:41     1.2  STATUS                     STARTED Computing Differential Methylation Tables (Region Level)
2019-04-09 03:33:42     1.2  STATUS                         Computed table for tiling
2019-04-09 03:33:43     1.2  STATUS                         Computed table for genes
2019-04-09 03:33:44     1.2  STATUS                         Computed table for promoters
2019-04-09 03:33:44     1.2  STATUS                         Computed table for cpgislands
2019-04-09 03:33:44     1.2  STATUS                     COMPLETED Computing Differential Methylation Tables (Region Level)
2019-04-09 03:33:44     1.2  STATUS                 COMPLETED Comparing: hESC vs. hiPSC (based on Sample_Group)
2019-04-09 03:33:45     1.2  STATUS                 STARTED Comparing: KOSR vs. TeSR (based on Treatment)
2019-04-09 03:33:45     1.2  STATUS                     STARTED Computing Differential Methylation Table
2019-04-09 03:33:45     1.2    INFO                         Conducting differential analysis using limma
2019-04-09 03:33:45     1.2  STATUS                     COMPLETED Computing Differential Methylation Table
2019-04-09 03:33:46     1.2  STATUS                     STARTED Computing Differential Methylation Tables (Region Level)
2019-04-09 03:33:46     1.2  STATUS                         Computed table for tiling
2019-04-09 03:33:47     1.2  STATUS                         Computed table for genes
2019-04-09 03:33:48     1.2  STATUS                         Computed table for promoters
2019-04-09 03:33:48     1.2  STATUS                         Computed table for cpgislands
2019-04-09 03:33:48     1.2  STATUS                     COMPLETED Computing Differential Methylation Tables (Region Level)
2019-04-09 03:33:48     1.2  STATUS                 COMPLETED Comparing: KOSR vs. TeSR (based on Treatment)
2019-04-09 03:33:49     1.2  STATUS             COMPLETED Computing differential methylation tables
2019-04-09 03:33:49     1.2  STATUS             STARTED Retrieving comparison info
2019-04-09 03:33:49     1.2  STATUS             COMPLETED Retrieving comparison info
2019-04-09 03:33:49     1.2  STATUS             STARTED Computing differential methylation tables
2019-04-09 03:33:50     1.2  STATUS                 STARTED Comparing: hESC vs. hiPSC (based on Sample_Group)
2019-04-09 03:33:50     1.2  STATUS                     STARTED Computing Differential Methylation Table
2019-04-09 03:33:50     1.2    INFO                         Conducting differential analysis using limma
2019-04-09 03:33:50     1.2  STATUS                     COMPLETED Computing Differential Methylation Table
2019-04-09 03:33:51     1.2  STATUS                     STARTED Computing Differential Methylation Tables (Region Level)
2019-04-09 03:33:51     1.2  STATUS                         Computed table for genes
2019-04-09 03:33:52     1.2  STATUS                         Computed table for tiling
2019-04-09 03:33:52     1.2  STATUS                     COMPLETED Computing Differential Methylation Tables (Region Level)
2019-04-09 03:33:53     1.2  STATUS                 COMPLETED Comparing: hESC vs. hiPSC (based on Sample_Group)
2019-04-09 03:33:53     1.2  STATUS             COMPLETED Computing differential methylation tables
2019-04-09 03:33:53     1.2  STATUS             STARTED Retrieving comparison info
2019-04-09 03:33:53     1.2  STATUS             COMPLETED Retrieving comparison info
2019-04-09 03:33:53     1.2  STATUS             STARTED Computing differential methylation tables
2019-04-09 03:33:54     1.2  STATUS                 STARTED Comparing: hESC vs. hiPSC (based on Sample_Group)
2019-04-09 03:33:54     1.2  STATUS                     STARTED Computing Differential Methylation Table
2019-04-09 03:33:54     1.2    INFO                         Conducting differential analysis using limma
2019-04-09 03:33:54     1.3  STATUS                     COMPLETED Computing Differential Methylation Table
2019-04-09 03:33:55     1.3  STATUS                     STARTED Computing Differential Methylation Tables (Region Level)
2019-04-09 03:33:55     1.3  STATUS                         Computed table for genes
2019-04-09 03:33:56     1.2  STATUS                         Computed table for tiling
2019-04-09 03:33:57     1.2  STATUS                     COMPLETED Computing Differential Methylation Tables (Region Level)
2019-04-09 03:33:57     1.2  STATUS                 COMPLETED Comparing: hESC vs. hiPSC (based on Sample_Group)
2019-04-09 03:33:57     1.2  STATUS             COMPLETED Computing differential methylation tables
2019-04-09 03:33:57     1.2  STATUS             STARTED Retrieving comparison info
2019-04-09 03:33:58     1.2  STATUS             COMPLETED Retrieving comparison info
2019-04-09 03:33:58     1.2  STATUS             STARTED Computing differential methylation tables
2019-04-09 03:33:58     1.2  STATUS                 STARTED Comparing: hESC vs. hiPSC (based on Sample_Group)
2019-04-09 03:33:58     1.2  STATUS                     STARTED Computing Differential Methylation Table
2019-04-09 03:33:59     1.2    INFO                         Conducting differential analysis using limma
2019-04-09 03:33:59     1.2  STATUS                     COMPLETED Computing Differential Methylation Table
2019-04-09 03:33:59     1.2  STATUS                     STARTED Computing Differential Methylation Tables (Region Level)
2019-04-09 03:34:00     1.2  STATUS                         Computed table for promoters
2019-04-09 03:34:00     1.2  STATUS                     COMPLETED Computing Differential Methylation Tables (Region Level)
2019-04-09 03:34:00     1.2  STATUS                 COMPLETED Comparing: hESC vs. hiPSC (based on Sample_Group)
2019-04-09 03:34:00     1.2  STATUS                 STARTED Comparing: KOSR vs. TeSR (based on Treatment)
2019-04-09 03:34:01     1.2  STATUS                     STARTED Computing Differential Methylation Table
2019-04-09 03:34:01     1.3    INFO                         Conducting differential analysis using limma
2019-04-09 03:34:01     1.3  STATUS                     COMPLETED Computing Differential Methylation Table
2019-04-09 03:34:02     1.3  STATUS                     STARTED Computing Differential Methylation Tables (Region Level)
2019-04-09 03:34:02     1.3  STATUS                         Computed table for promoters
2019-04-09 03:34:02     1.3  STATUS                     COMPLETED Computing Differential Methylation Tables (Region Level)
2019-04-09 03:34:03     1.3  STATUS                 COMPLETED Comparing: KOSR vs. TeSR (based on Treatment)
2019-04-09 03:34:03     1.3  STATUS             COMPLETED Computing differential methylation tables
2019-04-09 03:34:03     1.3  STATUS             STARTED Retrieving comparison info
2019-04-09 03:34:04     1.3  STATUS             COMPLETED Retrieving comparison info
2019-04-09 03:34:04     1.3  STATUS             STARTED Computing differential methylation tables
2019-04-09 03:34:04     1.3  STATUS                 STARTED Comparing: KOSR vs. TeSR (based on Treatment)
2019-04-09 03:34:04     1.3  STATUS                     STARTED Computing Differential Methylation Table
2019-04-09 03:34:05     1.3    INFO                         Conducting differential analysis using limma
2019-04-09 03:34:05     1.3  STATUS                     COMPLETED Computing Differential Methylation Table
2019-04-09 03:34:05     1.3  STATUS                     STARTED Computing Differential Methylation Tables (Region Level)
2019-04-09 03:34:05     1.3  STATUS                         Computed table for genes
2019-04-09 03:34:06     1.3  STATUS                         Computed table for tiling
2019-04-09 03:34:07     1.3  STATUS                     COMPLETED Computing Differential Methylation Tables (Region Level)
2019-04-09 03:34:07     1.3  STATUS                 COMPLETED Comparing: KOSR vs. TeSR (based on Treatment)
2019-04-09 03:34:07     1.3  STATUS             COMPLETED Computing differential methylation tables
2019-04-09 03:34:07     1.3  STATUS             STARTED Testing function: get.region.types
2019-04-09 03:34:08     1.3  STATUS             COMPLETED Testing function: get.region.types
2019-04-09 03:34:08     1.3  STATUS             STARTED Testing function: get.comparisons
2019-04-09 03:34:08     1.3  STATUS             COMPLETED Testing function: get.comparisons
2019-04-09 03:34:08     1.3  STATUS             STARTED Testing function: get.comparison.grouplabels
2019-04-09 03:34:08     1.3  STATUS             COMPLETED Testing function: get.comparison.grouplabels
2019-04-09 03:34:09     1.3  STATUS             STARTED Testing function: get.site.test.method
2019-04-09 03:34:09     1.3  STATUS             COMPLETED Testing function: get.site.test.method
2019-04-09 03:34:09     1.3  STATUS             STARTED Testing function: get.table
2019-04-09 03:34:09     1.3  STATUS             COMPLETED Testing function: get.table
2019-04-09 03:34:10     1.3  STATUS             STARTED Testing function: addDiffMethTable
2019-04-09 03:34:10     1.3    INFO                 Conducting differential analysis using limma
2019-04-09 03:34:10     1.3  STATUS             COMPLETED Testing function: addDiffMethTable
2019-04-09 03:34:11     1.3  STATUS             STARTED Testing functions: join.diffMeth, is.valid
2019-04-09 03:34:11     1.3  STATUS             COMPLETED Testing functions: join.diffMeth, is.valid
2019-04-09 03:34:11     1.3  STATUS             STARTED Destructor
2019-04-09 03:34:12     1.3  STATUS                 STARTED Deleting RnBDiffMeth disk dump files from disk
2019-04-09 03:34:12     1.3  STATUS                 COMPLETED Deleting RnBDiffMeth disk dump files from disk
2019-04-09 03:34:12     1.3  STATUS                 STARTED Deleting RnBDiffMeth disk dump files from disk
2019-04-09 03:34:12     1.3  STATUS                 COMPLETED Deleting RnBDiffMeth disk dump files from disk
2019-04-09 03:34:13     1.3  STATUS                 STARTED Deleting RnBDiffMeth disk dump files from disk
2019-04-09 03:34:13     1.3  STATUS                 COMPLETED Deleting RnBDiffMeth disk dump files from disk
2019-04-09 03:34:13     1.3  STATUS                 STARTED Deleting RnBDiffMeth disk dump files from disk
2019-04-09 03:34:13     1.3  STATUS                 COMPLETED Deleting RnBDiffMeth disk dump files from disk
2019-04-09 03:34:13     1.3  STATUS             COMPLETED Destructor
2019-04-09 03:34:14     1.3  STATUS         COMPLETED Testing class: RnBDiffMeth
2019-04-09 03:34:14     1.3  STATUS     COMPLETED Testing function: apply.iEVORA
2019-04-09 03:34:14     1.3  STATUS     STARTED Retrieving comparison info
2019-04-09 03:34:14     1.3  STATUS     COMPLETED Retrieving comparison info
2019-04-09 03:34:15     1.3  STATUS     STARTED Computing differential methylation tables
2019-04-09 03:34:15     1.3  STATUS         STARTED Comparing: hESC vs. hiPSC (based on Sample_Group)
2019-04-09 03:34:15     1.3  STATUS             STARTED Computing Differential Methylation Table
2019-04-09 03:34:15     1.3    INFO                 Conducting differential analysis using limma
2019-04-09 03:34:16     1.3  STATUS             COMPLETED Computing Differential Methylation Table
2019-04-09 03:34:16     1.3  STATUS             STARTED Computing Differential Methylation Tables (Region Level)
2019-04-09 03:34:17     1.3  STATUS                 Computed table for tiling
2019-04-09 03:34:17     1.3  STATUS                 Computed table for genes
2019-04-09 03:34:18     1.3  STATUS                 Computed table for promoters
2019-04-09 03:34:18     1.3  STATUS                 Computed table for cpgislands
2019-04-09 03:34:18     1.3  STATUS             COMPLETED Computing Differential Methylation Tables (Region Level)
2019-04-09 03:34:18     1.3  STATUS         COMPLETED Comparing: hESC vs. hiPSC (based on Sample_Group)
2019-04-09 03:34:19     1.3  STATUS         STARTED Comparing: KOSR vs. TeSR (based on Treatment)
2019-04-09 03:34:19     1.3  STATUS             STARTED Computing Differential Methylation Table
2019-04-09 03:34:19     1.3    INFO                 Conducting differential analysis using limma
2019-04-09 03:34:19     1.3  STATUS             COMPLETED Computing Differential Methylation Table
2019-04-09 03:34:19     1.3  STATUS             STARTED Computing Differential Methylation Tables (Region Level)
2019-04-09 03:34:20     1.3  STATUS                 Computed table for tiling
2019-04-09 03:34:20     1.3  STATUS                 Computed table for genes
2019-04-09 03:34:21     1.3  STATUS                 Computed table for promoters
2019-04-09 03:34:21     1.3  STATUS                 Computed table for cpgislands
2019-04-09 03:34:21     1.3  STATUS             COMPLETED Computing Differential Methylation Tables (Region Level)
2019-04-09 03:34:22     1.3  STATUS         COMPLETED Comparing: KOSR vs. TeSR (based on Treatment)
2019-04-09 03:34:22     1.3  STATUS     COMPLETED Computing differential methylation tables
2019-04-09 03:34:22     1.3  STATUS     STARTED Retrieving comparison info
2019-04-09 03:34:22     1.3  STATUS     COMPLETED Retrieving comparison info
2019-04-09 03:34:22     1.3  STATUS     STARTED Computing differential methylation tables
2019-04-09 03:34:23     1.3  STATUS         STARTED Comparing: hESC vs. hiPSC (based on Sample_Group)
2019-04-09 03:34:23     1.3  STATUS             STARTED Computing Differential Methylation Table
2019-04-09 03:34:23     1.3    INFO                 Conducting differential analysis using limma
2019-04-09 03:34:23     1.3  STATUS             COMPLETED Computing Differential Methylation Table
2019-04-09 03:34:23     1.3  STATUS             STARTED Computing Differential Methylation Tables (Region Level)
2019-04-09 03:34:24     1.3  STATUS                 Computed table for genes
2019-04-09 03:34:24     1.3  STATUS                 Computed table for tiling
2019-04-09 03:34:25     1.3  STATUS             COMPLETED Computing Differential Methylation Tables (Region Level)
2019-04-09 03:34:25     1.3  STATUS         COMPLETED Comparing: hESC vs. hiPSC (based on Sample_Group)
2019-04-09 03:34:25     1.3  STATUS     COMPLETED Computing differential methylation tables
2019-04-09 03:34:25     1.3  STATUS     STARTED Retrieving comparison info
2019-04-09 03:34:25     1.3  STATUS     COMPLETED Retrieving comparison info
2019-04-09 03:34:26     1.3  STATUS     STARTED Computing differential methylation tables
2019-04-09 03:34:26     1.3  STATUS         STARTED Comparing: hESC vs. hiPSC (based on Sample_Group)
2019-04-09 03:34:26     1.3  STATUS             STARTED Computing Differential Methylation Table
2019-04-09 03:34:26     1.3    INFO                 Conducting differential analysis using limma
2019-04-09 03:34:26     1.3  STATUS             COMPLETED Computing Differential Methylation Table
2019-04-09 03:34:26     1.3  STATUS             STARTED Computing Differential Methylation Tables (Region Level)
2019-04-09 03:34:27     1.3  STATUS                 Computed table for genes
2019-04-09 03:34:28     1.3  STATUS                 Computed table for tiling
2019-04-09 03:34:28     1.3  STATUS             COMPLETED Computing Differential Methylation Tables (Region Level)
2019-04-09 03:34:28     1.3  STATUS         COMPLETED Comparing: hESC vs. hiPSC (based on Sample_Group)
2019-04-09 03:34:28     1.3  STATUS     COMPLETED Computing differential methylation tables
2019-04-09 03:34:28     1.3  STATUS     STARTED Retrieving comparison info
2019-04-09 03:34:28     1.3  STATUS     COMPLETED Retrieving comparison info
2019-04-09 03:34:29     1.3  STATUS     STARTED Computing differential methylation tables
2019-04-09 03:34:29     1.3  STATUS         STARTED Comparing: hESC vs. hiPSC (based on Sample_Group)
2019-04-09 03:34:29     1.3  STATUS             STARTED Computing Differential Methylation Table
2019-04-09 03:34:29     1.3    INFO                 Conducting differential analysis using limma
2019-04-09 03:34:29     1.3  STATUS             COMPLETED Computing Differential Methylation Table
2019-04-09 03:34:30     1.3  STATUS             STARTED Computing Differential Methylation Tables (Region Level)
2019-04-09 03:34:30     1.3  STATUS                 Computed table for promoters
2019-04-09 03:34:30     1.3  STATUS             COMPLETED Computing Differential Methylation Tables (Region Level)
2019-04-09 03:34:30     1.3  STATUS         COMPLETED Comparing: hESC vs. hiPSC (based on Sample_Group)
2019-04-09 03:34:31     1.3  STATUS         STARTED Comparing: KOSR vs. TeSR (based on Treatment)
2019-04-09 03:34:31     1.3  STATUS             STARTED Computing Differential Methylation Table
2019-04-09 03:34:31     1.3    INFO                 Conducting differential analysis using limma
2019-04-09 03:34:31     1.3  STATUS             COMPLETED Computing Differential Methylation Table
2019-04-09 03:34:31     1.3  STATUS             STARTED Computing Differential Methylation Tables (Region Level)
2019-04-09 03:34:32     1.3  STATUS                 Computed table for promoters
2019-04-09 03:34:32     1.3  STATUS             COMPLETED Computing Differential Methylation Tables (Region Level)
2019-04-09 03:34:32     1.3  STATUS         COMPLETED Comparing: KOSR vs. TeSR (based on Treatment)
2019-04-09 03:34:32     1.3  STATUS     COMPLETED Computing differential methylation tables
2019-04-09 03:34:32     1.3  STATUS     STARTED Retrieving comparison info
2019-04-09 03:34:33     1.3  STATUS     COMPLETED Retrieving comparison info
2019-04-09 03:34:33     1.3  STATUS     STARTED Computing differential methylation tables
2019-04-09 03:34:33     1.3  STATUS         STARTED Comparing: KOSR vs. TeSR (based on Treatment)
2019-04-09 03:34:33     1.3  STATUS             STARTED Computing Differential Methylation Table
2019-04-09 03:34:33     1.3    INFO                 Conducting differential analysis using limma
2019-04-09 03:34:34     1.3  STATUS             COMPLETED Computing Differential Methylation Table
2019-04-09 03:34:34     1.3  STATUS             STARTED Computing Differential Methylation Tables (Region Level)
2019-04-09 03:34:34     1.3  STATUS                 Computed table for genes
2019-04-09 03:34:35     1.3  STATUS                 Computed table for tiling
2019-04-09 03:34:35     1.3  STATUS             COMPLETED Computing Differential Methylation Tables (Region Level)
2019-04-09 03:34:35     1.3  STATUS         COMPLETED Comparing: KOSR vs. TeSR (based on Treatment)
2019-04-09 03:34:36     1.3  STATUS     COMPLETED Computing differential methylation tables
2019-04-09 03:34:36     1.3  STATUS     STARTED Testing function: get.region.types
2019-04-09 03:34:36     1.3  STATUS     COMPLETED Testing function: get.region.types
2019-04-09 03:34:36     1.3  STATUS     STARTED Testing function: get.comparisons
2019-04-09 03:34:36     1.3  STATUS     COMPLETED Testing function: get.comparisons
2019-04-09 03:34:37     1.3  STATUS     STARTED Testing function: get.comparison.grouplabels
2019-04-09 03:34:37     1.3  STATUS     COMPLETED Testing function: get.comparison.grouplabels
2019-04-09 03:34:37     1.3  STATUS     STARTED Testing function: get.site.test.method
2019-04-09 03:34:37     1.3  STATUS     COMPLETED Testing function: get.site.test.method
2019-04-09 03:34:37     1.3  STATUS     STARTED Testing function: get.table
2019-04-09 03:34:38     1.3  STATUS     COMPLETED Testing function: get.table
2019-04-09 03:34:38     1.3  STATUS     STARTED Testing function: addDiffMethTable
2019-04-09 03:34:38     1.3    INFO         Conducting differential analysis using limma
2019-04-09 03:34:39     1.3  STATUS     COMPLETED Testing function: addDiffMethTable
2019-04-09 03:34:39     1.3  STATUS     STARTED Testing functions: join.diffMeth, is.valid
2019-04-09 03:34:39     1.3  STATUS     COMPLETED Testing functions: join.diffMeth, is.valid
2019-04-09 03:34:39     1.3  STATUS     STARTED Destructor
2019-04-09 03:34:39     1.3  STATUS         STARTED Deleting RnBDiffMeth disk dump files from disk
2019-04-09 03:34:40     1.3  STATUS         COMPLETED Deleting RnBDiffMeth disk dump files from disk
2019-04-09 03:34:40     1.3  STATUS         STARTED Deleting RnBDiffMeth disk dump files from disk
2019-04-09 03:34:40     1.3  STATUS         COMPLETED Deleting RnBDiffMeth disk dump files from disk
2019-04-09 03:34:40     1.3  STATUS         STARTED Deleting RnBDiffMeth disk dump files from disk
2019-04-09 03:34:41     1.3  STATUS         COMPLETED Deleting RnBDiffMeth disk dump files from disk
2019-04-09 03:34:41     1.3  STATUS         STARTED Deleting RnBDiffMeth disk dump files from disk
2019-04-09 03:34:41     1.3  STATUS         COMPLETED Deleting RnBDiffMeth disk dump files from disk
2019-04-09 03:34:41     1.3  STATUS     COMPLETED Destructor
2019-04-09 03:34:41     1.3    INFO     Conducting differential analysis using limma
2019-04-09 03:34:42     1.3    INFO     Conducting differential analysis using limma
2019-04-09 03:34:42     1.3  STATUS     STARTED diffVar method
2019-04-09 03:34:43     1.3  STATUS     COMPLETED diffVar method
2019-04-09 03:34:43     1.3  STATUS     STARTED diffVar method
Coefficients not estimable: x2x2 
2019-04-09 03:34:43     1.3  STATUS     COMPLETED diffVar method
2019-04-09 03:34:44     1.3  STATUS STARTED Unit testing: differential
2019-04-09 03:34:44     1.3  STATUS     STARTED Testing function: rowWelchP
2019-04-09 03:34:44     1.3  STATUS     COMPLETED Testing function: rowWelchP
2019-04-09 03:34:44     1.3  STATUS     STARTED Testing function: limmaP
2019-04-09 03:34:45     1.3  STATUS     COMPLETED Testing function: limmaP
2019-04-09 03:34:45     1.3  STATUS     STARTED Testing function: computeDiffTab.extended.site
2019-04-09 03:34:45     1.3    INFO         Conducting differential analysis using limma
2019-04-09 03:34:45     1.3  STATUS     COMPLETED Testing function: computeDiffTab.extended.site
2019-04-09 03:34:46     1.3  STATUS     STARTED Testing function: computeDiffTab.default.region
2019-04-09 03:34:46     1.3    INFO         Conducting differential analysis using limma
2019-04-09 03:34:46     1.3  STATUS     COMPLETED Testing function: computeDiffTab.default.region
2019-04-09 03:34:47     1.3  STATUS     STARTED Testing function: combineTestPvalsMeth
2019-04-09 03:34:47     1.3  STATUS     COMPLETED Testing function: combineTestPvalsMeth
2019-04-09 03:34:47     1.3  STATUS     STARTED Testing function: get.adjustment.variables
2019-04-09 03:34:48     1.3  STATUS     COMPLETED Testing function: get.adjustment.variables
2019-04-09 03:34:48     1.3  STATUS     STARTED Testing function: get.comparison.info
2019-04-09 03:34:48     1.3  STATUS     COMPLETED Testing function: get.comparison.info
2019-04-09 03:34:49     1.3  STATUS     STARTED Testing function: rnb.execute.computeDiffMeth
2019-04-09 03:34:49     1.3  STATUS         STARTED Retrieving comparison info
2019-04-09 03:34:49     1.3  STATUS         COMPLETED Retrieving comparison info
2019-04-09 03:34:49     1.3  STATUS         STARTED Computing differential methylation tables
2019-04-09 03:34:49     1.3  STATUS             STARTED Comparing: hESC vs. hiPSC (based on Sample_Group)
2019-04-09 03:34:50     1.3  STATUS                 STARTED Computing Differential Methylation Table
2019-04-09 03:34:50     1.3    INFO                     Conducting differential analysis using limma
2019-04-09 03:34:50     1.3  STATUS                 COMPLETED Computing Differential Methylation Table
2019-04-09 03:34:50     1.3  STATUS                 STARTED Computing Differential Methylation Tables (Region Level)
2019-04-09 03:34:51     1.3  STATUS                     Computed table for tiling
2019-04-09 03:34:52     1.3  STATUS                     Computed table for genes
2019-04-09 03:34:52     1.3  STATUS                     Computed table for promoters
2019-04-09 03:34:53     1.3  STATUS                     Computed table for cpgislands
2019-04-09 03:34:53     1.3  STATUS                 COMPLETED Computing Differential Methylation Tables (Region Level)
2019-04-09 03:34:53     1.3  STATUS             COMPLETED Comparing: hESC vs. hiPSC (based on Sample_Group)
2019-04-09 03:34:54     1.3  STATUS             STARTED Comparing: KOSR vs. TeSR (based on Treatment)
2019-04-09 03:34:54     1.3  STATUS                 STARTED Computing Differential Methylation Table
2019-04-09 03:34:54     1.3    INFO                     Conducting differential analysis using limma
2019-04-09 03:34:54     1.3  STATUS                 COMPLETED Computing Differential Methylation Table
2019-04-09 03:34:54     1.3  STATUS                 STARTED Computing Differential Methylation Tables (Region Level)
2019-04-09 03:34:55     1.3  STATUS                     Computed table for tiling
2019-04-09 03:34:56     1.3  STATUS                     Computed table for genes
2019-04-09 03:34:57     1.3  STATUS                     Computed table for promoters
2019-04-09 03:34:57     1.3  STATUS                     Computed table for cpgislands
2019-04-09 03:34:57     1.3  STATUS                 COMPLETED Computing Differential Methylation Tables (Region Level)
2019-04-09 03:34:58     1.3  STATUS             COMPLETED Comparing: KOSR vs. TeSR (based on Treatment)
2019-04-09 03:34:58     1.3  STATUS         COMPLETED Computing differential methylation tables
2019-04-09 03:34:58     1.3  STATUS     COMPLETED Testing function: rnb.execute.computeDiffMeth
2019-04-09 03:34:58     1.3  STATUS     STARTED Testing function: diffVar
2019-04-09 03:34:59     1.3  STATUS         STARTED diffVar method
2019-04-09 03:34:59     1.3  STATUS         COMPLETED diffVar method
2019-04-09 03:34:59     1.3  STATUS         STARTED diffVar method
Coefficients not estimable: x2x2 
2019-04-09 03:35:00     1.3  STATUS         COMPLETED diffVar method
2019-04-09 03:35:00     1.3  STATUS     COMPLETED Testing function: diffVar
2019-04-09 03:35:00     1.3  STATUS     STARTED Testing function: apply.iEVORA
2019-04-09 03:35:00     1.3  STATUS         STARTED iEVORA method
2019-04-09 03:35:02     1.3    INFO             No DVCs detected. All p-values set to 1.
2019-04-09 03:35:03     1.3  STATUS         COMPLETED iEVORA method
2019-04-09 03:35:03     1.3  STATUS         STARTED Testing function: rnb.execute.diffVar
2019-04-09 03:35:03     1.3  STATUS             STARTED Differential Variability
2019-04-09 03:35:03     1.3  STATUS                 STARTED Retrieving comparison info
2019-04-09 03:35:04     1.3  STATUS                 COMPLETED Retrieving comparison info
2019-04-09 03:35:04     1.3  STATUS                 STARTED Imputation procedure knn 
2019-04-09 03:35:04     1.3  STATUS                 COMPLETED Imputation procedure knn 
2019-04-09 03:35:04     1.3  STATUS                 STARTED Comparing  hESC vs. hiPSC (based on Sample_Group)
2019-04-09 03:35:05     1.3    INFO                     Conducting differential variability using diffVar
2019-04-09 03:35:05     1.3  STATUS                     STARTED diffVar method
2019-04-09 03:35:05     1.3  STATUS                     COMPLETED diffVar method
2019-04-09 03:35:06     1.3  STATUS                     STARTED Computing Differential Variability Tables (Region Level)
2019-04-09 03:35:07     1.3  STATUS                         Computed table for tiling
2019-04-09 03:35:07     1.3  STATUS                         Computed table for genes
2019-04-09 03:35:08     1.3  STATUS                         Computed table for promoters
2019-04-09 03:35:08     1.3  STATUS                         Computed table for cpgislands
2019-04-09 03:35:08     1.3  STATUS                     COMPLETED Computing Differential Variability Tables (Region Level)
2019-04-09 03:35:09     1.3  STATUS                 COMPLETED Comparing  hESC vs. hiPSC (based on Sample_Group)
2019-04-09 03:35:09     1.3  STATUS                 STARTED Comparing  KOSR vs. TeSR (based on Treatment)
2019-04-09 03:35:09     1.3    INFO                     Conducting differential variability using diffVar
2019-04-09 03:35:09     1.3  STATUS                     STARTED diffVar method
2019-04-09 03:35:10     1.3  STATUS                     COMPLETED diffVar method
2019-04-09 03:35:10     1.3  STATUS                     STARTED Computing Differential Variability Tables (Region Level)
2019-04-09 03:35:11     1.3  STATUS                         Computed table for tiling
2019-04-09 03:35:11     1.3  STATUS                         Computed table for genes
2019-04-09 03:35:12     1.3  STATUS                         Computed table for promoters
2019-04-09 03:35:12     1.3  STATUS                         Computed table for cpgislands
2019-04-09 03:35:13     1.3  STATUS                     COMPLETED Computing Differential Variability Tables (Region Level)
2019-04-09 03:35:13     1.3  STATUS                 COMPLETED Comparing  KOSR vs. TeSR (based on Treatment)
2019-04-09 03:35:13     1.3  STATUS             COMPLETED Differential Variability
2019-04-09 03:35:13     1.3  STATUS         COMPLETED Testing function: rnb.execute.diffVar
2019-04-09 03:35:14     1.3  STATUS         STARTED Testing function: rnb.execute.computeDiffMeth and Variability
2019-04-09 03:35:14     1.3  STATUS             STARTED Retrieving comparison info
2019-04-09 03:35:14     1.3  STATUS             COMPLETED Retrieving comparison info
2019-04-09 03:35:15     1.3  STATUS             STARTED Computing differential methylation tables
2019-04-09 03:35:15     1.3  STATUS                 STARTED Comparing: hESC vs. hiPSC (based on Sample_Group)
2019-04-09 03:35:15     1.3  STATUS                     STARTED Computing Differential Methylation Table
2019-04-09 03:35:15     1.3    INFO                         Conducting differential analysis using limma
2019-04-09 03:35:16     1.3  STATUS                         STARTED Imputation procedure knn 
2019-04-09 03:35:16     1.3  STATUS                         COMPLETED Imputation procedure knn 
2019-04-09 03:35:16     1.3    INFO                         Conducting differential variability using diffVar
2019-04-09 03:35:16     1.3  STATUS                         STARTED diffVar method
2019-04-09 03:35:17     1.3  STATUS                         COMPLETED diffVar method
2019-04-09 03:35:17     1.3  STATUS                     COMPLETED Computing Differential Methylation Table
2019-04-09 03:35:18     1.3  STATUS                     STARTED Computing Differential Methylation Tables (Region Level)
2019-04-09 03:35:19     1.3  STATUS                         Computed table for tiling
2019-04-09 03:35:20     1.3  STATUS                         Computed table for genes
2019-04-09 03:35:21     1.3  STATUS                         Computed table for promoters
2019-04-09 03:35:21     1.3  STATUS                         Computed table for cpgislands
2019-04-09 03:35:22     1.3  STATUS                     COMPLETED Computing Differential Methylation Tables (Region Level)
2019-04-09 03:35:22     1.3  STATUS                 COMPLETED Comparing: hESC vs. hiPSC (based on Sample_Group)
2019-04-09 03:35:22     1.3  STATUS                 STARTED Comparing: KOSR vs. TeSR (based on Treatment)
2019-04-09 03:35:22     1.3  STATUS                     STARTED Computing Differential Methylation Table
2019-04-09 03:35:23     1.3    INFO                         Conducting differential analysis using limma
2019-04-09 03:35:23     1.3  STATUS                         STARTED Imputation procedure knn 
2019-04-09 03:35:23     1.3  STATUS                         COMPLETED Imputation procedure knn 
2019-04-09 03:35:23     1.3    INFO                         Conducting differential variability using diffVar
2019-04-09 03:35:24     1.3  STATUS                         STARTED diffVar method
2019-04-09 03:35:24     1.3  STATUS                         COMPLETED diffVar method
2019-04-09 03:35:25     1.3  STATUS                     COMPLETED Computing Differential Methylation Table
2019-04-09 03:35:25     1.3  STATUS                     STARTED Computing Differential Methylation Tables (Region Level)
2019-04-09 03:35:26     1.3  STATUS                         Computed table for tiling
2019-04-09 03:35:27     1.3  STATUS                         Computed table for genes
2019-04-09 03:35:28     1.3  STATUS                         Computed table for promoters
2019-04-09 03:35:29     1.3  STATUS                         Computed table for cpgislands
2019-04-09 03:35:29     1.3  STATUS                     COMPLETED Computing Differential Methylation Tables (Region Level)
2019-04-09 03:35:29     1.3  STATUS                 COMPLETED Comparing: KOSR vs. TeSR (based on Treatment)
2019-04-09 03:35:30     1.3  STATUS             COMPLETED Computing differential methylation tables
2019-04-09 03:35:30     1.3  STATUS         COMPLETED Testing function: rnb.execute.computeDiffMeth and Variability
2019-04-09 03:35:30     1.3  STATUS         STARTED Testing class: RnBDiffMeth
2019-04-09 03:35:30     1.3  STATUS             STARTED Retrieving comparison info
2019-04-09 03:35:31     1.3  STATUS             COMPLETED Retrieving comparison info
2019-04-09 03:35:31     1.3  STATUS             STARTED Computing differential methylation tables
2019-04-09 03:35:31     1.3  STATUS                 STARTED Comparing: hESC vs. hiPSC (based on Sample_Group)
2019-04-09 03:35:31     1.3  STATUS                     STARTED Computing Differential Methylation Table
2019-04-09 03:35:32     1.3    INFO                         Conducting differential analysis using limma
2019-04-09 03:35:32     1.3  STATUS                     COMPLETED Computing Differential Methylation Table
2019-04-09 03:35:32     1.3  STATUS                     STARTED Computing Differential Methylation Tables (Region Level)
2019-04-09 03:35:33     1.3  STATUS                         Computed table for tiling
2019-04-09 03:35:34     1.3  STATUS                         Computed table for genes
2019-04-09 03:35:35     1.3  STATUS                         Computed table for promoters
2019-04-09 03:35:35     1.3  STATUS                         Computed table for cpgislands
2019-04-09 03:35:35     1.3  STATUS                     COMPLETED Computing Differential Methylation Tables (Region Level)
2019-04-09 03:35:36     1.3  STATUS                 COMPLETED Comparing: hESC vs. hiPSC (based on Sample_Group)
2019-04-09 03:35:36     1.3  STATUS                 STARTED Comparing: KOSR vs. TeSR (based on Treatment)
2019-04-09 03:35:36     1.3  STATUS                     STARTED Computing Differential Methylation Table
2019-04-09 03:35:36     1.3    INFO                         Conducting differential analysis using limma
2019-04-09 03:35:37     1.3  STATUS                     COMPLETED Computing Differential Methylation Table
2019-04-09 03:35:37     1.3  STATUS                     STARTED Computing Differential Methylation Tables (Region Level)
2019-04-09 03:35:38     1.3  STATUS                         Computed table for tiling
2019-04-09 03:35:38     1.3  STATUS                         Computed table for genes
2019-04-09 03:35:39     1.3  STATUS                         Computed table for promoters
2019-04-09 03:35:39     1.3  STATUS                         Computed table for cpgislands
2019-04-09 03:35:39     1.3  STATUS                     COMPLETED Computing Differential Methylation Tables (Region Level)
2019-04-09 03:35:40     1.3  STATUS                 COMPLETED Comparing: KOSR vs. TeSR (based on Treatment)
2019-04-09 03:35:40     1.3  STATUS             COMPLETED Computing differential methylation tables
2019-04-09 03:35:40     1.3  STATUS             STARTED Retrieving comparison info
2019-04-09 03:35:40     1.3  STATUS             COMPLETED Retrieving comparison info
2019-04-09 03:35:41     1.3  STATUS             STARTED Computing differential methylation tables
2019-04-09 03:35:41     1.3  STATUS                 STARTED Comparing: hESC vs. hiPSC (based on Sample_Group)
2019-04-09 03:35:41     1.3  STATUS                     STARTED Computing Differential Methylation Table
2019-04-09 03:35:41     1.3    INFO                         Conducting differential analysis using limma
2019-04-09 03:35:42     1.3  STATUS                     COMPLETED Computing Differential Methylation Table
2019-04-09 03:35:42     1.3  STATUS                     STARTED Computing Differential Methylation Tables (Region Level)
2019-04-09 03:35:43     1.3  STATUS                         Computed table for genes
2019-04-09 03:35:44     1.3  STATUS                         Computed table for tiling
2019-04-09 03:35:44     1.3  STATUS                     COMPLETED Computing Differential Methylation Tables (Region Level)
2019-04-09 03:35:44     1.3  STATUS                 COMPLETED Comparing: hESC vs. hiPSC (based on Sample_Group)
2019-04-09 03:35:45     1.3  STATUS             COMPLETED Computing differential methylation tables
2019-04-09 03:35:45     1.3  STATUS             STARTED Retrieving comparison info
2019-04-09 03:35:45     1.3  STATUS             COMPLETED Retrieving comparison info
2019-04-09 03:35:45     1.3  STATUS             STARTED Computing differential methylation tables
2019-04-09 03:35:46     1.3  STATUS                 STARTED Comparing: hESC vs. hiPSC (based on Sample_Group)
2019-04-09 03:35:46     1.3  STATUS                     STARTED Computing Differential Methylation Table
2019-04-09 03:35:46     1.3    INFO                         Conducting differential analysis using limma
2019-04-09 03:35:47     1.3  STATUS                     COMPLETED Computing Differential Methylation Table
2019-04-09 03:35:47     1.3  STATUS                     STARTED Computing Differential Methylation Tables (Region Level)
2019-04-09 03:35:48     1.3  STATUS                         Computed table for genes
2019-04-09 03:35:49     1.3  STATUS                         Computed table for tiling
2019-04-09 03:35:49     1.3  STATUS                     COMPLETED Computing Differential Methylation Tables (Region Level)
2019-04-09 03:35:49     1.3  STATUS                 COMPLETED Comparing: hESC vs. hiPSC (based on Sample_Group)
2019-04-09 03:35:49     1.3  STATUS             COMPLETED Computing differential methylation tables
2019-04-09 03:35:50     1.3  STATUS             STARTED Retrieving comparison info
2019-04-09 03:35:50     1.3  STATUS             COMPLETED Retrieving comparison info
2019-04-09 03:35:50     1.3  STATUS             STARTED Computing differential methylation tables
2019-04-09 03:35:51     1.3  STATUS                 STARTED Comparing: hESC vs. hiPSC (based on Sample_Group)
2019-04-09 03:35:51     1.3  STATUS                     STARTED Computing Differential Methylation Table
2019-04-09 03:35:51     1.3    INFO                         Conducting differential analysis using limma
2019-04-09 03:35:51     1.3  STATUS                     COMPLETED Computing Differential Methylation Table
2019-04-09 03:35:52     1.3  STATUS                     STARTED Computing Differential Methylation Tables (Region Level)
2019-04-09 03:35:52     1.3  STATUS                         Computed table for promoters
2019-04-09 03:35:52     1.3  STATUS                     COMPLETED Computing Differential Methylation Tables (Region Level)
2019-04-09 03:35:53     1.3  STATUS                 COMPLETED Comparing: hESC vs. hiPSC (based on Sample_Group)
2019-04-09 03:35:53     1.3  STATUS                 STARTED Comparing: KOSR vs. TeSR (based on Treatment)
2019-04-09 03:35:53     1.3  STATUS                     STARTED Computing Differential Methylation Table
2019-04-09 03:35:53     1.3    INFO                         Conducting differential analysis using limma
2019-04-09 03:35:54     1.3  STATUS                     COMPLETED Computing Differential Methylation Table
2019-04-09 03:35:54     1.3  STATUS                     STARTED Computing Differential Methylation Tables (Region Level)
2019-04-09 03:35:55     1.3  STATUS                         Computed table for promoters
2019-04-09 03:35:55     1.3  STATUS                     COMPLETED Computing Differential Methylation Tables (Region Level)
2019-04-09 03:35:55     1.3  STATUS                 COMPLETED Comparing: KOSR vs. TeSR (based on Treatment)
2019-04-09 03:35:55     1.3  STATUS             COMPLETED Computing differential methylation tables
2019-04-09 03:35:56     1.3  STATUS             STARTED Retrieving comparison info
2019-04-09 03:35:56     1.3  STATUS             COMPLETED Retrieving comparison info
2019-04-09 03:35:56     1.3  STATUS             STARTED Computing differential methylation tables
2019-04-09 03:35:56     1.3  STATUS                 STARTED Comparing: KOSR vs. TeSR (based on Treatment)
2019-04-09 03:35:57     1.3  STATUS                     STARTED Computing Differential Methylation Table
2019-04-09 03:35:57     1.3    INFO                         Conducting differential analysis using limma
2019-04-09 03:35:57     1.3  STATUS                     COMPLETED Computing Differential Methylation Table
2019-04-09 03:35:57     1.3  STATUS                     STARTED Computing Differential Methylation Tables (Region Level)
2019-04-09 03:35:58     1.3  STATUS                         Computed table for genes
2019-04-09 03:35:59     1.3  STATUS                         Computed table for tiling
2019-04-09 03:35:59     1.3  STATUS                     COMPLETED Computing Differential Methylation Tables (Region Level)
2019-04-09 03:35:59     1.3  STATUS                 COMPLETED Comparing: KOSR vs. TeSR (based on Treatment)
2019-04-09 03:36:00     1.3  STATUS             COMPLETED Computing differential methylation tables
2019-04-09 03:36:00     1.3  STATUS             STARTED Testing function: get.region.types
2019-04-09 03:36:00     1.3  STATUS             COMPLETED Testing function: get.region.types
2019-04-09 03:36:00     1.3  STATUS             STARTED Testing function: get.comparisons
2019-04-09 03:36:01     1.3  STATUS             COMPLETED Testing function: get.comparisons
2019-04-09 03:36:01     1.3  STATUS             STARTED Testing function: get.comparison.grouplabels
2019-04-09 03:36:01     1.3  STATUS             COMPLETED Testing function: get.comparison.grouplabels
2019-04-09 03:36:01     1.3  STATUS             STARTED Testing function: get.site.test.method
2019-04-09 03:36:01     1.3  STATUS             COMPLETED Testing function: get.site.test.method
2019-04-09 03:36:02     1.3  STATUS             STARTED Testing function: get.table
2019-04-09 03:36:02     1.3  STATUS             COMPLETED Testing function: get.table
2019-04-09 03:36:02     1.3  STATUS             STARTED Testing function: addDiffMethTable
2019-04-09 03:36:02     1.3    INFO                 Conducting differential analysis using limma
2019-04-09 03:36:03     1.3  STATUS             COMPLETED Testing function: addDiffMethTable
2019-04-09 03:36:03     1.3  STATUS             STARTED Testing functions: join.diffMeth, is.valid
2019-04-09 03:36:04     1.3  STATUS             COMPLETED Testing functions: join.diffMeth, is.valid
2019-04-09 03:36:04     1.3  STATUS             STARTED Destructor
2019-04-09 03:36:04     1.3  STATUS                 STARTED Deleting RnBDiffMeth disk dump files from disk
2019-04-09 03:36:04     1.3  STATUS                 COMPLETED Deleting RnBDiffMeth disk dump files from disk
2019-04-09 03:36:05     1.3  STATUS                 STARTED Deleting RnBDiffMeth disk dump files from disk
2019-04-09 03:36:05     1.3  STATUS                 COMPLETED Deleting RnBDiffMeth disk dump files from disk
2019-04-09 03:36:05     1.3  STATUS                 STARTED Deleting RnBDiffMeth disk dump files from disk
2019-04-09 03:36:05     1.3  STATUS                 COMPLETED Deleting RnBDiffMeth disk dump files from disk
2019-04-09 03:36:05     1.3  STATUS                 STARTED Deleting RnBDiffMeth disk dump files from disk
2019-04-09 03:36:06     1.3  STATUS                 COMPLETED Deleting RnBDiffMeth disk dump files from disk
2019-04-09 03:36:06     1.3  STATUS             COMPLETED Destructor
2019-04-09 03:36:06     1.3  STATUS         COMPLETED Testing class: RnBDiffMeth
2019-04-09 03:36:06     1.3  STATUS     COMPLETED Testing function: apply.iEVORA
2019-04-09 03:36:07     1.3  STATUS     STARTED iEVORA method
2019-04-09 03:36:09     1.3    INFO         No DVCs detected. All p-values set to 1.
Coefficients not estimable: x2x2 
2019-04-09 03:36:09     1.3  STATUS         STARTED Retrieving comparison info
2019-04-09 03:36:09     1.3  STATUS         COMPLETED Retrieving comparison info
2019-04-09 03:36:10     1.3  STATUS         STARTED Computing differential methylation tables
2019-04-09 03:36:10     1.3  STATUS             STARTED Comparing: hESC vs. hiPSC (based on Sample_Group)
2019-04-09 03:36:10     1.3  STATUS                 STARTED Computing Differential Methylation Table
2019-04-09 03:36:10     1.3    INFO                     Conducting differential analysis using limma
2019-04-09 03:36:11     1.3  STATUS                 COMPLETED Computing Differential Methylation Table
2019-04-09 03:36:11     1.3  STATUS                 STARTED Computing Differential Methylation Tables (Region Level)
2019-04-09 03:36:12     1.3  STATUS                     Computed table for tiling
2019-04-09 03:36:12     1.3  STATUS                     Computed table for genes
2019-04-09 03:36:13     1.3  STATUS                     Computed table for promoters
2019-04-09 03:36:13     1.3  STATUS                     Computed table for cpgislands
2019-04-09 03:36:14     1.3  STATUS                 COMPLETED Computing Differential Methylation Tables (Region Level)
2019-04-09 03:36:14     1.3  STATUS             COMPLETED Comparing: hESC vs. hiPSC (based on Sample_Group)
2019-04-09 03:36:14     1.3  STATUS             STARTED Comparing: KOSR vs. TeSR (based on Treatment)
2019-04-09 03:36:15     1.3  STATUS                 STARTED Computing Differential Methylation Table
2019-04-09 03:36:15     1.3    INFO                     Conducting differential analysis using limma
2019-04-09 03:36:15     1.3  STATUS                 COMPLETED Computing Differential Methylation Table
2019-04-09 03:36:15     1.3  STATUS                 STARTED Computing Differential Methylation Tables (Region Level)
2019-04-09 03:36:16     1.3  STATUS                     Computed table for tiling
2019-04-09 03:36:17     1.3  STATUS                     Computed table for genes
2019-04-09 03:36:17     1.3  STATUS                     Computed table for promoters
2019-04-09 03:36:18     1.3  STATUS                     Computed table for cpgislands
2019-04-09 03:36:18     1.3  STATUS                 COMPLETED Computing Differential Methylation Tables (Region Level)
2019-04-09 03:36:18     1.3  STATUS             COMPLETED Comparing: KOSR vs. TeSR (based on Treatment)
2019-04-09 03:36:19     1.3  STATUS         COMPLETED Computing differential methylation tables
2019-04-09 03:36:19     1.3  STATUS         STARTED Retrieving comparison info
2019-04-09 03:36:19     1.3  STATUS         COMPLETED Retrieving comparison info
2019-04-09 03:36:19     1.3  STATUS         STARTED Computing differential methylation tables
2019-04-09 03:36:20     1.3  STATUS             STARTED Comparing: hESC vs. hiPSC (based on Sample_Group)
2019-04-09 03:36:20     1.3  STATUS                 STARTED Computing Differential Methylation Table
2019-04-09 03:36:20     1.3    INFO                     Conducting differential analysis using limma
2019-04-09 03:36:20     1.3  STATUS                     STARTED Imputation procedure knn 
2019-04-09 03:36:21     1.3  STATUS                     COMPLETED Imputation procedure knn 
2019-04-09 03:36:21     1.3    INFO                     Conducting differential variability using diffVar
2019-04-09 03:36:21     1.3  STATUS                     STARTED diffVar method
2019-04-09 03:36:21     1.3  STATUS                     COMPLETED diffVar method
2019-04-09 03:36:22     1.3  STATUS                 COMPLETED Computing Differential Methylation Table
2019-04-09 03:36:22     1.3  STATUS                 STARTED Computing Differential Methylation Tables (Region Level)
2019-04-09 03:36:23     1.3  STATUS                     Computed table for tiling
2019-04-09 03:36:24     1.3  STATUS                     Computed table for genes
2019-04-09 03:36:25     1.3  STATUS                     Computed table for promoters
2019-04-09 03:36:25     1.3  STATUS                     Computed table for cpgislands
2019-04-09 03:36:26     1.3  STATUS                 COMPLETED Computing Differential Methylation Tables (Region Level)
2019-04-09 03:36:26     1.3  STATUS             COMPLETED Comparing: hESC vs. hiPSC (based on Sample_Group)
2019-04-09 03:36:26     1.3  STATUS             STARTED Comparing: KOSR vs. TeSR (based on Treatment)
2019-04-09 03:36:26     1.3  STATUS                 STARTED Computing Differential Methylation Table
2019-04-09 03:36:27     1.3    INFO                     Conducting differential analysis using limma
2019-04-09 03:36:27     1.3  STATUS                     STARTED Imputation procedure knn 
2019-04-09 03:36:27     1.3  STATUS                     COMPLETED Imputation procedure knn 
2019-04-09 03:36:27     1.3    INFO                     Conducting differential variability using diffVar
2019-04-09 03:36:28     1.3  STATUS                     STARTED diffVar method
2019-04-09 03:36:28     1.3  STATUS                     COMPLETED diffVar method
2019-04-09 03:36:29     1.3  STATUS                 COMPLETED Computing Differential Methylation Table
2019-04-09 03:36:29     1.3  STATUS                 STARTED Computing Differential Methylation Tables (Region Level)
2019-04-09 03:36:30     1.3  STATUS                     Computed table for tiling
2019-04-09 03:36:31     1.3  STATUS                     Computed table for genes
2019-04-09 03:36:32     1.3  STATUS                     Computed table for promoters
2019-04-09 03:36:32     1.3  STATUS                     Computed table for cpgislands
2019-04-09 03:36:33     1.3  STATUS                 COMPLETED Computing Differential Methylation Tables (Region Level)
2019-04-09 03:36:33     1.3  STATUS             COMPLETED Comparing: KOSR vs. TeSR (based on Treatment)
2019-04-09 03:36:33     1.3  STATUS         COMPLETED Computing differential methylation tables
2019-04-09 03:36:33     1.3  STATUS         STARTED Differential Variability
2019-04-09 03:36:34     1.3  STATUS             STARTED Retrieving comparison info
2019-04-09 03:36:34     1.3  STATUS             COMPLETED Retrieving comparison info
2019-04-09 03:36:34     1.3  STATUS             STARTED Imputation procedure knn 
2019-04-09 03:36:34     1.3  STATUS             COMPLETED Imputation procedure knn 
2019-04-09 03:36:35     1.3  STATUS             STARTED Comparing  hESC vs. hiPSC (based on Sample_Group)
2019-04-09 03:36:35     1.3    INFO                 Conducting differential variability using diffVar
2019-04-09 03:36:35     1.3  STATUS                 STARTED diffVar method
2019-04-09 03:36:35     1.3  STATUS                 COMPLETED diffVar method
2019-04-09 03:36:36     1.3  STATUS                 STARTED Computing Differential Variability Tables (Region Level)
2019-04-09 03:36:37     1.3  STATUS                     Computed table for tiling
2019-04-09 03:36:37     1.3  STATUS                     Computed table for genes
2019-04-09 03:36:38     1.3  STATUS                     Computed table for promoters
2019-04-09 03:36:38     1.3  STATUS                     Computed table for cpgislands
2019-04-09 03:36:39     1.3  STATUS                 COMPLETED Computing Differential Variability Tables (Region Level)
2019-04-09 03:36:39     1.3  STATUS             COMPLETED Comparing  hESC vs. hiPSC (based on Sample_Group)
2019-04-09 03:36:39     1.3  STATUS             STARTED Comparing  KOSR vs. TeSR (based on Treatment)
2019-04-09 03:36:39     1.3    INFO                 Conducting differential variability using diffVar
2019-04-09 03:36:40     1.3  STATUS                 STARTED diffVar method
2019-04-09 03:36:40     1.3  STATUS                 COMPLETED diffVar method
2019-04-09 03:36:41     1.3  STATUS                 STARTED Computing Differential Variability Tables (Region Level)
2019-04-09 03:36:41     1.3  STATUS                     Computed table for tiling
2019-04-09 03:36:42     1.3  STATUS                     Computed table for genes
2019-04-09 03:36:42     1.3  STATUS                     Computed table for promoters
2019-04-09 03:36:43     1.3  STATUS                     Computed table for cpgislands
2019-04-09 03:36:43     1.3  STATUS                 COMPLETED Computing Differential Variability Tables (Region Level)
2019-04-09 03:36:43     1.3  STATUS             COMPLETED Comparing  KOSR vs. TeSR (based on Treatment)
2019-04-09 03:36:44     1.3  STATUS         COMPLETED Differential Variability
2019-04-09 03:36:44     1.3  STATUS STARTED Analysis
2019-04-09 03:36:44     1.3    INFO     Loaded information from data.RData
2019-04-09 03:36:44     1.3  STATUS     STARTED Processing Detection P-values
2019-04-09 03:36:45     1.3    INFO         Removed 3979 probes that overlap with SNPs
2019-04-09 03:36:45     1.3    INFO         Completed Greedycut on 510 samples
2019-04-09 03:36:45     1.3  STATUS     COMPLETED Processing Detection P-values
2019-04-09 03:36:45     1.3 WARNING     File not found: data2.RData
2019-04-09 03:36:46     1.3  STATUS COMPLETED Analysis
2019-04-09 03:36:46     1.3  STATUS STARTED Testing imputation
2019-04-09 03:36:46     1.3  STATUS     STARTED Imputation procedure knn 
2019-04-09 03:36:47     1.3  STATUS     COMPLETED Imputation procedure knn 
2019-04-09 03:36:48     1.3  STATUS     STARTED Imputation procedure mean.samples 
2019-04-09 03:36:48     1.3  STATUS     COMPLETED Imputation procedure mean.samples 
2019-04-09 03:36:49     1.3  STATUS     STARTED Imputation procedure mean.cpgs 
2019-04-09 03:36:50     1.3  STATUS     COMPLETED Imputation procedure mean.cpgs 
2019-04-09 03:36:50     1.3  STATUS     STARTED Imputation procedure random 
2019-04-09 03:36:51     1.3  STATUS     COMPLETED Imputation procedure random 
2019-04-09 03:36:51     1.3  STATUS COMPLETED Testing imputation
2019-04-09 03:36:51     1.3  STATUS STARTED Testing age prediction
2019-04-09 03:36:51     1.3  STATUS     STARTED Performing Age Prediction
2019-04-09 03:36:54     1.3  STATUS     COMPLETED Performing Age Prediction
2019-04-09 03:36:54     1.3  STATUS COMPLETED Testing age prediction
2019-04-09 03:36:55     1.3  STATUS STARTED Testing CNV computation
2019-04-09 03:36:55     1.3  STATUS     STARTED Copy Number Variation
2019-04-09 03:38:21     1.3  STATUS         STARTED Copy Number Variation Section
2019-04-09 03:38:41     1.4  STATUS             Added CNV profile plots
2019-04-09 03:38:41     1.4  STATUS             Added CpG counts
2019-04-09 03:38:41     1.4  STATUS         COMPLETED Copy Number Variation Section
2019-04-09 03:38:41     1.4  STATUS     COMPLETED Copy Number Variation
2019-04-09 03:38:42     1.4  STATUS COMPLETED Testing CNV computation
2019-04-09 03:38:42     1.4  STATUS STARTED Performing Age Prediction
2019-04-09 03:38:44     1.4  STATUS COMPLETED Performing Age Prediction
2019-04-09 03:38:44     1.4  STATUS STARTED Copy Number Variation
2019-04-09 03:40:14     1.3  STATUS     STARTED Copy Number Variation Section
2019-04-09 03:40:33     1.4  STATUS         Added CNV profile plots
2019-04-09 03:40:34     1.4  STATUS         Added CpG counts
2019-04-09 03:40:34     1.4  STATUS     COMPLETED Copy Number Variation Section
2019-04-09 03:40:34     1.4  STATUS COMPLETED Copy Number Variation
2019-04-09 03:40:35     1.4  STATUS STARTED Imputation procedure knn 
2019-04-09 03:40:36     1.4  STATUS COMPLETED Imputation procedure knn 
2019-04-09 03:40:36     1.4  STATUS STARTED Imputation procedure mean.samples 
2019-04-09 03:40:37     1.4  STATUS COMPLETED Imputation procedure mean.samples 
2019-04-09 03:40:37     1.4  STATUS STARTED Imputation procedure mean.cpgs 
2019-04-09 03:40:38     1.4  STATUS COMPLETED Imputation procedure mean.cpgs 
2019-04-09 03:40:38     1.4  STATUS STARTED Imputation procedure random 
2019-04-09 03:40:39     1.4  STATUS COMPLETED Imputation procedure random 
2019-04-09 03:40:39     1.4  STATUS STARTED Testing imputation
2019-04-09 03:40:39     1.4  STATUS     STARTED Imputation procedure knn 
2019-04-09 03:40:40     1.4  STATUS     COMPLETED Imputation procedure knn 
2019-04-09 03:40:41     1.4  STATUS     STARTED Imputation procedure mean.samples 
2019-04-09 03:40:41     1.4  STATUS     COMPLETED Imputation procedure mean.samples 
2019-04-09 03:40:42     1.4  STATUS     STARTED Imputation procedure mean.cpgs 
2019-04-09 03:40:43     1.4  STATUS     COMPLETED Imputation procedure mean.cpgs 
2019-04-09 03:40:43     1.4  STATUS     STARTED Imputation procedure random 
2019-04-09 03:40:44     1.4  STATUS     COMPLETED Imputation procedure random 
2019-04-09 03:40:44     1.4  STATUS COMPLETED Testing imputation
2019-04-09 03:40:44     1.4  STATUS STARTED Testing age prediction
2019-04-09 03:40:45     1.4  STATUS     STARTED Performing Age Prediction
2019-04-09 03:40:46     1.5  STATUS     COMPLETED Performing Age Prediction
2019-04-09 03:40:47     1.5  STATUS COMPLETED Testing age prediction
2019-04-09 03:40:47     1.5  STATUS STARTED Testing CNV computation
2019-04-09 03:40:47     1.5  STATUS     STARTED Copy Number Variation
2019-04-09 03:42:08     1.3  STATUS         STARTED Copy Number Variation Section
2019-04-09 03:42:27     1.4  STATUS             Added CNV profile plots
2019-04-09 03:42:27     1.4  STATUS             Added CpG counts
2019-04-09 03:42:28     1.4  STATUS         COMPLETED Copy Number Variation Section
2019-04-09 03:42:28     1.4  STATUS     COMPLETED Copy Number Variation
2019-04-09 03:42:28     1.4  STATUS COMPLETED Testing CNV computation
RUNIT TEST PROTOCOL -- Tue Apr  9 03:42:40 2019 
*********************************************** 
Number of test functions: 24 
Number of errors: 0 
Number of failures: 0 
 
1 Test Suite : 
RnBeads RUnit Tests - 24 test functions, 0 errors, 0 failures
Number of test functions: 24 
Number of errors: 0 
Number of failures: 0 
There were 37 warnings (use warnings() to see them)
> 
> proc.time()
   user  system elapsed 
461.686 145.132 611.270 
 
Example timings
RnBeads.Rcheck/RnBeads-Ex.timings