| Back to Multiple platform build/check report for BioC 3.9 |
|
This page was generated on 2019-10-16 12:47:36 -0400 (Wed, 16 Oct 2019).
| Package 1391/1741 | Hostname | OS / Arch | INSTALL | BUILD | CHECK | BUILD BIN | ||||||
| RmiR 1.40.0 Francesco Favero
| malbec2 | Linux (Ubuntu 18.04.2 LTS) / x86_64 | OK | OK | OK | |||||||
| tokay2 | Windows Server 2012 R2 Standard / x64 | OK | OK | ERROR | OK | |||||||
| celaya2 | OS X 10.11.6 El Capitan / x86_64 | OK | OK | [ OK ] | OK |
| Package: RmiR |
| Version: 1.40.0 |
| Command: /Library/Frameworks/R.framework/Versions/Current/Resources/bin/R CMD check --install=check:RmiR.install-out.txt --library=/Library/Frameworks/R.framework/Versions/Current/Resources/library --no-vignettes --timings RmiR_1.40.0.tar.gz |
| StartedAt: 2019-10-16 06:19:58 -0400 (Wed, 16 Oct 2019) |
| EndedAt: 2019-10-16 06:22:22 -0400 (Wed, 16 Oct 2019) |
| EllapsedTime: 144.8 seconds |
| RetCode: 0 |
| Status: OK |
| CheckDir: RmiR.Rcheck |
| Warnings: 0 |
##############################################################################
##############################################################################
###
### Running command:
###
### /Library/Frameworks/R.framework/Versions/Current/Resources/bin/R CMD check --install=check:RmiR.install-out.txt --library=/Library/Frameworks/R.framework/Versions/Current/Resources/library --no-vignettes --timings RmiR_1.40.0.tar.gz
###
##############################################################################
##############################################################################
* using log directory ‘/Users/biocbuild/bbs-3.9-bioc/meat/RmiR.Rcheck’
* using R version 3.6.1 (2019-07-05)
* using platform: x86_64-apple-darwin15.6.0 (64-bit)
* using session charset: UTF-8
* using option ‘--no-vignettes’
* checking for file ‘RmiR/DESCRIPTION’ ... OK
* this is package ‘RmiR’ version ‘1.40.0’
* checking package namespace information ... OK
* checking package dependencies ... OK
* checking if this is a source package ... OK
* checking if there is a namespace ... OK
* checking for hidden files and directories ... OK
* checking for portable file names ... OK
* checking for sufficient/correct file permissions ... OK
* checking whether package ‘RmiR’ can be installed ... OK
* checking installed package size ... OK
* checking package directory ... OK
* checking ‘build’ directory ... OK
* checking DESCRIPTION meta-information ... NOTE
Malformed Description field: should contain one or more complete sentences.
* checking top-level files ... OK
* checking for left-over files ... OK
* checking index information ... OK
* checking package subdirectories ... OK
* checking R files for non-ASCII characters ... OK
* checking R files for syntax errors ... OK
* checking whether the package can be loaded ... OK
* checking whether the package can be loaded with stated dependencies ... OK
* checking whether the package can be unloaded cleanly ... OK
* checking whether the namespace can be loaded with stated dependencies ... OK
* checking whether the namespace can be unloaded cleanly ... OK
* checking dependencies in R code ... NOTE
'library' or 'require' call to ‘RSVGTipsDevice’ which was already attached by Depends.
Please remove these calls from your code.
Packages in Depends field not imported from:
‘RSVGTipsDevice’ ‘RmiR.Hs.miRNA’
These packages need to be imported from (in the NAMESPACE file)
for when this namespace is loaded but not attached.
* checking S3 generic/method consistency ... OK
* checking replacement functions ... OK
* checking foreign function calls ... OK
* checking R code for possible problems ... NOTE
plotRmiRtc: no visible global function definition for ‘devSVGTips’
plotRmiRtc: no visible global function definition for ‘plot’
plotRmiRtc: no visible global function definition for
‘setSVGShapeToolTip’
plotRmiRtc: no visible global function definition for ‘setSVGShapeURL’
plotRmiRtc: no visible global function definition for ‘points’
plotRmiRtc: no visible global function definition for ‘lines’
plotRmiRtc: no visible global function definition for ‘legend’
plotRmiRtc: no visible global function definition for ‘dev.off’
readRmiRtc: no visible global function definition for ‘write.table’
Undefined global functions or variables:
dev.off devSVGTips legend lines plot points setSVGShapeToolTip
setSVGShapeURL write.table
Consider adding
importFrom("grDevices", "dev.off")
importFrom("graphics", "legend", "lines", "plot", "points")
importFrom("utils", "write.table")
to your NAMESPACE file.
* checking Rd files ... OK
* checking Rd metadata ... OK
* checking Rd cross-references ... OK
* checking for missing documentation entries ... OK
* checking for code/documentation mismatches ... OK
* checking Rd \usage sections ... OK
* checking Rd contents ... OK
* checking for unstated dependencies in examples ... OK
* checking contents of ‘data’ directory ... OK
* checking data for non-ASCII characters ... OK
* checking data for ASCII and uncompressed saves ... OK
* checking sizes of PDF files under ‘inst/doc’ ... OK
* checking files in ‘vignettes’ ... OK
* checking examples ... OK
Examples with CPU or elapsed time > 5s
user system elapsed
RmiR 18.959 1.821 21.694
RmiRtc 8.486 0.518 9.007
plotRmiRtc 8.301 0.500 8.805
* checking for unstated dependencies in vignettes ... OK
* checking package vignettes in ‘inst/doc’ ... OK
* checking running R code from vignettes ... SKIPPED
* checking re-building of vignette outputs ... SKIPPED
* checking PDF version of manual ... OK
* DONE
Status: 3 NOTEs
See
‘/Users/biocbuild/bbs-3.9-bioc/meat/RmiR.Rcheck/00check.log’
for details.
RmiR.Rcheck/00install.out
############################################################################## ############################################################################## ### ### Running command: ### ### /Library/Frameworks/R.framework/Versions/Current/Resources/bin/R CMD INSTALL RmiR ### ############################################################################## ############################################################################## * installing to library ‘/Library/Frameworks/R.framework/Versions/3.6/Resources/library’ * installing *source* package ‘RmiR’ ... ** using staged installation ** R ** data ** byte-compile and prepare package for lazy loading ** help *** installing help indices ** building package indices ** installing vignettes ** testing if installed package can be loaded from temporary location ** testing if installed package can be loaded from final location ** testing if installed package keeps a record of temporary installation path * DONE (RmiR)
RmiR.Rcheck/RmiR-Ex.timings
| name | user | system | elapsed | |
| RmiR | 18.959 | 1.821 | 21.694 | |
| RmiRtc | 8.486 | 0.518 | 9.007 | |
| data | 0.029 | 0.002 | 0.031 | |
| plotRmiRtc | 8.301 | 0.500 | 8.805 | |