This page was generated on 2019-10-16 12:13:20 -0400 (Wed, 16 Oct 2019).
##############################################################################
##############################################################################
###
### Running command:
###
### /home/biocbuild/bbs-3.9-bioc/R/bin/R CMD INSTALL Rgin
###
##############################################################################
##############################################################################
* installing to library ‘/home/biocbuild/bbs-3.9-bioc/R/library’
* installing *source* package ‘Rgin’ ...
** using staged installation
** libs
gcc -I"/home/biocbuild/bbs-3.9-bioc/R/include" -DNDEBUG -I"/home/biocbuild/bbs-3.9-bioc/R/library/RcppEigen/include" -I/usr/local/include -fpic -g -O2 -Wall -c Rgin-init.c -o Rgin-init.o
g++ -std=gnu++11 -I"/home/biocbuild/bbs-3.9-bioc/R/include" -DNDEBUG -I"/home/biocbuild/bbs-3.9-bioc/R/library/RcppEigen/include" -I/usr/local/include -std=c++11 -fopenmp -D_USE_KNETFILE -D_FILE_OFFSET_BITS=64 -U_FORTIFY_SOURCE -DBGZF_CACHE -DAS_GINLIB -DAS_RGINLIB -I./include -I./lib `/home/biocbuild/bbs-3.9-bioc/R/bin/Rscript -e "Rcpp:::CxxFlags()"` -lz -fpic -g -O2 -Wall -c src/feature_selection/feature_selector.cc -o src/feature_selection/feature_selector.o
In file included from /home/biocbuild/bbs-3.9-bioc/R/library/RcppEigen/include/Eigen/Core:392:0,
from /home/biocbuild/bbs-3.9-bioc/R/library/RcppEigen/include/Eigen/Dense:1,
from ./include/gin/types.h:6,
from ./include/gin/globals.h:4,
from ./include/gin/feature_selection/scones.h:8,
from src/feature_selection/feature_selector.cc:9:
/home/biocbuild/bbs-3.9-bioc/R/library/RcppEigen/include/Eigen/src/Core/arch/SSE/PacketMath.h:60:39: warning: ignoring attributes on template argument ‘__m128 {aka __vector(4) float}’ [-Wignored-attributes]
template<> struct is_arithmetic<__m128> { enum { value = true }; };
^
/home/biocbuild/bbs-3.9-bioc/R/library/RcppEigen/include/Eigen/src/Core/arch/SSE/PacketMath.h:61:40: warning: ignoring attributes on template argument ‘__m128i {aka __vector(2) long long int}’ [-Wignored-attributes]
template<> struct is_arithmetic<__m128i> { enum { value = true }; };
^
/home/biocbuild/bbs-3.9-bioc/R/library/RcppEigen/include/Eigen/src/Core/arch/SSE/PacketMath.h:62:40: warning: ignoring attributes on template argument ‘__m128d {aka __vector(2) double}’ [-Wignored-attributes]
template<> struct is_arithmetic<__m128d> { enum { value = true }; };
^
/home/biocbuild/bbs-3.9-bioc/R/library/RcppEigen/include/Eigen/src/Core/arch/SSE/PacketMath.h:161:43: warning: ignoring attributes on template argument ‘Eigen::internal::Packet4f {aka __vector(4) float}’ [-Wignored-attributes]
template<> struct unpacket_traits { typedef float type; enum {size=4, alignment=Aligned16}; typedef Packet4f half; };
^
In file included from /home/biocbuild/bbs-3.9-bioc/R/library/RcppEigen/include/Eigen/Core:392:0,
from /home/biocbuild/bbs-3.9-bioc/R/library/RcppEigen/include/Eigen/Dense:1,
from ./include/gin/types.h:6,
from ./include/gin/globals.h:4,
from ./include/gin/feature_selection/scones.h:8,
from src/feature_selection/feature_selector.cc:9:
/home/biocbuild/bbs-3.9-bioc/R/library/RcppEigen/include/Eigen/src/Core/arch/SSE/PacketMath.h:162:43: warning: ignoring attributes on template argument ‘Eigen::internal::Packet2d {aka __vector(2) double}’ [-Wignored-attributes]
template<> struct unpacket_traits { typedef double type; enum {size=2, alignment=Aligned16}; typedef Packet2d half; };
^
/home/biocbuild/bbs-3.9-bioc/R/library/RcppEigen/include/Eigen/src/Core/arch/SSE/PacketMath.h:163:43: warning: ignoring attributes on template argument ‘Eigen::internal::Packet4i {aka __vector(2) long long int}’ [-Wignored-attributes]
template<> struct unpacket_traits { typedef int type; enum {size=4, alignment=Aligned16}; typedef Packet4i half; };
^
/home/biocbuild/bbs-3.9-bioc/R/library/RcppEigen/include/Eigen/src/Core/arch/SSE/PacketMath.h:718:35: warning: ignoring attributes on template argument ‘Eigen::internal::Packet4f {aka __vector(4) float}’ [-Wignored-attributes]
struct palign_impl
^
/home/biocbuild/bbs-3.9-bioc/R/library/RcppEigen/include/Eigen/src/Core/arch/SSE/PacketMath.h:741:35: warning: ignoring attributes on template argument ‘Eigen::internal::Packet4i {aka __vector(2) long long int}’ [-Wignored-attributes]
struct palign_impl
^
/home/biocbuild/bbs-3.9-bioc/R/library/RcppEigen/include/Eigen/src/Core/arch/SSE/PacketMath.h:764:35: warning: ignoring attributes on template argument ‘Eigen::internal::Packet2d {aka __vector(2) double}’ [-Wignored-attributes]
struct palign_impl
^
/home/biocbuild/bbs-3.9-bioc/R/library/RcppEigen/include/Eigen/src/Core/arch/SSE/PacketMath.h:778:34: warning: ignoring attributes on template argument ‘Eigen::internal::Packet4f {aka __vector(4) float}’ [-Wignored-attributes]
ptranspose(PacketBlock& kernel) {
^
/home/biocbuild/bbs-3.9-bioc/R/library/RcppEigen/include/Eigen/src/Core/arch/SSE/PacketMath.h:783:34: warning: ignoring attributes on template argument ‘Eigen::internal::Packet2d {aka __vector(2) double}’ [-Wignored-attributes]
ptranspose(PacketBlock& kernel) {
^
/home/biocbuild/bbs-3.9-bioc/R/library/RcppEigen/include/Eigen/src/Core/arch/SSE/PacketMath.h:790:34: warning: ignoring attributes on template argument ‘Eigen::internal::Packet4i {aka __vector(2) long long int}’ [-Wignored-attributes]
ptranspose(PacketBlock& kernel) {
^
In file included from /home/biocbuild/bbs-3.9-bioc/R/library/RcppEigen/include/Eigen/Core:374:0,
from /home/biocbuild/bbs-3.9-bioc/R/library/RcppEigen/include/Eigen/Dense:1,
from ./include/gin/types.h:6,
from ./include/gin/globals.h:4,
from ./include/gin/feature_selection/scones.h:8,
from src/feature_selection/feature_selector.cc:9:
/home/biocbuild/bbs-3.9-bioc/R/library/RcppEigen/include/Eigen/src/Core/arch/Default/ConjHelper.h:15:70: warning: ignoring attributes on template argument ‘Eigen::internal::Packet4f {aka __vector(4) float}’ [-Wignored-attributes]
template<> struct conj_helper { \
^
/home/biocbuild/bbs-3.9-bioc/R/library/RcppEigen/include/Eigen/src/Core/arch/SSE/Complex.h:232:1: note: in expansion of macro ‘EIGEN_MAKE_CONJ_HELPER_CPLX_REAL’
EIGEN_MAKE_CONJ_HELPER_CPLX_REAL(Packet2cf,Packet4f)
^~~~~~~~~~~~~~~~~~~~~~~~~~~~~~~~
/home/biocbuild/bbs-3.9-bioc/R/library/RcppEigen/include/Eigen/src/Core/arch/Default/ConjHelper.h:22:70: warning: ignoring attributes on template argument ‘Eigen::internal::Packet4f {aka __vector(4) float}’ [-Wignored-attributes]
template<> struct conj_helper { \
^
/home/biocbuild/bbs-3.9-bioc/R/library/RcppEigen/include/Eigen/src/Core/arch/SSE/Complex.h:232:1: note: in expansion of macro ‘EIGEN_MAKE_CONJ_HELPER_CPLX_REAL’
EIGEN_MAKE_CONJ_HELPER_CPLX_REAL(Packet2cf,Packet4f)
^~~~~~~~~~~~~~~~~~~~~~~~~~~~~~~~
/home/biocbuild/bbs-3.9-bioc/R/library/RcppEigen/include/Eigen/src/Core/arch/Default/ConjHelper.h:15:70: warning: ignoring attributes on template argument ‘Eigen::internal::Packet2d {aka __vector(2) double}’ [-Wignored-attributes]
template<> struct conj_helper { \
^
/home/biocbuild/bbs-3.9-bioc/R/library/RcppEigen/include/Eigen/src/Core/arch/SSE/Complex.h:417:1: note: in expansion of macro ‘EIGEN_MAKE_CONJ_HELPER_CPLX_REAL’
EIGEN_MAKE_CONJ_HELPER_CPLX_REAL(Packet1cd,Packet2d)
^~~~~~~~~~~~~~~~~~~~~~~~~~~~~~~~
/home/biocbuild/bbs-3.9-bioc/R/library/RcppEigen/include/Eigen/src/Core/arch/Default/ConjHelper.h:22:70: warning: ignoring attributes on template argument ‘Eigen::internal::Packet2d {aka __vector(2) double}’ [-Wignored-attributes]
template<> struct conj_helper { \
^
/home/biocbuild/bbs-3.9-bioc/R/library/RcppEigen/include/Eigen/src/Core/arch/SSE/Complex.h:417:1: note: in expansion of macro ‘EIGEN_MAKE_CONJ_HELPER_CPLX_REAL’
EIGEN_MAKE_CONJ_HELPER_CPLX_REAL(Packet1cd,Packet2d)
^~~~~~~~~~~~~~~~~~~~~~~~~~~~~~~~
In file included from /home/biocbuild/bbs-3.9-bioc/R/library/RcppEigen/include/Eigen/Core:367:0,
from /home/biocbuild/bbs-3.9-bioc/R/library/RcppEigen/include/Eigen/Dense:1,
from ./include/gin/types.h:6,
from ./include/gin/globals.h:4,
from ./include/gin/feature_selection/scones.h:8,
from src/feature_selection/feature_selector.cc:9:
/home/biocbuild/bbs-3.9-bioc/R/library/RcppEigen/include/Eigen/src/Core/util/XprHelper.h: In instantiation of ‘struct Eigen::internal::find_best_packet’:
/home/biocbuild/bbs-3.9-bioc/R/library/RcppEigen/include/Eigen/src/Core/Matrix.h:22:57: required from ‘struct Eigen::internal::traits >’
/home/biocbuild/bbs-3.9-bioc/R/library/RcppEigen/include/Eigen/src/Geometry/Quaternion.h:224:7: required from ‘struct Eigen::internal::traits >’
/home/biocbuild/bbs-3.9-bioc/R/library/RcppEigen/include/Eigen/src/Geometry/arch/Geometry_SSE.h:24:46: required from here
/home/biocbuild/bbs-3.9-bioc/R/library/RcppEigen/include/Eigen/src/Core/util/XprHelper.h:170:44: warning: ignoring attributes on template argument ‘Eigen::internal::packet_traits::type {aka __vector(4) float}’ [-Wignored-attributes]
bool Stop = Size==Dynamic || (Size%unpacket_traits::size)==0 || is_same::half>::value>
~~~~~^~~~~~~~~~~~~~~~~~~~~~~~~~~~~~~~~~~
/home/biocbuild/bbs-3.9-bioc/R/library/RcppEigen/include/Eigen/src/Core/util/XprHelper.h:170:83: warning: ignoring attributes on template argument ‘Eigen::internal::packet_traits::type {aka __vector(4) float}’ [-Wignored-attributes]
bool Stop = Size==Dynamic || (Size%unpacket_traits::size)==0 || is_same::half>::value>
~~~~~~~~~~~~~~~~~~~~~~~~~~~~~~~~~~~~~~~~~~~~~~~~~~~~~~~~~~~~~^~~~~~~~~~~~~~~~~~~~~~~~~~~~~~~~~~~~~~~~~~~~~~~~~~~~~~~~~~~~~~~~~
/home/biocbuild/bbs-3.9-bioc/R/library/RcppEigen/include/Eigen/src/Core/util/XprHelper.h:170:83: warning: ignoring attributes on template argument ‘Eigen::internal::packet_traits::type {aka __vector(4) float}’ [-Wignored-attributes]
/home/biocbuild/bbs-3.9-bioc/R/library/RcppEigen/include/Eigen/src/Core/util/XprHelper.h:170:83: warning: ignoring attributes on template argument ‘Eigen::internal::unpacket_traits<__vector(4) float>::half {aka __vector(4) float}’ [-Wignored-attributes]
/home/biocbuild/bbs-3.9-bioc/R/library/RcppEigen/include/Eigen/src/Core/util/XprHelper.h:188:88: warning: ignoring attributes on template argument ‘Eigen::internal::packet_traits::type {aka __vector(4) float}’ [-Wignored-attributes]
typedef typename find_best_packet_helper::type>::type type;
^~~~
In file included from /home/biocbuild/bbs-3.9-bioc/R/library/RcppEigen/include/Eigen/Core:434:0,
from /home/biocbuild/bbs-3.9-bioc/R/library/RcppEigen/include/Eigen/Dense:1,
from ./include/gin/types.h:6,
from ./include/gin/globals.h:4,
from ./include/gin/feature_selection/scones.h:8,
from src/feature_selection/feature_selector.cc:9:
/home/biocbuild/bbs-3.9-bioc/R/library/RcppEigen/include/Eigen/src/Core/DenseCoeffsBase.h: In instantiation of ‘class Eigen::DenseCoeffsBase, 0>’:
/home/biocbuild/bbs-3.9-bioc/R/library/RcppEigen/include/Eigen/src/Core/DenseCoeffsBase.h:300:7: required from ‘class Eigen::DenseCoeffsBase, 1>’
/home/biocbuild/bbs-3.9-bioc/R/library/RcppEigen/include/Eigen/src/Core/DenseCoeffsBase.h:551:7: required from ‘class Eigen::DenseCoeffsBase, 3>’
/home/biocbuild/bbs-3.9-bioc/R/library/RcppEigen/include/Eigen/src/Core/DenseBase.h:41:34: required from ‘class Eigen::DenseBase >’
/home/biocbuild/bbs-3.9-bioc/R/library/RcppEigen/include/Eigen/src/Core/MatrixBase.h:48:34: required from ‘class Eigen::MatrixBase >’
/home/biocbuild/bbs-3.9-bioc/R/library/RcppEigen/include/Eigen/src/Core/PlainObjectBase.h:98:7: required from ‘class Eigen::PlainObjectBase >’
/home/biocbuild/bbs-3.9-bioc/R/library/RcppEigen/include/Eigen/src/Core/Matrix.h:178:7: required from ‘class Eigen::Matrix’
/home/biocbuild/bbs-3.9-bioc/R/library/RcppEigen/include/Eigen/src/Geometry/Quaternion.h:46:50: required from ‘class Eigen::QuaternionBase >’
/home/biocbuild/bbs-3.9-bioc/R/library/RcppEigen/include/Eigen/src/Geometry/Quaternion.h:232:7: required from ‘class Eigen::Quaternion’
/home/biocbuild/bbs-3.9-bioc/R/library/RcppEigen/include/Eigen/src/Geometry/arch/Geometry_SSE.h:27:3: required from here
/home/biocbuild/bbs-3.9-bioc/R/library/RcppEigen/include/Eigen/src/Core/DenseCoeffsBase.h:55:30: warning: ignoring attributes on template argument ‘Eigen::internal::packet_traits::type {aka __vector(4) float}’ [-Wignored-attributes]
>::type PacketReturnType;
^~~~~~~~~~~~~~~~
In file included from /home/biocbuild/bbs-3.9-bioc/R/library/RcppEigen/include/Eigen/Core:367:0,
from /home/biocbuild/bbs-3.9-bioc/R/library/RcppEigen/include/Eigen/Dense:1,
from ./include/gin/types.h:6,
from ./include/gin/globals.h:4,
from ./include/gin/feature_selection/scones.h:8,
from src/feature_selection/feature_selector.cc:9:
/home/biocbuild/bbs-3.9-bioc/R/library/RcppEigen/include/Eigen/src/Core/util/XprHelper.h: In instantiation of ‘struct Eigen::internal::find_best_packet’:
/home/biocbuild/bbs-3.9-bioc/R/library/RcppEigen/include/Eigen/src/Core/Matrix.h:22:57: required from ‘struct Eigen::internal::traits >’
/home/biocbuild/bbs-3.9-bioc/R/library/RcppEigen/include/Eigen/src/Geometry/Quaternion.h:224:7: required from ‘struct Eigen::internal::traits >’
/home/biocbuild/bbs-3.9-bioc/R/library/RcppEigen/include/Eigen/src/Geometry/arch/Geometry_SSE.h:88:47: required from here
/home/biocbuild/bbs-3.9-bioc/R/library/RcppEigen/include/Eigen/src/Core/util/XprHelper.h:170:44: warning: ignoring attributes on template argument ‘Eigen::internal::packet_traits::type {aka __vector(2) double}’ [-Wignored-attributes]
bool Stop = Size==Dynamic || (Size%unpacket_traits::size)==0 || is_same::half>::value>
~~~~~^~~~~~~~~~~~~~~~~~~~~~~~~~~~~~~~~~~
/home/biocbuild/bbs-3.9-bioc/R/library/RcppEigen/include/Eigen/src/Core/util/XprHelper.h:170:83: warning: ignoring attributes on template argument ‘Eigen::internal::packet_traits::type {aka __vector(2) double}’ [-Wignored-attributes]
bool Stop = Size==Dynamic || (Size%unpacket_traits::size)==0 || is_same::half>::value>
~~~~~~~~~~~~~~~~~~~~~~~~~~~~~~~~~~~~~~~~~~~~~~~~~~~~~~~~~~~~~^~~~~~~~~~~~~~~~~~~~~~~~~~~~~~~~~~~~~~~~~~~~~~~~~~~~~~~~~~~~~~~~~
/home/biocbuild/bbs-3.9-bioc/R/library/RcppEigen/include/Eigen/src/Core/util/XprHelper.h:170:83: warning: ignoring attributes on template argument ‘Eigen::internal::packet_traits::type {aka __vector(2) double}’ [-Wignored-attributes]
/home/biocbuild/bbs-3.9-bioc/R/library/RcppEigen/include/Eigen/src/Core/util/XprHelper.h:170:83: warning: ignoring attributes on template argument ‘Eigen::internal::unpacket_traits<__vector(2) double>::half {aka __vector(2) double}’ [-Wignored-attributes]
/home/biocbuild/bbs-3.9-bioc/R/library/RcppEigen/include/Eigen/src/Core/util/XprHelper.h:188:88: warning: ignoring attributes on template argument ‘Eigen::internal::packet_traits::type {aka __vector(2) double}’ [-Wignored-attributes]
typedef typename find_best_packet_helper::type>::type type;
^~~~
In file included from /home/biocbuild/bbs-3.9-bioc/R/library/RcppEigen/include/Eigen/Core:434:0,
from /home/biocbuild/bbs-3.9-bioc/R/library/RcppEigen/include/Eigen/Dense:1,
from ./include/gin/types.h:6,
from ./include/gin/globals.h:4,
from ./include/gin/feature_selection/scones.h:8,
from src/feature_selection/feature_selector.cc:9:
/home/biocbuild/bbs-3.9-bioc/R/library/RcppEigen/include/Eigen/src/Core/DenseCoeffsBase.h: In instantiation of ‘class Eigen::DenseCoeffsBase, 0>’:
/home/biocbuild/bbs-3.9-bioc/R/library/RcppEigen/include/Eigen/src/Core/DenseCoeffsBase.h:300:7: required from ‘class Eigen::DenseCoeffsBase, 1>’
/home/biocbuild/bbs-3.9-bioc/R/library/RcppEigen/include/Eigen/src/Core/DenseCoeffsBase.h:551:7: required from ‘class Eigen::DenseCoeffsBase, 3>’
/home/biocbuild/bbs-3.9-bioc/R/library/RcppEigen/include/Eigen/src/Core/DenseBase.h:41:34: required from ‘class Eigen::DenseBase >’
/home/biocbuild/bbs-3.9-bioc/R/library/RcppEigen/include/Eigen/src/Core/MatrixBase.h:48:34: required from ‘class Eigen::MatrixBase >’
/home/biocbuild/bbs-3.9-bioc/R/library/RcppEigen/include/Eigen/src/Core/PlainObjectBase.h:98:7: required from ‘class Eigen::PlainObjectBase >’
/home/biocbuild/bbs-3.9-bioc/R/library/RcppEigen/include/Eigen/src/Core/Matrix.h:178:7: required from ‘class Eigen::Matrix’
/home/biocbuild/bbs-3.9-bioc/R/library/RcppEigen/include/Eigen/src/Geometry/Quaternion.h:46:50: required from ‘class Eigen::QuaternionBase >’
/home/biocbuild/bbs-3.9-bioc/R/library/RcppEigen/include/Eigen/src/Geometry/Quaternion.h:232:7: required from ‘class Eigen::Quaternion’
/home/biocbuild/bbs-3.9-bioc/R/library/RcppEigen/include/Eigen/src/Geometry/arch/Geometry_SSE.h:92:3: required from here
/home/biocbuild/bbs-3.9-bioc/R/library/RcppEigen/include/Eigen/src/Core/DenseCoeffsBase.h:55:30: warning: ignoring attributes on template argument ‘Eigen::internal::packet_traits::type {aka __vector(2) double}’ [-Wignored-attributes]
>::type PacketReturnType;
^~~~~~~~~~~~~~~~
In file included from /home/biocbuild/bbs-3.9-bioc/R/library/RcppEigen/include/Eigen/SparseCore:37:0,
from /home/biocbuild/bbs-3.9-bioc/R/library/RcppEigen/include/Eigen/Sparse:26,
from ./include/gin/types.h:7,
from ./include/gin/globals.h:4,
from ./include/gin/feature_selection/scones.h:8,
from src/feature_selection/feature_selector.cc:9:
/home/biocbuild/bbs-3.9-bioc/R/library/RcppEigen/include/Eigen/src/SparseCore/SparseMatrixBase.h: In instantiation of ‘class Eigen::SparseMatrixBase >’:
/home/biocbuild/bbs-3.9-bioc/R/library/RcppEigen/include/Eigen/src/SparseCore/SparseCompressedBase.h:36:7: required from ‘class Eigen::SparseCompressedBase >’
/home/biocbuild/bbs-3.9-bioc/R/library/RcppEigen/include/Eigen/src/SparseCore/SparseMatrix.h:96:7: required from ‘class Eigen::SparseMatrix’
./include/gin/types.h:27:31: required from here
/home/biocbuild/bbs-3.9-bioc/R/library/RcppEigen/include/Eigen/src/SparseCore/SparseMatrixBase.h:47:30: warning: ignoring attributes on template argument ‘Eigen::internal::packet_traits::type {aka __vector(2) double}’ [-Wignored-attributes]
>::type PacketReturnType;
^~~~~~~~~~~~~~~~
In file included from /home/biocbuild/bbs-3.9-bioc/R/library/RcppEigen/include/Eigen/Core:367:0,
from /home/biocbuild/bbs-3.9-bioc/R/library/RcppEigen/include/Eigen/Dense:1,
from ./include/gin/types.h:6,
from ./include/gin/globals.h:4,
from ./include/gin/feature_selection/scones.h:8,
from src/feature_selection/feature_selector.cc:9:
/home/biocbuild/bbs-3.9-bioc/R/library/RcppEigen/include/Eigen/src/Core/util/XprHelper.h: In instantiation of ‘struct Eigen::internal::find_best_packet’:
/home/biocbuild/bbs-3.9-bioc/R/library/RcppEigen/include/Eigen/src/Core/Matrix.h:22:57: required from ‘struct Eigen::internal::traits >’
/home/biocbuild/bbs-3.9-bioc/R/library/RcppEigen/include/Eigen/src/Core/PlainObjectBase.h:98:7: required from ‘class Eigen::PlainObjectBase >’
/home/biocbuild/bbs-3.9-bioc/R/library/RcppEigen/include/Eigen/src/Core/Matrix.h:178:7: required from ‘class Eigen::Matrix’
./include/gin/feature_selection/feature_selector.h:20:11: required from here
/home/biocbuild/bbs-3.9-bioc/R/library/RcppEigen/include/Eigen/src/Core/util/XprHelper.h:170:44: warning: ignoring attributes on template argument ‘Eigen::internal::packet_traits::type {aka __vector(2) double}’ [-Wignored-attributes]
bool Stop = Size==Dynamic || (Size%unpacket_traits::size)==0 || is_same::half>::value>
~~~~~^~~~~~~~~~~~~~~~~~~~~~~~~~~~~~~~~~~
/home/biocbuild/bbs-3.9-bioc/R/library/RcppEigen/include/Eigen/src/Core/util/XprHelper.h:170:83: warning: ignoring attributes on template argument ‘Eigen::internal::packet_traits::type {aka __vector(2) double}’ [-Wignored-attributes]
bool Stop = Size==Dynamic || (Size%unpacket_traits::size)==0 || is_same::half>::value>
~~~~~~~~~~~~~~~~~~~~~~~~~~~~~~~~~~~~~~~~~~~~~~~~~~~~~~~~~~~~~^~~~~~~~~~~~~~~~~~~~~~~~~~~~~~~~~~~~~~~~~~~~~~~~~~~~~~~~~~~~~~~~~
/home/biocbuild/bbs-3.9-bioc/R/library/RcppEigen/include/Eigen/src/Core/util/XprHelper.h:170:83: warning: ignoring attributes on template argument ‘Eigen::internal::packet_traits::type {aka __vector(2) double}’ [-Wignored-attributes]
/home/biocbuild/bbs-3.9-bioc/R/library/RcppEigen/include/Eigen/src/Core/util/XprHelper.h:170:83: warning: ignoring attributes on template argument ‘Eigen::internal::unpacket_traits<__vector(2) double>::half {aka __vector(2) double}’ [-Wignored-attributes]
/home/biocbuild/bbs-3.9-bioc/R/library/RcppEigen/include/Eigen/src/Core/util/XprHelper.h:188:88: warning: ignoring attributes on template argument ‘Eigen::internal::packet_traits::type {aka __vector(2) double}’ [-Wignored-attributes]
typedef typename find_best_packet_helper::type>::type type;
^~~~
In file included from /home/biocbuild/bbs-3.9-bioc/R/library/RcppEigen/include/Eigen/Core:434:0,
from /home/biocbuild/bbs-3.9-bioc/R/library/RcppEigen/include/Eigen/Dense:1,
from ./include/gin/types.h:6,
from ./include/gin/globals.h:4,
from ./include/gin/feature_selection/scones.h:8,
from src/feature_selection/feature_selector.cc:9:
/home/biocbuild/bbs-3.9-bioc/R/library/RcppEigen/include/Eigen/src/Core/DenseCoeffsBase.h: In instantiation of ‘class Eigen::DenseCoeffsBase, 0>’:
/home/biocbuild/bbs-3.9-bioc/R/library/RcppEigen/include/Eigen/src/Core/DenseCoeffsBase.h:300:7: required from ‘class Eigen::DenseCoeffsBase, 1>’
/home/biocbuild/bbs-3.9-bioc/R/library/RcppEigen/include/Eigen/src/Core/DenseCoeffsBase.h:551:7: required from ‘class Eigen::DenseCoeffsBase, 3>’
/home/biocbuild/bbs-3.9-bioc/R/library/RcppEigen/include/Eigen/src/Core/DenseBase.h:41:34: required from ‘class Eigen::DenseBase >’
/home/biocbuild/bbs-3.9-bioc/R/library/RcppEigen/include/Eigen/src/Core/MatrixBase.h:48:34: required from ‘class Eigen::MatrixBase >’
/home/biocbuild/bbs-3.9-bioc/R/library/RcppEigen/include/Eigen/src/Core/PlainObjectBase.h:98:7: required from ‘class Eigen::PlainObjectBase >’
/home/biocbuild/bbs-3.9-bioc/R/library/RcppEigen/include/Eigen/src/Core/Matrix.h:178:7: required from ‘class Eigen::Matrix’
./include/gin/feature_selection/feature_selector.h:20:11: required from here
/home/biocbuild/bbs-3.9-bioc/R/library/RcppEigen/include/Eigen/src/Core/DenseCoeffsBase.h:55:30: warning: ignoring attributes on template argument ‘Eigen::internal::packet_traits::type {aka __vector(2) double}’ [-Wignored-attributes]
>::type PacketReturnType;
^~~~~~~~~~~~~~~~
/home/biocbuild/bbs-3.9-bioc/R/library/RcppEigen/include/Eigen/src/Core/DenseCoeffsBase.h: In instantiation of ‘class Eigen::DenseCoeffsBase, Eigen::Matrix >, 0>’:
/home/biocbuild/bbs-3.9-bioc/R/library/RcppEigen/include/Eigen/src/Core/DenseBase.h:41:34: required from ‘class Eigen::DenseBase, Eigen::Matrix > >’
/home/biocbuild/bbs-3.9-bioc/R/library/RcppEigen/include/Eigen/src/Core/MatrixBase.h:48:34: required from ‘class Eigen::MatrixBase, Eigen::Matrix > >’
/home/biocbuild/bbs-3.9-bioc/R/library/RcppEigen/include/Eigen/src/Core/CwiseNullaryOp.h:60:7: required from ‘class Eigen::CwiseNullaryOp, Eigen::Matrix >’
src/feature_selection/feature_selector.cc:14:42: required from here
/home/biocbuild/bbs-3.9-bioc/R/library/RcppEigen/include/Eigen/src/Core/DenseCoeffsBase.h:55:30: warning: ignoring attributes on template argument ‘Eigen::internal::packet_traits::type {aka __vector(2) double}’ [-Wignored-attributes]
g++ -std=gnu++11 -I"/home/biocbuild/bbs-3.9-bioc/R/include" -DNDEBUG -I"/home/biocbuild/bbs-3.9-bioc/R/library/RcppEigen/include" -I/usr/local/include -std=c++11 -fopenmp -D_USE_KNETFILE -D_FILE_OFFSET_BITS=64 -U_FORTIFY_SOURCE -DBGZF_CACHE -DAS_GINLIB -DAS_RGINLIB -I./include -I./lib `/home/biocbuild/bbs-3.9-bioc/R/bin/Rscript -e "Rcpp:::CxxFlags()"` -lz -fpic -g -O2 -Wall -c src/feature_selection/scones.cc -o src/feature_selection/scones.o
In file included from /home/biocbuild/bbs-3.9-bioc/R/library/RcppEigen/include/Eigen/Core:392:0,
from /home/biocbuild/bbs-3.9-bioc/R/library/RcppEigen/include/Eigen/Dense:1,
from ./include/gin/types.h:6,
from ./include/gin/globals.h:4,
from ./include/gin/feature_selection/scones.h:8,
from src/feature_selection/scones.cc:5:
/home/biocbuild/bbs-3.9-bioc/R/library/RcppEigen/include/Eigen/src/Core/arch/SSE/PacketMath.h:60:39: warning: ignoring attributes on template argument ‘__m128 {aka __vector(4) float}’ [-Wignored-attributes]
template<> struct is_arithmetic<__m128> { enum { value = true }; };
^
/home/biocbuild/bbs-3.9-bioc/R/library/RcppEigen/include/Eigen/src/Core/arch/SSE/PacketMath.h:61:40: warning: ignoring attributes on template argument ‘__m128i {aka __vector(2) long long int}’ [-Wignored-attributes]
template<> struct is_arithmetic<__m128i> { enum { value = true }; };
^
/home/biocbuild/bbs-3.9-bioc/R/library/RcppEigen/include/Eigen/src/Core/arch/SSE/PacketMath.h:62:40: warning: ignoring attributes on template argument ‘__m128d {aka __vector(2) double}’ [-Wignored-attributes]
template<> struct is_arithmetic<__m128d> { enum { value = true }; };
^
/home/biocbuild/bbs-3.9-bioc/R/library/RcppEigen/include/Eigen/src/Core/arch/SSE/PacketMath.h:161:43: warning: ignoring attributes on template argument ‘Eigen::internal::Packet4f {aka __vector(4) float}’ [-Wignored-attributes]
template<> struct unpacket_traits { typedef float type; enum {size=4, alignment=Aligned16}; typedef Packet4f half; };
^
In file included from /home/biocbuild/bbs-3.9-bioc/R/library/RcppEigen/include/Eigen/Core:392:0,
from /home/biocbuild/bbs-3.9-bioc/R/library/RcppEigen/include/Eigen/Dense:1,
from ./include/gin/types.h:6,
from ./include/gin/globals.h:4,
from ./include/gin/feature_selection/scones.h:8,
from src/feature_selection/scones.cc:5:
/home/biocbuild/bbs-3.9-bioc/R/library/RcppEigen/include/Eigen/src/Core/arch/SSE/PacketMath.h:162:43: warning: ignoring attributes on template argument ‘Eigen::internal::Packet2d {aka __vector(2) double}’ [-Wignored-attributes]
template<> struct unpacket_traits { typedef double type; enum {size=2, alignment=Aligned16}; typedef Packet2d half; };
^
/home/biocbuild/bbs-3.9-bioc/R/library/RcppEigen/include/Eigen/src/Core/arch/SSE/PacketMath.h:163:43: warning: ignoring attributes on template argument ‘Eigen::internal::Packet4i {aka __vector(2) long long int}’ [-Wignored-attributes]
template<> struct unpacket_traits { typedef int type; enum {size=4, alignment=Aligned16}; typedef Packet4i half; };
^
/home/biocbuild/bbs-3.9-bioc/R/library/RcppEigen/include/Eigen/src/Core/arch/SSE/PacketMath.h:718:35: warning: ignoring attributes on template argument ‘Eigen::internal::Packet4f {aka __vector(4) float}’ [-Wignored-attributes]
struct palign_impl
^
/home/biocbuild/bbs-3.9-bioc/R/library/RcppEigen/include/Eigen/src/Core/arch/SSE/PacketMath.h:741:35: warning: ignoring attributes on template argument ‘Eigen::internal::Packet4i {aka __vector(2) long long int}’ [-Wignored-attributes]
struct palign_impl
^
/home/biocbuild/bbs-3.9-bioc/R/library/RcppEigen/include/Eigen/src/Core/arch/SSE/PacketMath.h:764:35: warning: ignoring attributes on template argument ‘Eigen::internal::Packet2d {aka __vector(2) double}’ [-Wignored-attributes]
struct palign_impl
^
/home/biocbuild/bbs-3.9-bioc/R/library/RcppEigen/include/Eigen/src/Core/arch/SSE/PacketMath.h:778:34: warning: ignoring attributes on template argument ‘Eigen::internal::Packet4f {aka __vector(4) float}’ [-Wignored-attributes]
ptranspose(PacketBlock& kernel) {
^
/home/biocbuild/bbs-3.9-bioc/R/library/RcppEigen/include/Eigen/src/Core/arch/SSE/PacketMath.h:783:34: warning: ignoring attributes on template argument ‘Eigen::internal::Packet2d {aka __vector(2) double}’ [-Wignored-attributes]
ptranspose(PacketBlock& kernel) {
^
/home/biocbuild/bbs-3.9-bioc/R/library/RcppEigen/include/Eigen/src/Core/arch/SSE/PacketMath.h:790:34: warning: ignoring attributes on template argument ‘Eigen::internal::Packet4i {aka __vector(2) long long int}’ [-Wignored-attributes]
ptranspose(PacketBlock& kernel) {
^
In file included from /home/biocbuild/bbs-3.9-bioc/R/library/RcppEigen/include/Eigen/Core:374:0,
from /home/biocbuild/bbs-3.9-bioc/R/library/RcppEigen/include/Eigen/Dense:1,
from ./include/gin/types.h:6,
from ./include/gin/globals.h:4,
from ./include/gin/feature_selection/scones.h:8,
from src/feature_selection/scones.cc:5:
/home/biocbuild/bbs-3.9-bioc/R/library/RcppEigen/include/Eigen/src/Core/arch/Default/ConjHelper.h:15:70: warning: ignoring attributes on template argument ‘Eigen::internal::Packet4f {aka __vector(4) float}’ [-Wignored-attributes]
template<> struct conj_helper { \
^
/home/biocbuild/bbs-3.9-bioc/R/library/RcppEigen/include/Eigen/src/Core/arch/SSE/Complex.h:232:1: note: in expansion of macro ‘EIGEN_MAKE_CONJ_HELPER_CPLX_REAL’
EIGEN_MAKE_CONJ_HELPER_CPLX_REAL(Packet2cf,Packet4f)
^~~~~~~~~~~~~~~~~~~~~~~~~~~~~~~~
/home/biocbuild/bbs-3.9-bioc/R/library/RcppEigen/include/Eigen/src/Core/arch/Default/ConjHelper.h:22:70: warning: ignoring attributes on template argument ‘Eigen::internal::Packet4f {aka __vector(4) float}’ [-Wignored-attributes]
template<> struct conj_helper { \
^
/home/biocbuild/bbs-3.9-bioc/R/library/RcppEigen/include/Eigen/src/Core/arch/SSE/Complex.h:232:1: note: in expansion of macro ‘EIGEN_MAKE_CONJ_HELPER_CPLX_REAL’
EIGEN_MAKE_CONJ_HELPER_CPLX_REAL(Packet2cf,Packet4f)
^~~~~~~~~~~~~~~~~~~~~~~~~~~~~~~~
/home/biocbuild/bbs-3.9-bioc/R/library/RcppEigen/include/Eigen/src/Core/arch/Default/ConjHelper.h:15:70: warning: ignoring attributes on template argument ‘Eigen::internal::Packet2d {aka __vector(2) double}’ [-Wignored-attributes]
template<> struct conj_helper { \
^
/home/biocbuild/bbs-3.9-bioc/R/library/RcppEigen/include/Eigen/src/Core/arch/SSE/Complex.h:417:1: note: in expansion of macro ‘EIGEN_MAKE_CONJ_HELPER_CPLX_REAL’
EIGEN_MAKE_CONJ_HELPER_CPLX_REAL(Packet1cd,Packet2d)
^~~~~~~~~~~~~~~~~~~~~~~~~~~~~~~~
/home/biocbuild/bbs-3.9-bioc/R/library/RcppEigen/include/Eigen/src/Core/arch/Default/ConjHelper.h:22:70: warning: ignoring attributes on template argument ‘Eigen::internal::Packet2d {aka __vector(2) double}’ [-Wignored-attributes]
template<> struct conj_helper { \
^
/home/biocbuild/bbs-3.9-bioc/R/library/RcppEigen/include/Eigen/src/Core/arch/SSE/Complex.h:417:1: note: in expansion of macro ‘EIGEN_MAKE_CONJ_HELPER_CPLX_REAL’
EIGEN_MAKE_CONJ_HELPER_CPLX_REAL(Packet1cd,Packet2d)
^~~~~~~~~~~~~~~~~~~~~~~~~~~~~~~~
In file included from /home/biocbuild/bbs-3.9-bioc/R/library/RcppEigen/include/Eigen/Core:367:0,
from /home/biocbuild/bbs-3.9-bioc/R/library/RcppEigen/include/Eigen/Dense:1,
from ./include/gin/types.h:6,
from ./include/gin/globals.h:4,
from ./include/gin/feature_selection/scones.h:8,
from src/feature_selection/scones.cc:5:
/home/biocbuild/bbs-3.9-bioc/R/library/RcppEigen/include/Eigen/src/Core/util/XprHelper.h: In instantiation of ‘struct Eigen::internal::find_best_packet’:
/home/biocbuild/bbs-3.9-bioc/R/library/RcppEigen/include/Eigen/src/Core/Matrix.h:22:57: required from ‘struct Eigen::internal::traits >’
/home/biocbuild/bbs-3.9-bioc/R/library/RcppEigen/include/Eigen/src/Geometry/Quaternion.h:224:7: required from ‘struct Eigen::internal::traits >’
/home/biocbuild/bbs-3.9-bioc/R/library/RcppEigen/include/Eigen/src/Geometry/arch/Geometry_SSE.h:24:46: required from here
/home/biocbuild/bbs-3.9-bioc/R/library/RcppEigen/include/Eigen/src/Core/util/XprHelper.h:170:44: warning: ignoring attributes on template argument ‘Eigen::internal::packet_traits::type {aka __vector(4) float}’ [-Wignored-attributes]
bool Stop = Size==Dynamic || (Size%unpacket_traits::size)==0 || is_same::half>::value>
~~~~~^~~~~~~~~~~~~~~~~~~~~~~~~~~~~~~~~~~
/home/biocbuild/bbs-3.9-bioc/R/library/RcppEigen/include/Eigen/src/Core/util/XprHelper.h:170:83: warning: ignoring attributes on template argument ‘Eigen::internal::packet_traits::type {aka __vector(4) float}’ [-Wignored-attributes]
bool Stop = Size==Dynamic || (Size%unpacket_traits::size)==0 || is_same::half>::value>
~~~~~~~~~~~~~~~~~~~~~~~~~~~~~~~~~~~~~~~~~~~~~~~~~~~~~~~~~~~~~^~~~~~~~~~~~~~~~~~~~~~~~~~~~~~~~~~~~~~~~~~~~~~~~~~~~~~~~~~~~~~~~~
/home/biocbuild/bbs-3.9-bioc/R/library/RcppEigen/include/Eigen/src/Core/util/XprHelper.h:170:83: warning: ignoring attributes on template argument ‘Eigen::internal::packet_traits::type {aka __vector(4) float}’ [-Wignored-attributes]
/home/biocbuild/bbs-3.9-bioc/R/library/RcppEigen/include/Eigen/src/Core/util/XprHelper.h:170:83: warning: ignoring attributes on template argument ‘Eigen::internal::unpacket_traits<__vector(4) float>::half {aka __vector(4) float}’ [-Wignored-attributes]
/home/biocbuild/bbs-3.9-bioc/R/library/RcppEigen/include/Eigen/src/Core/util/XprHelper.h:188:88: warning: ignoring attributes on template argument ‘Eigen::internal::packet_traits::type {aka __vector(4) float}’ [-Wignored-attributes]
typedef typename find_best_packet_helper::type>::type type;
^~~~
In file included from /home/biocbuild/bbs-3.9-bioc/R/library/RcppEigen/include/Eigen/Core:434:0,
from /home/biocbuild/bbs-3.9-bioc/R/library/RcppEigen/include/Eigen/Dense:1,
from ./include/gin/types.h:6,
from ./include/gin/globals.h:4,
from ./include/gin/feature_selection/scones.h:8,
from src/feature_selection/scones.cc:5:
/home/biocbuild/bbs-3.9-bioc/R/library/RcppEigen/include/Eigen/src/Core/DenseCoeffsBase.h: In instantiation of ‘class Eigen::DenseCoeffsBase, 0>’:
/home/biocbuild/bbs-3.9-bioc/R/library/RcppEigen/include/Eigen/src/Core/DenseCoeffsBase.h:300:7: required from ‘class Eigen::DenseCoeffsBase, 1>’
/home/biocbuild/bbs-3.9-bioc/R/library/RcppEigen/include/Eigen/src/Core/DenseCoeffsBase.h:551:7: required from ‘class Eigen::DenseCoeffsBase, 3>’
/home/biocbuild/bbs-3.9-bioc/R/library/RcppEigen/include/Eigen/src/Core/DenseBase.h:41:34: required from ‘class Eigen::DenseBase >’
/home/biocbuild/bbs-3.9-bioc/R/library/RcppEigen/include/Eigen/src/Core/MatrixBase.h:48:34: required from ‘class Eigen::MatrixBase >’
/home/biocbuild/bbs-3.9-bioc/R/library/RcppEigen/include/Eigen/src/Core/PlainObjectBase.h:98:7: required from ‘class Eigen::PlainObjectBase >’
/home/biocbuild/bbs-3.9-bioc/R/library/RcppEigen/include/Eigen/src/Core/Matrix.h:178:7: required from ‘class Eigen::Matrix’
/home/biocbuild/bbs-3.9-bioc/R/library/RcppEigen/include/Eigen/src/Geometry/Quaternion.h:46:50: required from ‘class Eigen::QuaternionBase >’
/home/biocbuild/bbs-3.9-bioc/R/library/RcppEigen/include/Eigen/src/Geometry/Quaternion.h:232:7: required from ‘class Eigen::Quaternion’
/home/biocbuild/bbs-3.9-bioc/R/library/RcppEigen/include/Eigen/src/Geometry/arch/Geometry_SSE.h:27:3: required from here
/home/biocbuild/bbs-3.9-bioc/R/library/RcppEigen/include/Eigen/src/Core/DenseCoeffsBase.h:55:30: warning: ignoring attributes on template argument ‘Eigen::internal::packet_traits::type {aka __vector(4) float}’ [-Wignored-attributes]
>::type PacketReturnType;
^~~~~~~~~~~~~~~~
In file included from /home/biocbuild/bbs-3.9-bioc/R/library/RcppEigen/include/Eigen/Core:367:0,
from /home/biocbuild/bbs-3.9-bioc/R/library/RcppEigen/include/Eigen/Dense:1,
from ./include/gin/types.h:6,
from ./include/gin/globals.h:4,
from ./include/gin/feature_selection/scones.h:8,
from src/feature_selection/scones.cc:5:
/home/biocbuild/bbs-3.9-bioc/R/library/RcppEigen/include/Eigen/src/Core/util/XprHelper.h: In instantiation of ‘struct Eigen::internal::find_best_packet’:
/home/biocbuild/bbs-3.9-bioc/R/library/RcppEigen/include/Eigen/src/Core/Matrix.h:22:57: required from ‘struct Eigen::internal::traits >’
/home/biocbuild/bbs-3.9-bioc/R/library/RcppEigen/include/Eigen/src/Geometry/Quaternion.h:224:7: required from ‘struct Eigen::internal::traits >’
/home/biocbuild/bbs-3.9-bioc/R/library/RcppEigen/include/Eigen/src/Geometry/arch/Geometry_SSE.h:88:47: required from here
/home/biocbuild/bbs-3.9-bioc/R/library/RcppEigen/include/Eigen/src/Core/util/XprHelper.h:170:44: warning: ignoring attributes on template argument ‘Eigen::internal::packet_traits::type {aka __vector(2) double}’ [-Wignored-attributes]
bool Stop = Size==Dynamic || (Size%unpacket_traits::size)==0 || is_same::half>::value>
~~~~~^~~~~~~~~~~~~~~~~~~~~~~~~~~~~~~~~~~
/home/biocbuild/bbs-3.9-bioc/R/library/RcppEigen/include/Eigen/src/Core/util/XprHelper.h:170:83: warning: ignoring attributes on template argument ‘Eigen::internal::packet_traits::type {aka __vector(2) double}’ [-Wignored-attributes]
bool Stop = Size==Dynamic || (Size%unpacket_traits::size)==0 || is_same::half>::value>
~~~~~~~~~~~~~~~~~~~~~~~~~~~~~~~~~~~~~~~~~~~~~~~~~~~~~~~~~~~~~^~~~~~~~~~~~~~~~~~~~~~~~~~~~~~~~~~~~~~~~~~~~~~~~~~~~~~~~~~~~~~~~~
/home/biocbuild/bbs-3.9-bioc/R/library/RcppEigen/include/Eigen/src/Core/util/XprHelper.h:170:83: warning: ignoring attributes on template argument ‘Eigen::internal::packet_traits::type {aka __vector(2) double}’ [-Wignored-attributes]
/home/biocbuild/bbs-3.9-bioc/R/library/RcppEigen/include/Eigen/src/Core/util/XprHelper.h:170:83: warning: ignoring attributes on template argument ‘Eigen::internal::unpacket_traits<__vector(2) double>::half {aka __vector(2) double}’ [-Wignored-attributes]
/home/biocbuild/bbs-3.9-bioc/R/library/RcppEigen/include/Eigen/src/Core/util/XprHelper.h:188:88: warning: ignoring attributes on template argument ‘Eigen::internal::packet_traits::type {aka __vector(2) double}’ [-Wignored-attributes]
typedef typename find_best_packet_helper::type>::type type;
^~~~
In file included from /home/biocbuild/bbs-3.9-bioc/R/library/RcppEigen/include/Eigen/Core:434:0,
from /home/biocbuild/bbs-3.9-bioc/R/library/RcppEigen/include/Eigen/Dense:1,
from ./include/gin/types.h:6,
from ./include/gin/globals.h:4,
from ./include/gin/feature_selection/scones.h:8,
from src/feature_selection/scones.cc:5:
/home/biocbuild/bbs-3.9-bioc/R/library/RcppEigen/include/Eigen/src/Core/DenseCoeffsBase.h: In instantiation of ‘class Eigen::DenseCoeffsBase, 0>’:
/home/biocbuild/bbs-3.9-bioc/R/library/RcppEigen/include/Eigen/src/Core/DenseCoeffsBase.h:300:7: required from ‘class Eigen::DenseCoeffsBase, 1>’
/home/biocbuild/bbs-3.9-bioc/R/library/RcppEigen/include/Eigen/src/Core/DenseCoeffsBase.h:551:7: required from ‘class Eigen::DenseCoeffsBase, 3>’
/home/biocbuild/bbs-3.9-bioc/R/library/RcppEigen/include/Eigen/src/Core/DenseBase.h:41:34: required from ‘class Eigen::DenseBase >’
/home/biocbuild/bbs-3.9-bioc/R/library/RcppEigen/include/Eigen/src/Core/MatrixBase.h:48:34: required from ‘class Eigen::MatrixBase >’
/home/biocbuild/bbs-3.9-bioc/R/library/RcppEigen/include/Eigen/src/Core/PlainObjectBase.h:98:7: required from ‘class Eigen::PlainObjectBase >’
/home/biocbuild/bbs-3.9-bioc/R/library/RcppEigen/include/Eigen/src/Core/Matrix.h:178:7: required from ‘class Eigen::Matrix’
/home/biocbuild/bbs-3.9-bioc/R/library/RcppEigen/include/Eigen/src/Geometry/Quaternion.h:46:50: required from ‘class Eigen::QuaternionBase >’
/home/biocbuild/bbs-3.9-bioc/R/library/RcppEigen/include/Eigen/src/Geometry/Quaternion.h:232:7: required from ‘class Eigen::Quaternion’
/home/biocbuild/bbs-3.9-bioc/R/library/RcppEigen/include/Eigen/src/Geometry/arch/Geometry_SSE.h:92:3: required from here
/home/biocbuild/bbs-3.9-bioc/R/library/RcppEigen/include/Eigen/src/Core/DenseCoeffsBase.h:55:30: warning: ignoring attributes on template argument ‘Eigen::internal::packet_traits::type {aka __vector(2) double}’ [-Wignored-attributes]
>::type PacketReturnType;
^~~~~~~~~~~~~~~~
In file included from /home/biocbuild/bbs-3.9-bioc/R/library/RcppEigen/include/Eigen/SparseCore:37:0,
from /home/biocbuild/bbs-3.9-bioc/R/library/RcppEigen/include/Eigen/Sparse:26,
from ./include/gin/types.h:7,
from ./include/gin/globals.h:4,
from ./include/gin/feature_selection/scones.h:8,
from src/feature_selection/scones.cc:5:
/home/biocbuild/bbs-3.9-bioc/R/library/RcppEigen/include/Eigen/src/SparseCore/SparseMatrixBase.h: In instantiation of ‘class Eigen::SparseMatrixBase >’:
/home/biocbuild/bbs-3.9-bioc/R/library/RcppEigen/include/Eigen/src/SparseCore/SparseCompressedBase.h:36:7: required from ‘class Eigen::SparseCompressedBase >’
/home/biocbuild/bbs-3.9-bioc/R/library/RcppEigen/include/Eigen/src/SparseCore/SparseMatrix.h:96:7: required from ‘class Eigen::SparseMatrix’
./include/gin/types.h:27:31: required from here
/home/biocbuild/bbs-3.9-bioc/R/library/RcppEigen/include/Eigen/src/SparseCore/SparseMatrixBase.h:47:30: warning: ignoring attributes on template argument ‘Eigen::internal::packet_traits::type {aka __vector(2) double}’ [-Wignored-attributes]
>::type PacketReturnType;
^~~~~~~~~~~~~~~~
In file included from /home/biocbuild/bbs-3.9-bioc/R/library/RcppEigen/include/Eigen/Core:367:0,
from /home/biocbuild/bbs-3.9-bioc/R/library/RcppEigen/include/Eigen/Dense:1,
from ./include/gin/types.h:6,
from ./include/gin/globals.h:4,
from ./include/gin/feature_selection/scones.h:8,
from src/feature_selection/scones.cc:5:
/home/biocbuild/bbs-3.9-bioc/R/library/RcppEigen/include/Eigen/src/Core/util/XprHelper.h: In instantiation of ‘struct Eigen::internal::find_best_packet’:
/home/biocbuild/bbs-3.9-bioc/R/library/RcppEigen/include/Eigen/src/Core/Matrix.h:22:57: required from ‘struct Eigen::internal::traits >’
/home/biocbuild/bbs-3.9-bioc/R/library/RcppEigen/include/Eigen/src/Core/PlainObjectBase.h:98:7: required from ‘class Eigen::PlainObjectBase >’
/home/biocbuild/bbs-3.9-bioc/R/library/RcppEigen/include/Eigen/src/Core/Matrix.h:178:7: required from ‘class Eigen::Matrix’
./include/gin/feature_selection/feature_selector.h:20:11: required from here
/home/biocbuild/bbs-3.9-bioc/R/library/RcppEigen/include/Eigen/src/Core/util/XprHelper.h:170:44: warning: ignoring attributes on template argument ‘Eigen::internal::packet_traits::type {aka __vector(2) double}’ [-Wignored-attributes]
bool Stop = Size==Dynamic || (Size%unpacket_traits::size)==0 || is_same::half>::value>
~~~~~^~~~~~~~~~~~~~~~~~~~~~~~~~~~~~~~~~~
/home/biocbuild/bbs-3.9-bioc/R/library/RcppEigen/include/Eigen/src/Core/util/XprHelper.h:170:83: warning: ignoring attributes on template argument ‘Eigen::internal::packet_traits::type {aka __vector(2) double}’ [-Wignored-attributes]
bool Stop = Size==Dynamic || (Size%unpacket_traits::size)==0 || is_same::half>::value>
~~~~~~~~~~~~~~~~~~~~~~~~~~~~~~~~~~~~~~~~~~~~~~~~~~~~~~~~~~~~~^~~~~~~~~~~~~~~~~~~~~~~~~~~~~~~~~~~~~~~~~~~~~~~~~~~~~~~~~~~~~~~~~
/home/biocbuild/bbs-3.9-bioc/R/library/RcppEigen/include/Eigen/src/Core/util/XprHelper.h:170:83: warning: ignoring attributes on template argument ‘Eigen::internal::packet_traits::type {aka __vector(2) double}’ [-Wignored-attributes]
/home/biocbuild/bbs-3.9-bioc/R/library/RcppEigen/include/Eigen/src/Core/util/XprHelper.h:170:83: warning: ignoring attributes on template argument ‘Eigen::internal::unpacket_traits<__vector(2) double>::half {aka __vector(2) double}’ [-Wignored-attributes]
/home/biocbuild/bbs-3.9-bioc/R/library/RcppEigen/include/Eigen/src/Core/util/XprHelper.h:188:88: warning: ignoring attributes on template argument ‘Eigen::internal::packet_traits::type {aka __vector(2) double}’ [-Wignored-attributes]
typedef typename find_best_packet_helper::type>::type type;
^~~~
In file included from /home/biocbuild/bbs-3.9-bioc/R/library/RcppEigen/include/Eigen/Core:434:0,
from /home/biocbuild/bbs-3.9-bioc/R/library/RcppEigen/include/Eigen/Dense:1,
from ./include/gin/types.h:6,
from ./include/gin/globals.h:4,
from ./include/gin/feature_selection/scones.h:8,
from src/feature_selection/scones.cc:5:
/home/biocbuild/bbs-3.9-bioc/R/library/RcppEigen/include/Eigen/src/Core/DenseCoeffsBase.h: In instantiation of ‘class Eigen::DenseCoeffsBase, 0>’:
/home/biocbuild/bbs-3.9-bioc/R/library/RcppEigen/include/Eigen/src/Core/DenseCoeffsBase.h:300:7: required from ‘class Eigen::DenseCoeffsBase, 1>’
/home/biocbuild/bbs-3.9-bioc/R/library/RcppEigen/include/Eigen/src/Core/DenseCoeffsBase.h:551:7: required from ‘class Eigen::DenseCoeffsBase, 3>’
/home/biocbuild/bbs-3.9-bioc/R/library/RcppEigen/include/Eigen/src/Core/DenseBase.h:41:34: required from ‘class Eigen::DenseBase >’
/home/biocbuild/bbs-3.9-bioc/R/library/RcppEigen/include/Eigen/src/Core/MatrixBase.h:48:34: required from ‘class Eigen::MatrixBase >’
/home/biocbuild/bbs-3.9-bioc/R/library/RcppEigen/include/Eigen/src/Core/PlainObjectBase.h:98:7: required from ‘class Eigen::PlainObjectBase >’
/home/biocbuild/bbs-3.9-bioc/R/library/RcppEigen/include/Eigen/src/Core/Matrix.h:178:7: required from ‘class Eigen::Matrix’
./include/gin/feature_selection/feature_selector.h:20:11: required from here
/home/biocbuild/bbs-3.9-bioc/R/library/RcppEigen/include/Eigen/src/Core/DenseCoeffsBase.h:55:30: warning: ignoring attributes on template argument ‘Eigen::internal::packet_traits::type {aka __vector(2) double}’ [-Wignored-attributes]
>::type PacketReturnType;
^~~~~~~~~~~~~~~~
/home/biocbuild/bbs-3.9-bioc/R/library/RcppEigen/include/Eigen/src/Core/DenseCoeffsBase.h: In instantiation of ‘class Eigen::DenseCoeffsBase, const Eigen::Matrix >, 0>’:
/home/biocbuild/bbs-3.9-bioc/R/library/RcppEigen/include/Eigen/src/Core/DenseBase.h:41:34: required from ‘class Eigen::DenseBase, const Eigen::Matrix > >’
/home/biocbuild/bbs-3.9-bioc/R/library/RcppEigen/include/Eigen/src/Core/MatrixBase.h:48:34: required from ‘class Eigen::MatrixBase, const Eigen::Matrix > >’
/home/biocbuild/bbs-3.9-bioc/R/library/RcppEigen/include/Eigen/src/Core/CwiseNullaryOp.h:60:7: required from ‘class Eigen::CwiseNullaryOp, const Eigen::Matrix >’
/home/biocbuild/bbs-3.9-bioc/R/library/RcppEigen/include/Eigen/src/Core/CwiseBinaryOp.h:38:28: required from ‘struct Eigen::internal::traits, const Eigen::CwiseNullaryOp, const Eigen::Matrix >, const Eigen::SparseMatrix > >’
/home/biocbuild/bbs-3.9-bioc/R/library/RcppEigen/include/Eigen/src/Core/EigenBase.h:41:59: required from ‘struct Eigen::EigenBase, const Eigen::CwiseNullaryOp, const Eigen::Matrix >, const Eigen::SparseMatrix > >’
/home/biocbuild/bbs-3.9-bioc/R/library/RcppEigen/include/Eigen/src/SparseCore/SparseMatrixBase.h:26:34: required from ‘class Eigen::SparseMatrixBase, const Eigen::CwiseNullaryOp, const Eigen::Matrix >, const Eigen::SparseMatrix > >’
/home/biocbuild/bbs-3.9-bioc/R/library/RcppEigen/include/Eigen/src/SparseCore/SparseCwiseBinaryOp.h:36:7: required from ‘class Eigen::CwiseBinaryOpImpl, const Eigen::CwiseNullaryOp, const Eigen::Matrix >, const Eigen::SparseMatrix, Eigen::Sparse>’
/home/biocbuild/bbs-3.9-bioc/R/library/RcppEigen/include/Eigen/src/Core/CwiseBinaryOp.h:77:7: required from ‘class Eigen::CwiseBinaryOp, const Eigen::CwiseNullaryOp, const Eigen::Matrix >, const Eigen::SparseMatrix >’
src/feature_selection/scones.cc:19:23: required from here
/home/biocbuild/bbs-3.9-bioc/R/library/RcppEigen/include/Eigen/src/Core/DenseCoeffsBase.h:55:30: warning: ignoring attributes on template argument ‘Eigen::internal::packet_traits::type {aka __vector(2) double}’ [-Wignored-attributes]
In file included from /home/biocbuild/bbs-3.9-bioc/R/library/RcppEigen/include/Eigen/SparseCore:37:0,
from /home/biocbuild/bbs-3.9-bioc/R/library/RcppEigen/include/Eigen/Sparse:26,
from ./include/gin/types.h:7,
from ./include/gin/globals.h:4,
from ./include/gin/feature_selection/scones.h:8,
from src/feature_selection/scones.cc:5:
/home/biocbuild/bbs-3.9-bioc/R/library/RcppEigen/include/Eigen/src/SparseCore/SparseMatrixBase.h: In instantiation of ‘class Eigen::SparseMatrixBase, const Eigen::CwiseNullaryOp, const Eigen::Matrix >, const Eigen::SparseMatrix > >’:
/home/biocbuild/bbs-3.9-bioc/R/library/RcppEigen/include/Eigen/src/SparseCore/SparseCwiseBinaryOp.h:36:7: required from ‘class Eigen::CwiseBinaryOpImpl, const Eigen::CwiseNullaryOp, const Eigen::Matrix >, const Eigen::SparseMatrix, Eigen::Sparse>’
/home/biocbuild/bbs-3.9-bioc/R/library/RcppEigen/include/Eigen/src/Core/CwiseBinaryOp.h:77:7: required from ‘class Eigen::CwiseBinaryOp, const Eigen::CwiseNullaryOp, const Eigen::Matrix >, const Eigen::SparseMatrix >’
src/feature_selection/scones.cc:19:23: required from here
/home/biocbuild/bbs-3.9-bioc/R/library/RcppEigen/include/Eigen/src/SparseCore/SparseMatrixBase.h:47:30: warning: ignoring attributes on template argument ‘Eigen::internal::packet_traits::type {aka __vector(2) double}’ [-Wignored-attributes]
>::type PacketReturnType;
^~~~~~~~~~~~~~~~
In file included from /home/biocbuild/bbs-3.9-bioc/R/library/RcppEigen/include/Eigen/Core:434:0,
from /home/biocbuild/bbs-3.9-bioc/R/library/RcppEigen/include/Eigen/Dense:1,
from ./include/gin/types.h:6,
from ./include/gin/globals.h:4,
from ./include/gin/feature_selection/scones.h:8,
from src/feature_selection/scones.cc:5:
/home/biocbuild/bbs-3.9-bioc/R/library/RcppEigen/include/Eigen/src/Core/DenseCoeffsBase.h: In instantiation of ‘class Eigen::DenseCoeffsBase >, 0>’:
/home/biocbuild/bbs-3.9-bioc/R/library/RcppEigen/include/Eigen/src/Core/DenseCoeffsBase.h:300:7: required from ‘class Eigen::DenseCoeffsBase >, 1>’
/home/biocbuild/bbs-3.9-bioc/R/library/RcppEigen/include/Eigen/src/Core/DenseCoeffsBase.h:551:7: required from ‘class Eigen::DenseCoeffsBase >, 3>’
/home/biocbuild/bbs-3.9-bioc/R/library/RcppEigen/include/Eigen/src/Core/DenseBase.h:41:34: required from ‘class Eigen::DenseBase > >’
/home/biocbuild/bbs-3.9-bioc/R/library/RcppEigen/include/Eigen/src/Core/ArrayBase.h:39:34: required from ‘class Eigen::ArrayBase > >’
/home/biocbuild/bbs-3.9-bioc/R/library/RcppEigen/include/Eigen/src/Core/ArrayWrapper.h:42:7: required from ‘class Eigen::ArrayWrapper >’
src/feature_selection/scones.cc:25:27: required from here
/home/biocbuild/bbs-3.9-bioc/R/library/RcppEigen/include/Eigen/src/Core/DenseCoeffsBase.h:55:30: warning: ignoring attributes on template argument ‘Eigen::internal::packet_traits::type {aka __vector(2) double}’ [-Wignored-attributes]
>::type PacketReturnType;
^~~~~~~~~~~~~~~~
/home/biocbuild/bbs-3.9-bioc/R/library/RcppEigen/include/Eigen/src/Core/DenseCoeffsBase.h: In instantiation of ‘class Eigen::DenseCoeffsBase, const Eigen::Array >, 0>’:
/home/biocbuild/bbs-3.9-bioc/R/library/RcppEigen/include/Eigen/src/Core/DenseBase.h:41:34: required from ‘class Eigen::DenseBase, const Eigen::Array > >’
/home/biocbuild/bbs-3.9-bioc/R/library/RcppEigen/include/Eigen/src/Core/ArrayBase.h:39:34: required from ‘class Eigen::ArrayBase, const Eigen::Array > >’
/home/biocbuild/bbs-3.9-bioc/R/library/RcppEigen/include/Eigen/src/Core/CwiseNullaryOp.h:60:7: required from ‘class Eigen::CwiseNullaryOp, const Eigen::Array >’
/home/biocbuild/bbs-3.9-bioc/R/library/RcppEigen/include/Eigen/src/Core/CwiseBinaryOp.h:38:28: required from ‘struct Eigen::internal::traits, const Eigen::ArrayWrapper >, const Eigen::CwiseNullaryOp, const Eigen::Array > > >’
/home/biocbuild/bbs-3.9-bioc/R/library/RcppEigen/include/Eigen/src/Core/CwiseBinaryOp.h:148:7: required from ‘class Eigen::CwiseBinaryOpImpl, const Eigen::ArrayWrapper >, const Eigen::CwiseNullaryOp, const Eigen::Array >, Eigen::Dense>’
/home/biocbuild/bbs-3.9-bioc/R/library/RcppEigen/include/Eigen/src/Core/CwiseBinaryOp.h:77:7: required from ‘class Eigen::CwiseBinaryOp, const Eigen::ArrayWrapper >, const Eigen::CwiseNullaryOp, const Eigen::Array > >’
src/feature_selection/scones.cc:25:31: required from here
/home/biocbuild/bbs-3.9-bioc/R/library/RcppEigen/include/Eigen/src/Core/DenseCoeffsBase.h:55:30: warning: ignoring attributes on template argument ‘Eigen::internal::packet_traits::type {aka __vector(2) double}’ [-Wignored-attributes]
/home/biocbuild/bbs-3.9-bioc/R/library/RcppEigen/include/Eigen/src/Core/DenseCoeffsBase.h: In instantiation of ‘class Eigen::DenseCoeffsBase, const Eigen::ArrayWrapper >, const Eigen::CwiseNullaryOp, const Eigen::Array > >, 0>’:
/home/biocbuild/bbs-3.9-bioc/R/library/RcppEigen/include/Eigen/src/Core/DenseBase.h:41:34: required from ‘class Eigen::DenseBase, const Eigen::ArrayWrapper >, const Eigen::CwiseNullaryOp, const Eigen::Array > > >’
/home/biocbuild/bbs-3.9-bioc/R/library/RcppEigen/include/Eigen/src/Core/ArrayBase.h:39:34: required from ‘class Eigen::ArrayBase, const Eigen::ArrayWrapper