| Back to Multiple platform build/check report for BioC 3.9 |
|
This page was generated on 2019-10-16 12:43:42 -0400 (Wed, 16 Oct 2019).
| Package 1333/1741 | Hostname | OS / Arch | INSTALL | BUILD | CHECK | BUILD BIN | ||||||
| RcwlPipelines 1.0.11 Qiang Hu
| malbec2 | Linux (Ubuntu 18.04.2 LTS) / x86_64 | OK | OK | OK | |||||||
| tokay2 | Windows Server 2012 R2 Standard / x64 | ERROR | [ ERROR ] | skipped | skipped | |||||||
| celaya2 | OS X 10.11.6 El Capitan / x86_64 | OK | OK | OK | OK |
| Package: RcwlPipelines |
| Version: 1.0.11 |
| Command: chmod a+r RcwlPipelines -R && C:\Users\biocbuild\bbs-3.9-bioc\R\bin\R.exe CMD build --keep-empty-dirs --no-resave-data RcwlPipelines |
| StartedAt: 2019-10-16 01:31:32 -0400 (Wed, 16 Oct 2019) |
| EndedAt: 2019-10-16 01:33:39 -0400 (Wed, 16 Oct 2019) |
| EllapsedTime: 126.9 seconds |
| RetCode: 1 |
| Status: ERROR |
| PackageFile: None |
| PackageFileSize: NA |
##############################################################################
##############################################################################
###
### Running command:
###
### chmod a+r RcwlPipelines -R && C:\Users\biocbuild\bbs-3.9-bioc\R\bin\R.exe CMD build --keep-empty-dirs --no-resave-data RcwlPipelines
###
##############################################################################
##############################################################################
* checking for file 'RcwlPipelines/DESCRIPTION' ... OK
* preparing 'RcwlPipelines':
* checking DESCRIPTION meta-information ... OK
* installing the package to build vignettes
-----------------------------------
ERROR: dependency 'Rcwl' is not available for package 'RcwlPipelines'
* removing 'C:/Users/biocbuild/bbs-3.9-bioc/tmpdir/RtmpALi21n/Rinst29b0426c7aaf/RcwlPipelines'
-----------------------------------
ERROR: package installation failed