| Back to Multiple platform build/check report for BioC 3.9 | 
 | 
This page was generated on 2019-10-16 12:11:41 -0400 (Wed, 16 Oct 2019).
| Package 1443/1741 | Hostname | OS / Arch | INSTALL | BUILD | CHECK | BUILD BIN | ||||||
| RVS 1.6.0 Thomas Sherman 
 | malbec2 | Linux (Ubuntu 18.04.2 LTS) / x86_64 | OK | OK | [ OK ] |  | ||||||
| tokay2 | Windows Server 2012 R2 Standard / x64 | OK | OK | OK | OK |  | ||||||
| celaya2 | OS X 10.11.6 El Capitan / x86_64 | OK | OK | OK | OK |  | 
| Package: RVS | 
| Version: 1.6.0 | 
| Command: /home/biocbuild/bbs-3.9-bioc/R/bin/R CMD check --install=check:RVS.install-out.txt --library=/home/biocbuild/bbs-3.9-bioc/R/library --no-vignettes --timings RVS_1.6.0.tar.gz | 
| StartedAt: 2019-10-16 04:45:27 -0400 (Wed, 16 Oct 2019) | 
| EndedAt: 2019-10-16 04:49:25 -0400 (Wed, 16 Oct 2019) | 
| EllapsedTime: 238.6 seconds | 
| RetCode: 0 | 
| Status: OK | 
| CheckDir: RVS.Rcheck | 
| Warnings: 0 | 
##############################################################################
##############################################################################
###
### Running command:
###
###   /home/biocbuild/bbs-3.9-bioc/R/bin/R CMD check --install=check:RVS.install-out.txt --library=/home/biocbuild/bbs-3.9-bioc/R/library --no-vignettes --timings RVS_1.6.0.tar.gz
###
##############################################################################
##############################################################################
* using log directory ‘/home/biocbuild/bbs-3.9-bioc/meat/RVS.Rcheck’
* using R version 3.6.1 (2019-07-05)
* using platform: x86_64-pc-linux-gnu (64-bit)
* using session charset: UTF-8
* using option ‘--no-vignettes’
* checking for file ‘RVS/DESCRIPTION’ ... OK
* checking extension type ... Package
* this is package ‘RVS’ version ‘1.6.0’
* package encoding: UTF-8
* checking package namespace information ... OK
* checking package dependencies ... OK
* checking if this is a source package ... OK
* checking if there is a namespace ... OK
* checking for hidden files and directories ... OK
* checking for portable file names ... OK
* checking for sufficient/correct file permissions ... OK
* checking whether package ‘RVS’ can be installed ... OK
* checking installed package size ... OK
* checking package directory ... OK
* checking ‘build’ directory ... OK
* checking DESCRIPTION meta-information ... OK
* checking top-level files ... OK
* checking for left-over files ... OK
* checking index information ... OK
* checking package subdirectories ... OK
* checking R files for non-ASCII characters ... OK
* checking R files for syntax errors ... OK
* checking whether the package can be loaded ... OK
* checking whether the package can be loaded with stated dependencies ... OK
* checking whether the package can be unloaded cleanly ... OK
* checking whether the namespace can be loaded with stated dependencies ... OK
* checking whether the namespace can be unloaded cleanly ... OK
* checking dependencies in R code ... OK
* checking S3 generic/method consistency ... OK
* checking replacement functions ... OK
* checking foreign function calls ... OK
* checking R code for possible problems ... OK
* checking Rd files ... OK
* checking Rd metadata ... OK
* checking Rd cross-references ... OK
* checking for missing documentation entries ... OK
* checking for code/documentation mismatches ... OK
* checking Rd \usage sections ... OK
* checking Rd contents ... OK
* checking for unstated dependencies in examples ... OK
* checking contents of ‘data’ directory ... OK
* checking data for non-ASCII characters ... OK
* checking data for ASCII and uncompressed saves ... OK
* checking files in ‘vignettes’ ... OK
* checking examples ... OK
Examples with CPU or elapsed time > 5s
         user system elapsed
RVgene 14.283  0.453  15.343
* checking for unstated dependencies in ‘tests’ ... OK
* checking tests ...
  Running ‘testthat.R’
 OK
* checking for unstated dependencies in vignettes ... OK
* checking package vignettes in ‘inst/doc’ ... OK
* checking running R code from vignettes ... SKIPPED
* checking re-building of vignette outputs ... SKIPPED
* checking PDF version of manual ... OK
* DONE
Status: OK
RVS.Rcheck/00install.out
############################################################################## ############################################################################## ### ### Running command: ### ### /home/biocbuild/bbs-3.9-bioc/R/bin/R CMD INSTALL RVS ### ############################################################################## ############################################################################## * installing to library ‘/home/biocbuild/bbs-3.9-bioc/R/library’ * installing *source* package ‘RVS’ ... ** using staged installation ** R ** data ** inst ** byte-compile and prepare package for lazy loading ** help *** installing help indices ** building package indices ** installing vignettes ** testing if installed package can be loaded from temporary location ** testing if installed package can be loaded from final location ** testing if installed package keeps a record of temporary installation path * DONE (RVS)
RVS.Rcheck/tests/testthat.Rout
R version 3.6.1 (2019-07-05) -- "Action of the Toes"
Copyright (C) 2019 The R Foundation for Statistical Computing
Platform: x86_64-pc-linux-gnu (64-bit)
R is free software and comes with ABSOLUTELY NO WARRANTY.
You are welcome to redistribute it under certain conditions.
Type 'license()' or 'licence()' for distribution details.
R is a collaborative project with many contributors.
Type 'contributors()' for more information and
'citation()' on how to cite R or R packages in publications.
Type 'demo()' for some demos, 'help()' for on-line help, or
'help.start()' for an HTML browser interface to help.
Type 'q()' to quit R.
> library(testthat)
> library(RVS)
> 
> test_check('RVS')
Founder  2  subped size  20 
Founder  4  subped size  11 
Founder  5  subped size  16 
Founder  9  subped size  5 
Founder  13  subped size  5 
Founder  14  subped size  3 
Founder  16  subped size  5 
[1] 0.01873 0.49970 0.48150
══ testthat results  ═══════════════════════════════════════════════════════════
[ OK: 111 | SKIPPED: 0 | WARNINGS: 0 | FAILED: 0 ]
> 
> proc.time()
   user  system elapsed 
111.521   0.204 112.470 
RVS.Rcheck/RVS-Ex.timings
| name | user | system | elapsed | |
| ComputeKinshipPropCoef-methods | 0.026 | 0.008 | 0.049 | |
| GeneDrop | 0.001 | 0.000 | 0.002 | |
| RVgene | 14.283 | 0.453 | 15.343 | |
| RVsharing-methods | 0.055 | 0.000 | 0.054 | |
| SnpMatrixToCount | 0.003 | 0.000 | 0.003 | |
| get.psubset | 1.152 | 0.008 | 1.173 | |
| multipleFamilyPValue | 1.225 | 0.008 | 1.251 | |
| ped2trio | 0.001 | 0.000 | 0.000 | |
| processPedigree-methods | 0.003 | 0.000 | 0.002 | |