| Back to Multiple platform build/check report for BioC 3.9 |
|
This page was generated on 2019-10-16 12:25:40 -0400 (Wed, 16 Oct 2019).
| Package 1434/1741 | Hostname | OS / Arch | INSTALL | BUILD | CHECK | BUILD BIN | ||||||
| RTopper 1.30.0 Luigi Marchionni
| malbec2 | Linux (Ubuntu 18.04.2 LTS) / x86_64 | OK | OK | OK | |||||||
| tokay2 | Windows Server 2012 R2 Standard / x64 | [ OK ] | OK | WARNINGS | OK | |||||||
| celaya2 | OS X 10.11.6 El Capitan / x86_64 | OK | OK | OK | OK |
| Package: RTopper |
| Version: 1.30.0 |
| Command: C:\cygwin\bin\curl.exe -O https://malbec2.bioconductor.org/BBS/3.9/bioc/src/contrib/RTopper_1.30.0.tar.gz && rm -rf RTopper.buildbin-libdir && mkdir RTopper.buildbin-libdir && C:\Users\biocbuild\bbs-3.9-bioc\R\bin\R.exe CMD INSTALL --merge-multiarch --build --library=RTopper.buildbin-libdir RTopper_1.30.0.tar.gz && C:\Users\biocbuild\bbs-3.9-bioc\R\bin\R.exe CMD INSTALL RTopper_1.30.0.zip && rm RTopper_1.30.0.tar.gz RTopper_1.30.0.zip |
| StartedAt: 2019-10-15 18:59:02 -0400 (Tue, 15 Oct 2019) |
| EndedAt: 2019-10-15 18:59:46 -0400 (Tue, 15 Oct 2019) |
| EllapsedTime: 43.8 seconds |
| RetCode: 0 |
| Status: OK |
##############################################################################
##############################################################################
###
### Running command:
###
### C:\cygwin\bin\curl.exe -O https://malbec2.bioconductor.org/BBS/3.9/bioc/src/contrib/RTopper_1.30.0.tar.gz && rm -rf RTopper.buildbin-libdir && mkdir RTopper.buildbin-libdir && C:\Users\biocbuild\bbs-3.9-bioc\R\bin\R.exe CMD INSTALL --merge-multiarch --build --library=RTopper.buildbin-libdir RTopper_1.30.0.tar.gz && C:\Users\biocbuild\bbs-3.9-bioc\R\bin\R.exe CMD INSTALL RTopper_1.30.0.zip && rm RTopper_1.30.0.tar.gz RTopper_1.30.0.zip
###
##############################################################################
##############################################################################
% Total % Received % Xferd Average Speed Time Time Time Current
Dload Upload Total Spent Left Speed
0 0 0 0 0 0 0 0 --:--:-- --:--:-- --:--:-- 0
100 1094k 100 1094k 0 0 6347k 0 --:--:-- --:--:-- --:--:-- 6631k
install for i386
* installing *source* package 'RTopper' ...
** using staged installation
** R
** data
** inst
** byte-compile and prepare package for lazy loading
** help
*** installing help indices
converting help for package 'RTopper'
finding HTML links ... done
RTopper-package html
adjustPvalGSE html
finding level-2 HTML links ... done
combineGSE html
computeDrStat html
convertToDr html
dat html
fgsList html
Rd warning: C:/Users/biocbuild/bbs-3.9-bioc/tmpdir/RtmpugMM8H/R.INSTALL1390438021bb/RTopper/man/fgsList.Rd:37: file link 'org.Hs.eg' in package 'org.Hs.eg.db' does not exist and so has been treated as a topic
Rd warning: C:/Users/biocbuild/bbs-3.9-bioc/tmpdir/RtmpugMM8H/R.INSTALL1390438021bb/RTopper/man/fgsList.Rd:41: file link 'GO' in package 'GO.db' does not exist and so has been treated as a topic
Rd warning: C:/Users/biocbuild/bbs-3.9-bioc/tmpdir/RtmpugMM8H/R.INSTALL1390438021bb/RTopper/man/fgsList.Rd:42: file link 'KEGG' in package 'KEGG.db' does not exist and so has been treated as a topic
gseResultsSep html
intScores html
pheno html
runBatchGSE html
sepScores html
** building package indices
** installing vignettes
** testing if installed package can be loaded from temporary location
** testing if installed package can be loaded from final location
** testing if installed package keeps a record of temporary installation path
install for x64
* installing *source* package 'RTopper' ...
** testing if installed package can be loaded
* MD5 sums
packaged installation of 'RTopper' as RTopper_1.30.0.zip
* DONE (RTopper)
* installing to library 'C:/Users/biocbuild/bbs-3.9-bioc/R/library'
package 'RTopper' successfully unpacked and MD5 sums checked