| Back to Multiple platform build/check report for BioC 3.9 |
|
This page was generated on 2019-10-16 11:57:06 -0400 (Wed, 16 Oct 2019).
| Package 1395/1741 | Hostname | OS / Arch | INSTALL | BUILD | CHECK | BUILD BIN | ||||||
| RNAither 2.32.0 Lars Kaderali
| malbec2 | Linux (Ubuntu 18.04.2 LTS) / x86_64 | OK | OK | [ OK ] | |||||||
| tokay2 | Windows Server 2012 R2 Standard / x64 | OK | OK | OK | OK | |||||||
| celaya2 | OS X 10.11.6 El Capitan / x86_64 | OK | OK | OK | OK |
| Package: RNAither |
| Version: 2.32.0 |
| Command: /home/biocbuild/bbs-3.9-bioc/R/bin/R CMD check --install=check:RNAither.install-out.txt --library=/home/biocbuild/bbs-3.9-bioc/R/library --no-vignettes --timings RNAither_2.32.0.tar.gz |
| StartedAt: 2019-10-16 04:37:51 -0400 (Wed, 16 Oct 2019) |
| EndedAt: 2019-10-16 04:40:55 -0400 (Wed, 16 Oct 2019) |
| EllapsedTime: 184.2 seconds |
| RetCode: 0 |
| Status: OK |
| CheckDir: RNAither.Rcheck |
| Warnings: 0 |
##############################################################################
##############################################################################
###
### Running command:
###
### /home/biocbuild/bbs-3.9-bioc/R/bin/R CMD check --install=check:RNAither.install-out.txt --library=/home/biocbuild/bbs-3.9-bioc/R/library --no-vignettes --timings RNAither_2.32.0.tar.gz
###
##############################################################################
##############################################################################
* using log directory ‘/home/biocbuild/bbs-3.9-bioc/meat/RNAither.Rcheck’
* using R version 3.6.1 (2019-07-05)
* using platform: x86_64-pc-linux-gnu (64-bit)
* using session charset: UTF-8
* using option ‘--no-vignettes’
* checking for file ‘RNAither/DESCRIPTION’ ... OK
* this is package ‘RNAither’ version ‘2.32.0’
* checking package namespace information ... OK
* checking package dependencies ... OK
* checking if this is a source package ... OK
* checking if there is a namespace ... OK
* checking for hidden files and directories ... OK
* checking for portable file names ... OK
* checking for sufficient/correct file permissions ... OK
* checking whether package ‘RNAither’ can be installed ... OK
* checking installed package size ... OK
* checking package directory ... OK
* checking ‘build’ directory ... OK
* checking DESCRIPTION meta-information ... OK
* checking top-level files ... OK
* checking for left-over files ... OK
* checking index information ... OK
* checking package subdirectories ... NOTE
Found the following CITATION file in a non-standard place:
inst/extdata/CITATION
Most likely ‘inst/CITATION’ should be used instead.
* checking R files for non-ASCII characters ... OK
* checking R files for syntax errors ... OK
* checking whether the package can be loaded ... OK
* checking whether the package can be loaded with stated dependencies ... OK
* checking whether the package can be unloaded cleanly ... OK
* checking whether the namespace can be loaded with stated dependencies ... OK
* checking whether the namespace can be unloaded cleanly ... OK
* checking dependencies in R code ... NOTE
Package in Depends field not imported from: ‘RankProd’
These packages need to be imported from (in the NAMESPACE file)
for when this namespace is loaded but not attached.
* checking S3 generic/method consistency ... OK
* checking replacement functions ... OK
* checking foreign function calls ... OK
* checking R code for possible problems ... NOTE
PlotSpatialDistrib: no visible global function definition for
‘brewer.pal’
RankProduct: no visible global function definition for ‘RP’
compareReplicateSD: no visible global function definition for
‘brewer.pal’
compareReplicateSDPerScreen: no visible global function definition for
‘brewer.pal’
spatialDistrib: no visible global function definition for ‘brewer.pal’
Undefined global functions or variables:
RP brewer.pal
* checking Rd files ... OK
* checking Rd metadata ... OK
* checking Rd cross-references ... OK
* checking for missing documentation entries ... OK
* checking for code/documentation mismatches ... OK
* checking Rd \usage sections ... OK
* checking Rd contents ... OK
* checking for unstated dependencies in examples ... OK
* checking contents of ‘data’ directory ... OK
* checking data for non-ASCII characters ... OK
* checking data for ASCII and uncompressed saves ... OK
* checking files in ‘vignettes’ ... OK
* checking examples ... OK
Examples with CPU or elapsed time > 5s
user system elapsed
mainAnalysis 15.346 0.215 15.701
rnaither 8.125 0.031 8.193
gseaAnalysis 4.229 0.048 5.352
* checking for unstated dependencies in vignettes ... OK
* checking package vignettes in ‘inst/doc’ ... OK
* checking running R code from vignettes ... SKIPPED
* checking re-building of vignette outputs ... SKIPPED
* checking PDF version of manual ... OK
* DONE
Status: 3 NOTEs
See
‘/home/biocbuild/bbs-3.9-bioc/meat/RNAither.Rcheck/00check.log’
for details.
RNAither.Rcheck/00install.out
############################################################################## ############################################################################## ### ### Running command: ### ### /home/biocbuild/bbs-3.9-bioc/R/bin/R CMD INSTALL RNAither ### ############################################################################## ############################################################################## * installing to library ‘/home/biocbuild/bbs-3.9-bioc/R/library’ * installing *source* package ‘RNAither’ ... ** using staged installation ** R ** data ** inst ** byte-compile and prepare package for lazy loading groupGOTerms: GOBPTerm, GOMFTerm, GOCCTerm environments built. ** help *** installing help indices ** building package indices ** installing vignettes ** testing if installed package can be loaded from temporary location groupGOTerms: GOBPTerm, GOMFTerm, GOCCTerm environments built. ** testing if installed package can be loaded from final location groupGOTerms: GOBPTerm, GOMFTerm, GOCCTerm environments built. ** testing if installed package keeps a record of temporary installation path * DONE (RNAither)
RNAither.Rcheck/RNAither-Ex.timings
| name | user | system | elapsed | |
| BScore | 0.024 | 0.000 | 0.024 | |
| DRQualControl | 0.017 | 0.000 | 0.017 | |
| LiWongRank | 0.043 | 0.004 | 0.048 | |
| MannWhitney | 0.017 | 0.000 | 0.016 | |
| RankProduct | 0.080 | 0.000 | 0.081 | |
| SNRQualControl | 0.017 | 0.000 | 0.018 | |
| Ttest | 0.014 | 0.000 | 0.015 | |
| ZPRIMEQualControl | 0.056 | 0.004 | 0.270 | |
| ZScore | 0.011 | 0.000 | 0.011 | |
| ZScorePerScreen | 0.007 | 0.000 | 0.007 | |
| ZScorePlot | 0.054 | 0.000 | 0.053 | |
| ZScorePlotTwo | 0.026 | 0.000 | 0.025 | |
| channelPlot | 0.033 | 0.000 | 0.033 | |
| closestToZero | 0.002 | 0.000 | 0.002 | |
| compareHits | 0.045 | 0.000 | 0.045 | |
| compareReplicaPlates | 0.019 | 0.000 | 0.018 | |
| compareReplicateSD | 0.200 | 0.004 | 0.204 | |
| compareReplicateSDPerScreen | 0.255 | 0.000 | 0.254 | |
| compareReplicates | 0.119 | 0.000 | 0.119 | |
| controlDensity | 0.058 | 0.000 | 0.058 | |
| controlDensityPerPlate | 0.166 | 0.000 | 0.166 | |
| controlDensityPerScreen | 0.067 | 0.000 | 0.067 | |
| controlNorm | 0.005 | 0.004 | 0.010 | |
| createSubset | 0.003 | 0.000 | 0.002 | |
| discardLabtek | 0.003 | 0.000 | 0.003 | |
| discardWells | 0.003 | 0.000 | 0.004 | |
| divNorm | 0.01 | 0.00 | 0.01 | |
| divideChannels | 0.002 | 0.000 | 0.002 | |
| eraseDataSetColumn | 0.008 | 0.000 | 0.008 | |
| findReplicates | 0.003 | 0.000 | 0.003 | |
| furthestFromZero | 0.002 | 0.000 | 0.002 | |
| generateDatasetFile | 0.012 | 0.000 | 0.012 | |
| generateRepMatNoFilter | 0.005 | 0.000 | 0.005 | |
| generateReplicateMat | 0.007 | 0.000 | 0.007 | |
| gseaAnalysis | 4.229 | 0.048 | 5.352 | |
| hitselectionPval | 0.018 | 0.004 | 0.021 | |
| hitselectionZscore | 0.027 | 0.000 | 0.027 | |
| hitselectionZscorePval | 0.016 | 0.004 | 0.020 | |
| incorporatepValVec | 0.008 | 0.000 | 0.008 | |
| indexSubset | 0.002 | 0.000 | 0.002 | |
| joinDatasetFiles | 0.173 | 0.000 | 0.173 | |
| joinDatasets | 0.003 | 0.000 | 0.003 | |
| lowessNorm | 0.010 | 0.000 | 0.011 | |
| mainAnalysis | 15.346 | 0.215 | 15.701 | |
| makeBoxplot4PlateType | 0.028 | 0.001 | 0.027 | |
| makeBoxplotControls | 0.016 | 0.000 | 0.016 | |
| makeBoxplotControlsPerPlate | 0.061 | 0.000 | 0.060 | |
| makeBoxplotControlsPerScreen | 0.031 | 0.000 | 0.031 | |
| makeBoxplotPerPlate | 0.034 | 0.000 | 0.034 | |
| makeBoxplotPerScreen | 0.016 | 0.000 | 0.016 | |
| multTestAdjust | 0.002 | 0.000 | 0.001 | |
| numCellQualControl | 0.020 | 0.003 | 0.024 | |
| orderGeneIDs | 0.024 | 0.001 | 0.024 | |
| percCellQualControl | 0.016 | 0.000 | 0.016 | |
| plotBar | 0.064 | 0.000 | 0.064 | |
| plotControlHisto | 0.045 | 0.000 | 0.045 | |
| plotControlHistoPerplate | 0.642 | 0.000 | 0.642 | |
| plotControlHistoPerscreen | 0.090 | 0.000 | 0.091 | |
| plotHisto | 0.012 | 0.000 | 0.012 | |
| plotHistoPerplate | 0.043 | 0.000 | 0.043 | |
| plotHistoPerscreen | 0.018 | 0.003 | 0.022 | |
| plotQQ | 0.014 | 0.001 | 0.014 | |
| plotQQperplate | 0.046 | 0.000 | 0.046 | |
| plotQQperscreen | 0.026 | 0.000 | 0.026 | |
| quantileNormalization | 0.005 | 0.004 | 0.009 | |
| replicatesCV | 0.026 | 0.000 | 0.026 | |
| replicatesSpearmancor | 0.003 | 0.007 | 0.011 | |
| rms | 0.001 | 0.000 | 0.002 | |
| rnaither | 8.125 | 0.031 | 8.193 | |
| saveDataset | 0.010 | 0.004 | 0.014 | |
| saveOldIntensityColumns | 0.003 | 0.001 | 0.003 | |
| savepValVec | 0.003 | 0.000 | 0.003 | |
| spatialDistrib | 0.457 | 0.007 | 0.465 | |
| spatialDistribHits | 0.482 | 0.000 | 0.482 | |
| subtractBackground | 0.005 | 0.000 | 0.005 | |
| sumChannels | 0.009 | 0.000 | 0.009 | |
| summarizeReps | 0.032 | 0.000 | 0.032 | |
| summarizeRepsNoFiltering | 0.031 | 0.000 | 0.031 | |
| trim | 0.002 | 0.000 | 0.002 | |
| varAdjust | 0.004 | 0.000 | 0.004 | |
| vennDiag | 0.045 | 0.000 | 0.045 | |
| volcanoPlot | 0.027 | 0.000 | 0.027 | |