| Back to Multiple platform build/check report for BioC 3.9 |
|
This page was generated on 2019-04-09 13:32:47 -0400 (Tue, 09 Apr 2019).
| Package 1352/1703 | Hostname | OS / Arch | INSTALL | BUILD | CHECK | BUILD BIN | ||||||
| RImmPort 1.11.0 Zicheng Hu
| malbec2 | Linux (Ubuntu 18.04.2 LTS) / x86_64 | OK | OK | OK | |||||||
| tokay2 | Windows Server 2012 R2 Standard / x64 | OK | OK | OK | OK | |||||||
| celaya2 | OS X 10.11.6 El Capitan / x86_64 | OK | OK | OK | OK | |||||||
| merida2 | OS X 10.11.6 El Capitan / x86_64 | OK | OK | [ OK ] | OK |
| Package: RImmPort |
| Version: 1.11.0 |
| Command: /Library/Frameworks/R.framework/Versions/Current/Resources/bin/R CMD check --install=check:RImmPort.install-out.txt --library=/Library/Frameworks/R.framework/Versions/Current/Resources/library --no-vignettes --timings RImmPort_1.11.0.tar.gz |
| StartedAt: 2019-04-09 03:21:26 -0400 (Tue, 09 Apr 2019) |
| EndedAt: 2019-04-09 03:22:57 -0400 (Tue, 09 Apr 2019) |
| EllapsedTime: 91.2 seconds |
| RetCode: 0 |
| Status: OK |
| CheckDir: RImmPort.Rcheck |
| Warnings: 0 |
##############################################################################
##############################################################################
###
### Running command:
###
### /Library/Frameworks/R.framework/Versions/Current/Resources/bin/R CMD check --install=check:RImmPort.install-out.txt --library=/Library/Frameworks/R.framework/Versions/Current/Resources/library --no-vignettes --timings RImmPort_1.11.0.tar.gz
###
##############################################################################
##############################################################################
* using log directory ‘/Users/biocbuild/bbs-3.9-bioc/meat/RImmPort.Rcheck’
* using R Under development (unstable) (2018-11-27 r75683)
* using platform: x86_64-apple-darwin15.6.0 (64-bit)
* using session charset: UTF-8
* using option ‘--no-vignettes’
* checking for file ‘RImmPort/DESCRIPTION’ ... OK
* checking extension type ... Package
* this is package ‘RImmPort’ version ‘1.11.0’
* checking package namespace information ... OK
* checking package dependencies ... OK
* checking if this is a source package ... OK
* checking if there is a namespace ... OK
* checking for hidden files and directories ... OK
* checking for portable file names ... OK
* checking for sufficient/correct file permissions ... OK
* checking whether package ‘RImmPort’ can be installed ... OK
* checking installed package size ... OK
* checking package directory ... OK
* checking ‘build’ directory ... OK
* checking DESCRIPTION meta-information ... OK
* checking top-level files ... OK
* checking for left-over files ... OK
* checking index information ... OK
* checking package subdirectories ... OK
* checking R files for non-ASCII characters ... OK
* checking R files for syntax errors ... OK
* checking whether the package can be loaded ... OK
* checking whether the package can be loaded with stated dependencies ... OK
* checking whether the package can be unloaded cleanly ... OK
* checking whether the namespace can be loaded with stated dependencies ... OK
* checking whether the namespace can be unloaded cleanly ... OK
* checking dependencies in R code ... OK
* checking S3 generic/method consistency ... OK
* checking replacement functions ... OK
* checking foreign function calls ... OK
* checking R code for possible problems ... NOTE
buildNewSqliteDb: no visible global function definition for
‘dbListTables’
Undefined global functions or variables:
dbListTables
* checking Rd files ... OK
* checking Rd metadata ... OK
* checking Rd cross-references ... OK
* checking for missing documentation entries ... OK
* checking for code/documentation mismatches ... OK
* checking Rd \usage sections ... OK
* checking Rd contents ... OK
* checking for unstated dependencies in examples ... OK
* checking sizes of PDF files under ‘inst/doc’ ... OK
* checking files in ‘vignettes’ ... OK
* checking examples ... OK
Examples with CPU or elapsed time > 5s
user system elapsed
serialzeStudyData 3.134 3.629 1.331
* checking for unstated dependencies in vignettes ... OK
* checking package vignettes in ‘inst/doc’ ... OK
* checking running R code from vignettes ... SKIPPED
* checking re-building of vignette outputs ... SKIPPED
* checking PDF version of manual ... OK
* DONE
Status: 1 NOTE
See
‘/Users/biocbuild/bbs-3.9-bioc/meat/RImmPort.Rcheck/00check.log’
for details.
RImmPort.Rcheck/00install.out
############################################################################## ############################################################################## ### ### Running command: ### ### /Library/Frameworks/R.framework/Versions/Current/Resources/bin/R CMD INSTALL RImmPort ### ############################################################################## ############################################################################## * installing to library ‘/Library/Frameworks/R.framework/Versions/3.6/Resources/library’ * installing *source* package ‘RImmPort’ ... ** R ** inst ** byte-compile and prepare package for lazy loading ** help *** installing help indices ** building package indices ** installing vignettes ** testing if installed package can be loaded * DONE (RImmPort)
RImmPort.Rcheck/RImmPort-Ex.timings
| name | user | system | elapsed | |
| Events-class | 1.595 | 1.244 | 1.396 | |
| Findings-class | 1.102 | 1.055 | 0.389 | |
| Interventions-class | 1.127 | 1.208 | 0.318 | |
| SpecialPurpose-class | 0.774 | 0.741 | 0.252 | |
| Study-class | 1.098 | 1.175 | 0.301 | |
| TrialDesign-class | 0.914 | 0.902 | 0.288 | |
| buildNewSqliteDb | 0.005 | 0.006 | 0.001 | |
| getAssayDataOfStudies | 0.654 | 0.751 | 0.189 | |
| getDomainCode | 0.003 | 0.003 | 0.000 | |
| getDomainDataOfStudies | 0.049 | 0.013 | 0.046 | |
| getListOfAssayTypes | 0.000 | 0.000 | 0.001 | |
| getListOfDomains | 0.000 | 0.000 | 0.001 | |
| getListOfStudies | 0.037 | 0.003 | 0.081 | |
| getStudiesWithSpecificAssayData | 0.049 | 0.004 | 0.054 | |
| getStudiesWithSpecificDomainData | 0.041 | 0.004 | 0.045 | |
| getStudy | 0.662 | 0.587 | 0.311 | |
| loadSerializedStudyData | 0.204 | 0.254 | 0.110 | |
| mergeDomainAndSupplemental | 0.233 | 0.211 | 0.095 | |
| serialzeStudyData | 3.134 | 3.629 | 1.331 | |
| setImmPortDataSource | 0.257 | 0.280 | 0.067 | |