| Back to Multiple platform build/check report for BioC 3.9 | 
 | 
This page was generated on 2019-10-16 12:50:46 -0400 (Wed, 16 Oct 2019).
| Package 1381/1741 | Hostname | OS / Arch | INSTALL | BUILD | CHECK | BUILD BIN | ||||||
| RIPSeeker 1.24.0 Yue Li 
 | malbec2 | Linux (Ubuntu 18.04.2 LTS) / x86_64 | OK | OK | OK |  | ||||||
| tokay2 | Windows Server 2012 R2 Standard / x64 | OK | OK | WARNINGS | OK |  | ||||||
| celaya2 | OS X 10.11.6 El Capitan / x86_64 | OK | OK | [ OK ] | OK |  | 
| Package: RIPSeeker | 
| Version: 1.24.0 | 
| Command: /Library/Frameworks/R.framework/Versions/Current/Resources/bin/R CMD check --install=check:RIPSeeker.install-out.txt --library=/Library/Frameworks/R.framework/Versions/Current/Resources/library --no-vignettes --timings RIPSeeker_1.24.0.tar.gz | 
| StartedAt: 2019-10-16 06:16:32 -0400 (Wed, 16 Oct 2019) | 
| EndedAt: 2019-10-16 06:22:35 -0400 (Wed, 16 Oct 2019) | 
| EllapsedTime: 363.7 seconds | 
| RetCode: 0 | 
| Status: OK | 
| CheckDir: RIPSeeker.Rcheck | 
| Warnings: 0 | 
##############################################################################
##############################################################################
###
### Running command:
###
###   /Library/Frameworks/R.framework/Versions/Current/Resources/bin/R CMD check --install=check:RIPSeeker.install-out.txt --library=/Library/Frameworks/R.framework/Versions/Current/Resources/library --no-vignettes --timings RIPSeeker_1.24.0.tar.gz
###
##############################################################################
##############################################################################
* using log directory ‘/Users/biocbuild/bbs-3.9-bioc/meat/RIPSeeker.Rcheck’
* using R version 3.6.1 (2019-07-05)
* using platform: x86_64-apple-darwin15.6.0 (64-bit)
* using session charset: UTF-8
* using option ‘--no-vignettes’
* checking for file ‘RIPSeeker/DESCRIPTION’ ... OK
* checking extension type ... Package
* this is package ‘RIPSeeker’ version ‘1.24.0’
* checking package namespace information ... OK
* checking package dependencies ... NOTE
Depends: includes the non-default packages:
  'S4Vectors', 'IRanges', 'GenomicRanges', 'SummarizedExperiment',
  'Rsamtools', 'GenomicAlignments', 'rtracklayer'
Adding so many packages to the search path is excessive and importing
selectively is preferable.
* checking if this is a source package ... OK
* checking if there is a namespace ... OK
* checking for hidden files and directories ... OK
* checking for portable file names ... OK
* checking for sufficient/correct file permissions ... OK
* checking whether package ‘RIPSeeker’ can be installed ... OK
* checking installed package size ... OK
* checking package directory ... OK
* checking ‘build’ directory ... OK
* checking DESCRIPTION meta-information ... OK
* checking top-level files ... OK
* checking for left-over files ... OK
* checking index information ... OK
* checking package subdirectories ... OK
* checking R files for non-ASCII characters ... OK
* checking R files for syntax errors ... OK
* checking whether the package can be loaded ... OK
* checking whether the package can be loaded with stated dependencies ... OK
* checking whether the package can be unloaded cleanly ... OK
* checking whether the namespace can be loaded with stated dependencies ... OK
* checking whether the namespace can be unloaded cleanly ... OK
* checking dependencies in R code ... NOTE
'library' or 'require' call to ‘Rsamtools’ which was already attached by Depends.
  Please remove these calls from your code.
'library' or 'require' calls in package code:
  ‘ChIPpeakAnno’ ‘GenomicFeatures’ ‘biomaRt’ ‘parallel’
  Please use :: or requireNamespace() instead.
  See section 'Suggested packages' in the 'Writing R Extensions' manual.
* checking S3 generic/method consistency ... NOTE
Found the following apparent S3 methods exported but not registered:
  nbh.GRanges nbh.integer
See section ‘Registering S3 methods’ in the ‘Writing R Extensions’
manual.
* checking replacement functions ... OK
* checking foreign function calls ... OK
* checking R code for possible problems ... NOTE
annotateRIP: no visible global function definition for ‘getAnnotation’
annotateRIP: no visible global function definition for ‘getBM’
annotateRIP: no visible global function definition for ‘write.table’
binCount: no visible global function definition for ‘seqlengths’
combineRIP: no visible global function definition for ‘seqlengths<-’
combineRIP: no visible global function definition for ‘seqlengths’
computeRPKM: no visible global function definition for ‘exonsBy’
computeRPKM: no visible global function definition for ‘cdsBy’
computeRPKM: no visible global function definition for
  ‘intronsByTranscript’
computeRPKM: no visible global function definition for
  ‘fiveUTRsByTranscript’
computeRPKM: no visible global function definition for
  ‘threeUTRsByTranscript’
computeRPKM: no visible global function definition for ‘seqlevels<-’
computeRPKM: no visible global function definition for ‘seqlevels’
computeRPKM: no visible global function definition for ‘read.delim’
computeRPKM: no visible global function definition for ‘getBM’
exportGRanges: no visible global function definition for ‘write.table’
galp2gal: no visible global function definition for ‘seqlengths’
getAlignGal: no visible global function definition for ‘seqlengths<-’
getAlignGal: no visible global function definition for ‘seqlengths’
mainSeek: no visible global function definition for ‘mclapply’
mainSeekSingleChrom: no visible global function definition for
  ‘seqlengths’
plotCoverage: no visible global function definition for ‘seqlengths’
ripSeek: no visible global function definition for ‘as.roman’
ripSeek: no visible global function definition for ‘write.table’
rulebaseRIPSeek: no visible global function definition for ‘getBM’
rulebaseRIPSeek: no visible global function definition for
  ‘write.table’
selectBinSize: no visible global function definition for ‘seqlengths’
viewRIP: no visible global function definition for
  ‘GRangesForUCSCGenome’
Undefined global functions or variables:
  GRangesForUCSCGenome as.roman cdsBy exonsBy fiveUTRsByTranscript
  getAnnotation getBM intronsByTranscript mclapply read.delim
  seqlengths seqlengths<- seqlevels seqlevels<- threeUTRsByTranscript
  write.table
Consider adding
  importFrom("utils", "as.roman", "read.delim", "write.table")
to your NAMESPACE file.
* checking Rd files ... OK
* checking Rd metadata ... OK
* checking Rd cross-references ... OK
* checking for missing documentation entries ... OK
* checking for code/documentation mismatches ... OK
* checking Rd \usage sections ... OK
* checking Rd contents ... OK
* checking for unstated dependencies in examples ... OK
* checking sizes of PDF files under ‘inst/doc’ ... OK
* checking files in ‘vignettes’ ... OK
* checking examples ... OK
Examples with CPU or elapsed time > 5s
                        user system elapsed
mainSeek              19.513  0.099  19.620
disambiguateMultihits 19.394  0.121  19.567
combineRIP             2.889  0.205  15.431
* checking for unstated dependencies in vignettes ... OK
* checking package vignettes in ‘inst/doc’ ... OK
* checking running R code from vignettes ... SKIPPED
* checking re-building of vignette outputs ... SKIPPED
* checking PDF version of manual ... OK
* DONE
Status: 4 NOTEs
See
  ‘/Users/biocbuild/bbs-3.9-bioc/meat/RIPSeeker.Rcheck/00check.log’
for details.
RIPSeeker.Rcheck/00install.out
############################################################################## ############################################################################## ### ### Running command: ### ### /Library/Frameworks/R.framework/Versions/Current/Resources/bin/R CMD INSTALL RIPSeeker ### ############################################################################## ############################################################################## * installing to library ‘/Library/Frameworks/R.framework/Versions/3.6/Resources/library’ * installing *source* package ‘RIPSeeker’ ... ** using staged installation ** R ** inst ** byte-compile and prepare package for lazy loading ** help *** installing help indices ** building package indices ** installing vignettes ** testing if installed package can be loaded from temporary location ** testing if installed package can be loaded from final location ** testing if installed package keeps a record of temporary installation path * DONE (RIPSeeker)
RIPSeeker.Rcheck/RIPSeeker-Ex.timings
| name | user | system | elapsed | |
| RIPSeeker-package | 0.001 | 0.001 | 0.002 | |
| addDummyProb | 1.231 | 0.096 | 1.337 | |
| addPseudoAlignment | 0.533 | 0.028 | 0.565 | |
| annotateRIP | 0.025 | 0.002 | 0.027 | |
| binCount | 0.708 | 0.060 | 0.777 | |
| combineAlignGals | 0.469 | 0.030 | 0.504 | |
| combineRIP | 2.889 | 0.205 | 15.431 | |
| computeLogOdd | 2.404 | 0.065 | 2.523 | |
| computeRPKM | 0.005 | 0.001 | 0.005 | |
| disambiguateMultihits | 19.394 | 0.121 | 19.567 | |
| empiricalFDR | 0.001 | 0.000 | 0.002 | |
| evalBinSize | 0.457 | 0.079 | 0.536 | |
| exportGRanges | 0.002 | 0.001 | 0.002 | |
| galp2gal | 0.315 | 0.025 | 0.342 | |
| getAlignGal | 0.249 | 0.017 | 0.267 | |
| logScoreWithControl | 0.012 | 0.000 | 0.013 | |
| logScoreWithoutControl | 0.005 | 0.000 | 0.005 | |
| mainSeek | 19.513 | 0.099 | 19.620 | |
| mainSeekSingleChrom | 1.996 | 0.041 | 2.038 | |
| nbh.GRanges | 0.000 | 0.001 | 0.000 | |
| nbh | 2.833 | 0.041 | 2.876 | |
| nbh.integer | 0 | 0 | 0 | |
| nbh_chk | 0.000 | 0.000 | 0.001 | |
| nbh_em | 0.413 | 0.005 | 0.419 | |
| nbh_gen | 0.004 | 0.001 | 0.005 | |
| nbh_init | 2.252 | 0.018 | 2.270 | |
| nbh_vit | 0.390 | 0.004 | 0.396 | |
| nbm_chk | 0.001 | 0.001 | 0.001 | |
| nbm_em | 0.524 | 0.025 | 0.550 | |
| plotCoverage | 0.796 | 0.115 | 0.912 | |
| plotStrandedCoverage | 1.339 | 0.221 | 1.566 | |
| randindx | 0.192 | 0.020 | 0.216 | |
| ripSeek | 0.013 | 0.001 | 0.014 | |
| rulebaseRIPSeek | 0.005 | 0.000 | 0.005 | |
| scoreMergedBins | 0.025 | 0.001 | 0.026 | |
| seekRIP | 0.013 | 0.001 | 0.014 | |
| selectBinSize | 3.191 | 0.608 | 3.801 | |
| statdis | 0.370 | 0.005 | 0.375 | |
| viewRIP | 0.008 | 0.001 | 0.009 | |