| Back to Multiple platform build/check report for BioC 3.9 |
|
This page was generated on 2019-02-27 11:40:25 -0500 (Wed, 27 Feb 2019).
| Package 1299/1667 | Hostname | OS / Arch | INSTALL | BUILD | CHECK | BUILD BIN | ||||||
| REMP 1.7.1 Yinan Zheng
| malbec2 | Linux (Ubuntu 18.04.1 LTS) / x86_64 | OK | OK | OK | |||||||
| tokay2 | Windows Server 2012 R2 Standard / x64 | OK | OK | OK | OK | |||||||
| merida2 | OS X 10.11.6 El Capitan / x86_64 | OK | OK | OK | [ OK ] | |||||||
| celaya2 | OS X 10.11.6 El Capitan / x86_64 | OK | OK | OK | OK |
| Package: REMP |
| Version: 1.7.1 |
| Command: rm -rf REMP.buildbin-libdir && mkdir REMP.buildbin-libdir && /Users/biocbuild/BBS/utils/build-universal.sh REMP_1.7.1.tar.gz /Library/Frameworks/R.framework/Versions/Current/Resources/bin/R REMP.buildbin-libdir |
| StartedAt: 2019-02-27 05:37:30 -0500 (Wed, 27 Feb 2019) |
| EndedAt: 2019-02-27 05:40:14 -0500 (Wed, 27 Feb 2019) |
| EllapsedTime: 163.8 seconds |
| RetCode: 0 |
| Status: OK |
| PackageFile: REMP_1.7.1.tgz |
| PackageFileSize: 696.5 KiB |
############################################################################## ############################################################################## ### ### Running command: ### ### rm -rf REMP.buildbin-libdir && mkdir REMP.buildbin-libdir && /Users/biocbuild/BBS/utils/build-universal.sh REMP_1.7.1.tar.gz /Library/Frameworks/R.framework/Versions/Current/Resources/bin/R REMP.buildbin-libdir ### ############################################################################## ############################################################################## >>>>>>> >>>>>>> INSTALLATION WITH 'R CMD INSTALL --preclean --no-multiarch --library=REMP.buildbin-libdir REMP_1.7.1.tar.gz' >>>>>>> * installing *source* package ‘REMP’ ... ** R ** data *** moving datasets to lazyload DB ** inst ** byte-compile and prepare package for lazy loading ** help *** installing help indices ** building package indices ** installing vignettes ** testing if installed package can be loaded * DONE (REMP)