| name | user | system | elapsed
|
| AddToGroup | 0.000 | 0.000 | 0.001 |
|
| RemoveFromGroup | 0.000 | 0.000 | 0.001 |
|
| addCyEdges | 0 | 0 | 0 |
|
| addCyNodes | 0.001 | 0.000 | 0.000 |
|
| applyFilter | 0.001 | 0.000 | 0.001 |
|
| bundleEdges | 0 | 0 | 0 |
|
| clearEdgePropertyBypass | 0 | 0 | 0 |
|
| clearNetworkCenterBypass | 0 | 0 | 0 |
|
| clearNetworkPropertyBypass | 0 | 0 | 0 |
|
| clearNetworkZoomBypass | 0.000 | 0.000 | 0.001 |
|
| clearNodeOpacityBypass | 0 | 0 | 0 |
|
| clearNodePropertyBypass | 0 | 0 | 0 |
|
| clearSelection | 0.000 | 0.000 | 0.001 |
|
| cloneNetwork | 0 | 0 | 0 |
|
| closeSession | 0.001 | 0.000 | 0.001 |
|
| collapseGroup | 0.001 | 0.000 | 0.000 |
|
| commandEcho | 0.001 | 0.000 | 0.000 |
|
| commandOpenDialog | 0.001 | 0.000 | 0.000 |
|
| commandPause | 0.001 | 0.001 | 0.001 |
|
| commandQuit | 0.001 | 0.000 | 0.000 |
|
| commandRunFile | 0.001 | 0.000 | 0.001 |
|
| commandSleep | 0.000 | 0.001 | 0.000 |
|
| commandsAPI | 0 | 0 | 0 |
|
| commandsGET | 0 | 0 | 0 |
|
| commandsHelp | 0.001 | 0.000 | 0.001 |
|
| commandsPOST | 0 | 0 | 0 |
|
| commandsRun | 0.000 | 0.000 | 0.001 |
|
| copyVisualStyle | 0 | 0 | 0 |
|
| createColumnFilter | 0 | 0 | 0 |
|
| createCompositeFilter | 0.000 | 0.000 | 0.001 |
|
| createDegreeFilter | 0 | 0 | 0 |
|
| createGraphFromNetwork | 0 | 0 | 0 |
|
| createGroup | 0 | 0 | 0 |
|
| createIgraphFromNetwork | 0 | 0 | 0 |
|
| createNetworkFromDataFrames | 0.001 | 0.000 | 0.001 |
|
| createNetworkFromGraph | 0.000 | 0.001 | 0.001 |
|
| createNetworkFromIgraph | 0 | 0 | 0 |
|
| createSubnetwork | 0 | 0 | 0 |
|
| createVisualStyle | 0 | 0 | 0 |
|
| cybrowserClose | 0.000 | 0.000 | 0.001 |
|
| cybrowserDialog | 0 | 0 | 0 |
|
| cybrowserHide | 0 | 0 | 0 |
|
| cybrowserList | 0 | 0 | 0 |
|
| cybrowserSend | 0.000 | 0.000 | 0.001 |
|
| cybrowserShow | 0 | 0 | 0 |
|
| cybrowserVersion | 0 | 0 | 0 |
|
| cyrestAPI | 0.000 | 0.001 | 0.000 |
|
| cyrestDELETE | 0.000 | 0.000 | 0.001 |
|
| cyrestGET | 0 | 0 | 0 |
|
| cyrestPOST | 0 | 0 | 0 |
|
| cyrestPUT | 0 | 0 | 0 |
|
| cytoscapeApiVersions | 0.001 | 0.000 | 0.000 |
|
| cytoscapeFreeMemory | 0.000 | 0.000 | 0.001 |
|
| cytoscapeMemoryStatus | 0 | 0 | 0 |
|
| cytoscapeNumberOfCores | 0 | 0 | 0 |
|
| cytoscapePing | 0 | 0 | 0 |
|
| cytoscapeVersionInfo | 0 | 0 | 0 |
|
| deleteAllNetworks | 0.001 | 0.001 | 0.000 |
|
| deleteDuplicateEdges | 0 | 0 | 0 |
|
| deleteGroup | 0 | 0 | 0 |
|
| deleteNetwork | 0.000 | 0.000 | 0.001 |
|
| deleteSelectedEdges | 0.001 | 0.000 | 0.000 |
|
| deleteSelectedNodes | 0.001 | 0.000 | 0.000 |
|
| deleteSelfLoops | 0 | 0 | 0 |
|
| deleteStyleMapping | 0 | 0 | 0 |
|
| deleteTableColumn | 0 | 0 | 0 |
|
| deleteVisualStyle | 0 | 0 | 0 |
|
| diffusionAdvanced | 0 | 0 | 0 |
|
| diffusionBasic | 0 | 0 | 0 |
|
| disableApp | 0.000 | 0.000 | 0.001 |
|
| dockPanel | 0 | 0 | 0 |
|
| enableApp | 0 | 0 | 0 |
|
| expandGroup | 0 | 0 | 0 |
|
| exportFilters | 0 | 0 | 0 |
|
| exportImage | 0 | 0 | 0 |
|
| exportNetwork | 0 | 0 | 0 |
|
| exportNetworkToNDEx | 0 | 0 | 0 |
|
| exportVisualStyles | 0.001 | 0.000 | 0.001 |
|
| fitContent | 0 | 0 | 0 |
|
| floatPanel | 0 | 0 | 0 |
|
| getAllEdges | 0 | 0 | 0 |
|
| getAllNodes | 0.000 | 0.000 | 0.001 |
|
| getAppInformation | 0.001 | 0.000 | 0.000 |
|
| getAppStatus | 0.001 | 0.000 | 0.000 |
|
| getAppUpdates | 0.000 | 0.000 | 0.001 |
|
| getArrowShapes | 0.001 | 0.000 | 0.000 |
|
| getAvailableApps | 0.001 | 0.000 | 0.000 |
|
| getBackgroundColorDefault | 0.000 | 0.000 | 0.001 |
|
| getCollectionList | 0.001 | 0.000 | 0.000 |
|
| getCollectionName | 0.001 | 0.000 | 0.000 |
|
| getCollectionNetworks | 0.000 | 0.000 | 0.001 |
|
| getCollectionSuid | 0 | 0 | 0 |
|
| getDisabledApps | 0 | 0 | 0 |
|
| getEdgeColor | 0.000 | 0.000 | 0.001 |
|
| getEdgeCount | 0 | 0 | 0 |
|
| getEdgeLineStyle | 0 | 0 | 0 |
|
| getEdgeLineWidth | 0.000 | 0.000 | 0.001 |
|
| getEdgeProperty | 0 | 0 | 0 |
|
| getEdgeSelectionColorDefault | 0 | 0 | 0 |
|
| getEdgeTargetArrowShape | 0.000 | 0.000 | 0.001 |
|
| getFilterList | 0 | 0 | 0 |
|
| getFirstNeighbors | 0 | 0 | 0 |
|
| getGroupInfo | 0 | 0 | 0 |
|
| getInstalledApps | 0.000 | 0.000 | 0.001 |
|
| getLayoutNameMapping | 0 | 0 | 0 |
|
| getLayoutNames | 0 | 0 | 0 |
|
| getLayoutPropertyNames | 0 | 0 | 0 |
|
| getLayoutPropertyType | 0 | 0 | 0 |
|
| getLayoutPropertyValue | 0 | 0 | 0 |
|
| getLineStyles | 0.000 | 0.000 | 0.001 |
|
| getNetworkCenter | 0 | 0 | 0 |
|
| getNetworkCount | 0 | 0 | 0 |
|
| getNetworkList | 0.000 | 0.000 | 0.001 |
|
| getNetworkNDExId | 0 | 0 | 0 |
|
| getNetworkName | 0 | 0 | 0 |
|
| getNetworkProperty | 0 | 0 | 0 |
|
| getNetworkSuid | 0.001 | 0.000 | 0.000 |
|
| getNetworkViewSuid | 0 | 0 | 0 |
|
| getNetworkViews | 0 | 0 | 0 |
|
| getNetworkZoom | 0.001 | 0.000 | 0.000 |
|
| getNodeColor | 0 | 0 | 0 |
|
| getNodeCount | 0 | 0 | 0 |
|
| getNodeHeight | 0 | 0 | 0 |
|
| getNodeProperty | 0.000 | 0.001 | 0.001 |
|
| getNodeSelectionColorDefault | 0 | 0 | 0 |
|
| getNodeShapes | 0 | 0 | 0 |
|
| getNodeSize | 0.000 | 0.001 | 0.000 |
|
| getNodeWidth | 0.001 | 0.000 | 0.000 |
|
| getSelectedEdgeCount | 0.001 | 0.000 | 0.001 |
|
| getSelectedEdges | 0.001 | 0.000 | 0.000 |
|
| getSelectedNodeCount | 0.001 | 0.000 | 0.000 |
|
| getSelectedNodes | 0.000 | 0.000 | 0.001 |
|
| getStyleDependencies | 0.001 | 0.000 | 0.000 |
|
| getTableColumnNames | 0.001 | 0.000 | 0.000 |
|
| getTableColumnTypes | 0.001 | 0.000 | 0.000 |
|
| getTableColumns | 0.001 | 0.000 | 0.001 |
|
| getTableValue | 0.001 | 0.000 | 0.000 |
|
| getUninstalledApps | 0 | 0 | 0 |
|
| getVisualPropertyDefault | 0.001 | 0.000 | 0.001 |
|
| getVisualPropertyNames | 0 | 0 | 0 |
|
| getVisualStyleNames | 0 | 0 | 0 |
|
| hideAllPanels | 0 | 0 | 0 |
|
| hideEdges | 0.001 | 0.000 | 0.000 |
|
| hideNodes | 0 | 0 | 0 |
|
| hidePanel | 0.000 | 0.000 | 0.001 |
|
| hideSelectedEdges | 0 | 0 | 0 |
|
| hideSelectedNodes | 0.000 | 0.001 | 0.000 |
|
| importFilters | 0 | 0 | 0 |
|
| importNetworkFromFile | 0 | 0 | 0 |
|
| importNetworkFromNDEx | 0 | 0 | 0 |
|
| importVisualStyles | 0 | 0 | 0 |
|
| installApp | 0.000 | 0.000 | 0.001 |
|
| invertEdgeSelection | 0 | 0 | 0 |
|
| invertNodeSelection | 0 | 0 | 0 |
|
| layoutCopycat | 0 | 0 | 0 |
|
| layoutNetwork | 0 | 0 | 0 |
|
| listGroups | 0.000 | 0.000 | 0.001 |
|
| lockNodeDimensions | 0 | 0 | 0 |
|
| makeSimpleGraph | 0.093 | 0.001 | 0.094 |
|
| makeSimpleIgraph | 0.011 | 0.000 | 0.011 |
|
| mapTableColumn | 0 | 0 | 0 |
|
| mapVisualProperty | 0.001 | 0.000 | 0.000 |
|
| matchArrowColorToEdge | 0 | 0 | 0 |
|
| openAppStore | 0 | 0 | 0 |
|
| openSession | 0.001 | 0.000 | 0.000 |
|
| removeNodeCustomGraphics | 0 | 0 | 0 |
|
| renameNetwork | 0 | 0 | 0 |
|
| renameTableColumn | 0.000 | 0.000 | 0.001 |
|
| saveSession | 0.000 | 0.000 | 0.001 |
|
| selectAllEdges | 0 | 0 | 0 |
|
| selectAllNodes | 0 | 0 | 0 |
|
| selectEdges | 0 | 0 | 0 |
|
| selectEdgesAdjacentToSelectedNodes | 0 | 0 | 0 |
|
| selectEdgesConnectingSelectedNodes | 0 | 0 | 0 |
|
| selectFirstNeighbors | 0.000 | 0.001 | 0.000 |
|
| selectNodes | 0 | 0 | 0 |
|
| selectNodesConnectedBySelectedEdges | 0 | 0 | 0 |
|
| setBackgroundColorDefault | 0.001 | 0.000 | 0.001 |
|
| setCurrentNetwork | 0.000 | 0.000 | 0.001 |
|
| setCurrentView | 0.000 | 0.001 | 0.000 |
|
| setEdgeColorBypass | 0.001 | 0.000 | 0.000 |
|
| setEdgeColorDefault | 0 | 0 | 0 |
|
| setEdgeColorMapping | 0 | 0 | 0 |
|
| setEdgeFontFaceBypass | 0 | 0 | 0 |
|
| setEdgeFontSizeBypass | 0 | 0 | 0 |
|
| setEdgeFontSizeDefault | 0 | 0 | 0 |
|
| setEdgeLabelBypass | 0.000 | 0.000 | 0.001 |
|
| setEdgeLabelColorBypass | 0.000 | 0.000 | 0.001 |
|
| setEdgeLabelMapping | 0 | 0 | 0 |
|
| setEdgeLabelOpacityBypass | 0 | 0 | 0 |
|
| setEdgeLineStyleBypass | 0 | 0 | 0 |
|
| setEdgeLineStyleDefault | 0 | 0 | 0 |
|
| setEdgeLineStyleMapping | 0 | 0 | 0 |
|
| setEdgeLineWidthBypass | 0 | 0 | 0 |
|
| setEdgeLineWidthDefault | 0 | 0 | 0 |
|
| setEdgeLineWidthMapping | 0.000 | 0.000 | 0.001 |
|
| setEdgeOpacityBypass | 0.001 | 0.000 | 0.001 |
|
| setEdgeOpacityMapping | 0 | 0 | 0 |
|
| setEdgePropertyBypass | 0 | 0 | 0 |
|
| setEdgeSelectionColorDefault | 0.001 | 0.000 | 0.000 |
|
| setEdgeSourceArrowColorBypass | 0 | 0 | 0 |
|
| setEdgeSourceArrowColorDefault | 0 | 0 | 0 |
|
| setEdgeSourceArrowColorMapping | 0 | 0 | 0 |
|
| setEdgeSourceArrowMapping | 0 | 0 | 0 |
|
| setEdgeSourceArrowShapeBypass | 0.000 | 0.000 | 0.001 |
|
| setEdgeSourceArrowShapeDefault | 0 | 0 | 0 |
|
| setEdgeTargetArrowColorBypass | 0.000 | 0.001 | 0.000 |
|
| setEdgeTargetArrowColorDefault | 0 | 0 | 0 |
|
| setEdgeTargetArrowColorMapping | 0 | 0 | 0 |
|
| setEdgeTargetArrowMapping | 0.000 | 0.000 | 0.001 |
|
| setEdgeTargetArrowShapeBypass | 0 | 0 | 0 |
|
| setEdgeTargetArrowShapeDefault | 0 | 0 | 0 |
|
| setEdgeTooltipBypass | 0.000 | 0.000 | 0.001 |
|
| setEdgeTooltipMapping | 0 | 0 | 0 |
|
| setLayoutProperties | 0 | 0 | 0 |
|
| setNetworkCenterBypass | 0.000 | 0.000 | 0.001 |
|
| setNetworkPropertyBypass | 0 | 0 | 0 |
|
| setNetworkZoomBypass | 0 | 0 | 0 |
|
| setNodeBorderColorBypass | 0 | 0 | 0 |
|
| setNodeBorderColorDefault | 0 | 0 | 0 |
|
| setNodeBorderColorMapping | 0 | 0 | 0 |
|
| setNodeBorderOpacityBypass | 0 | 0 | 0 |
|
| setNodeBorderWidthBypass | 0.000 | 0.000 | 0.001 |
|
| setNodeBorderWidthDefault | 0.000 | 0.001 | 0.000 |
|
| setNodeBorderWidthMapping | 0 | 0 | 0 |
|
| setNodeColorBypass | 0.000 | 0.000 | 0.001 |
|
| setNodeColorDefault | 0 | 0 | 0 |
|
| setNodeColorMapping | 0 | 0 | 0 |
|
| setNodeComboOpacityMapping | 0 | 0 | 0 |
|
| setNodeCustomBarChart | 0.000 | 0.000 | 0.001 |
|
| setNodeCustomBoxChart | 0.000 | 0.001 | 0.000 |
|
| setNodeCustomHeatMapChart | 0 | 0 | 0 |
|
| setNodeCustomLineChart | 0.000 | 0.000 | 0.001 |
|
| setNodeCustomLinearGradient | 0 | 0 | 0 |
|
| setNodeCustomPieChart | 0 | 0 | 0 |
|
| setNodeCustomPosition | 0.000 | 0.000 | 0.001 |
|
| setNodeCustomRadialGradient | 0 | 0 | 0 |
|
| setNodeCustomRingChart | 0 | 0 | 0 |
|
| setNodeFillOpacityBypass | 0 | 0 | 0 |
|
| setNodeFontSizeBypass | 0 | 0 | 0 |
|
| setNodeFontSizeDefault | 0.000 | 0.000 | 0.001 |
|
| setNodeHeightBypass | 0.000 | 0.001 | 0.000 |
|
| setNodeLabelBypass | 0 | 0 | 0 |
|
| setNodeLabelColorBypass | 0 | 0 | 0 |
|
| setNodeLabelColorDefault | 0 | 0 | 0 |
|
| setNodeLabelMapping | 0 | 0 | 0 |
|
| setNodeLabelOpacityBypass | 0 | 0 | 0 |
|
| setNodeOpacityBypass | 0 | 0 | 0 |
|
| setNodePropertyBypass | 0.001 | 0.000 | 0.000 |
|
| setNodeSelectionColorDefault | 0.000 | 0.000 | 0.001 |
|
| setNodeShapeBypass | 0 | 0 | 0 |
|
| setNodeShapeDefault | 0.000 | 0.000 | 0.001 |
|
| setNodeShapeMapping | 0 | 0 | 0 |
|
| setNodeSizeBypass | 0 | 0 | 0 |
|
| setNodeSizeDefault | 0 | 0 | 0 |
|
| setNodeSizeMapping | 0 | 0 | 0 |
|
| setNodeTooltipMapping | 0 | 0 | 0 |
|
| setNodeWidthBypass | 0.000 | 0.000 | 0.001 |
|
| setStyleDependencies | 0 | 0 | 0 |
|
| setVisualPropertyDefault | 0 | 0 | 0 |
|
| setVisualStyle | 0.000 | 0.000 | 0.001 |
|
| syncNodeCustomGraphicsSize | 0.001 | 0.000 | 0.000 |
|
| toggleGraphicsDetails | 0.001 | 0.000 | 0.000 |
|
| unhideAll | 0 | 0 | 0 |
|
| unhideEdges | 0 | 0 | 0 |
|
| unhideNodes | 0.000 | 0.000 | 0.001 |
|
| uninstallApp | 0 | 0 | 0 |
|
| updateApp | 0.000 | 0.000 | 0.001 |
|
| updateNetworkInNDEx | 0 | 0 | 0 |
|
| updateStyleDefaults | 0 | 0 | 0 |
|
| updateStyleMapping | 0.000 | 0.001 | 0.001 |
|