| Back to Multiple platform build/check report for BioC 3.9 |
|
This page was generated on 2019-10-16 12:09:19 -0400 (Wed, 16 Oct 2019).
| Package 1323/1741 | Hostname | OS / Arch | INSTALL | BUILD | CHECK | BUILD BIN | ||||||
| RCAS 1.10.1 Bora Uyar
| malbec2 | Linux (Ubuntu 18.04.2 LTS) / x86_64 | OK | OK | [ OK ] | |||||||
| tokay2 | Windows Server 2012 R2 Standard / x64 | OK | OK | OK | OK | |||||||
| celaya2 | OS X 10.11.6 El Capitan / x86_64 | OK | OK | OK | OK |
| Package: RCAS |
| Version: 1.10.1 |
| Command: /home/biocbuild/bbs-3.9-bioc/R/bin/R CMD check --install=check:RCAS.install-out.txt --library=/home/biocbuild/bbs-3.9-bioc/R/library --no-vignettes --timings RCAS_1.10.1.tar.gz |
| StartedAt: 2019-10-16 04:19:23 -0400 (Wed, 16 Oct 2019) |
| EndedAt: 2019-10-16 04:31:34 -0400 (Wed, 16 Oct 2019) |
| EllapsedTime: 731.5 seconds |
| RetCode: 0 |
| Status: OK |
| CheckDir: RCAS.Rcheck |
| Warnings: 0 |
##############################################################################
##############################################################################
###
### Running command:
###
### /home/biocbuild/bbs-3.9-bioc/R/bin/R CMD check --install=check:RCAS.install-out.txt --library=/home/biocbuild/bbs-3.9-bioc/R/library --no-vignettes --timings RCAS_1.10.1.tar.gz
###
##############################################################################
##############################################################################
* using log directory ‘/home/biocbuild/bbs-3.9-bioc/meat/RCAS.Rcheck’
* using R version 3.6.1 (2019-07-05)
* using platform: x86_64-pc-linux-gnu (64-bit)
* using session charset: UTF-8
* using option ‘--no-vignettes’
* checking for file ‘RCAS/DESCRIPTION’ ... OK
* checking extension type ... Package
* this is package ‘RCAS’ version ‘1.10.1’
* checking package namespace information ... OK
* checking package dependencies ... OK
* checking if this is a source package ... OK
* checking if there is a namespace ... OK
* checking for hidden files and directories ... OK
* checking for portable file names ... OK
* checking for sufficient/correct file permissions ... OK
* checking whether package ‘RCAS’ can be installed ... OK
* checking installed package size ... OK
* checking package directory ... OK
* checking ‘build’ directory ... OK
* checking DESCRIPTION meta-information ... OK
* checking top-level files ... OK
* checking for left-over files ... OK
* checking index information ... OK
* checking package subdirectories ... OK
* checking R files for non-ASCII characters ... OK
* checking R files for syntax errors ... OK
* checking whether the package can be loaded ... OK
* checking whether the package can be loaded with stated dependencies ... OK
* checking whether the package can be unloaded cleanly ... OK
* checking whether the namespace can be loaded with stated dependencies ... OK
* checking whether the namespace can be unloaded cleanly ... OK
* checking dependencies in R code ... NOTE
Namespace in Imports field not imported from: ‘DBI’
All declared Imports should be used.
* checking S3 generic/method consistency ... OK
* checking replacement functions ... OK
* checking foreign function calls ... OK
* checking R code for possible problems ... OK
* checking Rd files ... OK
* checking Rd metadata ... OK
* checking Rd cross-references ... OK
* checking for missing documentation entries ... OK
* checking for code/documentation mismatches ... OK
* checking Rd \usage sections ... OK
* checking Rd contents ... OK
* checking for unstated dependencies in examples ... OK
* checking contents of ‘data’ directory ... OK
* checking data for non-ASCII characters ... OK
* checking data for ASCII and uncompressed saves ... OK
* checking files in ‘vignettes’ ... OK
* checking examples ... OK
Examples with CPU or elapsed time > 5s
user system elapsed
getMotifSummaryTable 52.386 4.076 32.416
runMotifRG 49.317 3.935 31.095
getFeatureBoundaryCoverageMulti 17.838 0.364 18.285
calculateCoverageProfileList 15.443 0.156 15.674
calculateCoverageProfile 14.502 0.227 14.835
calculateCoverageProfileListFromTxdb 14.446 0.160 14.698
getTargetedGenesTable 13.327 0.124 10.552
summarizeQueryRegionsMulti 11.767 0.373 27.075
getTxdbFeatures 10.209 0.064 10.273
summarizeQueryRegions 9.679 0.176 9.864
getTxdbFeaturesFromGRanges 8.242 0.144 8.386
calculateCoverageProfileFromTxdb 7.486 0.036 7.558
getFeatureBoundaryCoverageBin 5.908 0.111 6.053
plotFeatureBoundaryCoverage 5.728 0.072 4.549
getFeatureBoundaryCoverage 5.492 0.160 5.653
createDB 2.847 0.205 19.736
createOrthologousGeneSetList 0.612 0.020 17.286
retrieveOrthologs 0.486 0.016 15.629
* checking for unstated dependencies in ‘tests’ ... OK
* checking tests ...
Running ‘testthat.R’
OK
* checking for unstated dependencies in vignettes ... OK
* checking package vignettes in ‘inst/doc’ ... OK
* checking running R code from vignettes ... SKIPPED
* checking re-building of vignette outputs ... SKIPPED
* checking PDF version of manual ... OK
* DONE
Status: 1 NOTE
See
‘/home/biocbuild/bbs-3.9-bioc/meat/RCAS.Rcheck/00check.log’
for details.
RCAS.Rcheck/00install.out
############################################################################## ############################################################################## ### ### Running command: ### ### /home/biocbuild/bbs-3.9-bioc/R/bin/R CMD INSTALL RCAS ### ############################################################################## ############################################################################## * installing to library ‘/home/biocbuild/bbs-3.9-bioc/R/library’ * installing *source* package ‘RCAS’ ... ** using staged installation ** R ** data *** moving datasets to lazyload DB ** inst ** byte-compile and prepare package for lazy loading groupGOTerms: GOBPTerm, GOMFTerm, GOCCTerm environments built. ** help *** installing help indices ** building package indices ** installing vignettes ** testing if installed package can be loaded from temporary location groupGOTerms: GOBPTerm, GOMFTerm, GOCCTerm environments built. ** testing if installed package can be loaded from final location groupGOTerms: GOBPTerm, GOMFTerm, GOCCTerm environments built. ** testing if installed package keeps a record of temporary installation path * DONE (RCAS)
RCAS.Rcheck/tests/testthat.Rout
R version 3.6.1 (2019-07-05) -- "Action of the Toes"
Copyright (C) 2019 The R Foundation for Statistical Computing
Platform: x86_64-pc-linux-gnu (64-bit)
R is free software and comes with ABSOLUTELY NO WARRANTY.
You are welcome to redistribute it under certain conditions.
Type 'license()' or 'licence()' for distribution details.
R is a collaborative project with many contributors.
Type 'contributors()' for more information and
'citation()' on how to cite R or R packages in publications.
Type 'demo()' for some demos, 'help()' for on-line help, or
'help.start()' for an HTML browser interface to help.
Type 'q()' to quit R.
> library(testthat)
> library(RCAS)
Loading required package: plotly
Loading required package: ggplot2
Attaching package: 'plotly'
The following object is masked from 'package:ggplot2':
last_plot
The following object is masked from 'package:stats':
filter
The following object is masked from 'package:graphics':
layout
Loading required package: DT
Loading required package: data.table
Loading required package: topGO
Loading required package: BiocGenerics
Loading required package: parallel
Attaching package: 'BiocGenerics'
The following objects are masked from 'package:parallel':
clusterApply, clusterApplyLB, clusterCall, clusterEvalQ,
clusterExport, clusterMap, parApply, parCapply, parLapply,
parLapplyLB, parRapply, parSapply, parSapplyLB
The following objects are masked from 'package:stats':
IQR, mad, sd, var, xtabs
The following objects are masked from 'package:base':
Filter, Find, Map, Position, Reduce, anyDuplicated, append,
as.data.frame, basename, cbind, colnames, dirname, do.call,
duplicated, eval, evalq, get, grep, grepl, intersect, is.unsorted,
lapply, mapply, match, mget, order, paste, pmax, pmax.int, pmin,
pmin.int, rank, rbind, rownames, sapply, setdiff, sort, table,
tapply, union, unique, unsplit, which, which.max, which.min
Loading required package: graph
Loading required package: Biobase
Welcome to Bioconductor
Vignettes contain introductory material; view with
'browseVignettes()'. To cite Bioconductor, see
'citation("Biobase")', and for packages 'citation("pkgname")'.
Loading required package: GO.db
Loading required package: AnnotationDbi
Loading required package: stats4
Loading required package: IRanges
Loading required package: S4Vectors
Attaching package: 'S4Vectors'
The following objects are masked from 'package:data.table':
first, second
The following object is masked from 'package:plotly':
rename
The following object is masked from 'package:base':
expand.grid
Attaching package: 'IRanges'
The following object is masked from 'package:data.table':
shift
The following object is masked from 'package:plotly':
slice
Attaching package: 'AnnotationDbi'
The following object is masked from 'package:plotly':
select
Loading required package: SparseM
Attaching package: 'SparseM'
The following object is masked from 'package:base':
backsolve
groupGOTerms: GOBPTerm, GOMFTerm, GOCCTerm environments built.
Attaching package: 'topGO'
The following object is masked from 'package:IRanges':
members
Loading required package: motifRG
Loading required package: Biostrings
Loading required package: XVector
Attaching package: 'Biostrings'
The following object is masked from 'package:graph':
complement
The following object is masked from 'package:base':
strsplit
Loading required package: seqLogo
Loading required package: grid
Attaching package: 'grid'
The following object is masked from 'package:topGO':
depth
Loading required package: BSgenome
Loading required package: GenomeInfoDb
Loading required package: GenomicRanges
Loading required package: rtracklayer
Attaching package: 'rtracklayer'
The following object is masked from 'package:plotly':
export
Loading required package: BSgenome.Hsapiens.UCSC.hg19
>
> test_check("RCAS")
AAGGAG 2.496128e-06
Skip pattern ATTTTT
Refine AAGGAG 10.93357 : 10.17065 10.92763 11.25569 11.84363 11.47092 TRUE 442 155 427 150
New motif: AAGGAG
══ testthat results ═══════════════════════════════════════════════════════════
[ OK: 81 | SKIPPED: 0 | WARNINGS: 71 | FAILED: 0 ]
>
> proc.time()
user system elapsed
109.428 4.907 109.310
RCAS.Rcheck/RCAS-Ex.timings
| name | user | system | elapsed | |
| calculateCoverageProfile | 14.502 | 0.227 | 14.835 | |
| calculateCoverageProfileFromTxdb | 7.486 | 0.036 | 7.558 | |
| calculateCoverageProfileList | 15.443 | 0.156 | 15.674 | |
| calculateCoverageProfileListFromTxdb | 14.446 | 0.160 | 14.698 | |
| createControlRegions | 0.346 | 0.000 | 0.347 | |
| createDB | 2.847 | 0.205 | 19.736 | |
| createOrthologousGeneSetList | 0.612 | 0.020 | 17.286 | |
| discoverFeatureSpecificMotifs | 0 | 0 | 0 | |
| extractSequences | 1.445 | 0.108 | 1.556 | |
| getFeatureBoundaryCoverage | 5.492 | 0.160 | 5.653 | |
| getFeatureBoundaryCoverageBin | 5.908 | 0.111 | 6.053 | |
| getFeatureBoundaryCoverageMulti | 17.838 | 0.364 | 18.285 | |
| getIntervalOverlapMatrix | 1.484 | 0.123 | 2.007 | |
| getMotifSummaryTable | 52.386 | 4.076 | 32.416 | |
| getTargetedGenesTable | 13.327 | 0.124 | 10.552 | |
| getTxdbFeatures | 10.209 | 0.064 | 10.273 | |
| getTxdbFeaturesFromGRanges | 8.242 | 0.144 | 8.386 | |
| importBed | 0.168 | 0.000 | 0.168 | |
| importBedFiles | 0.806 | 0.008 | 0.815 | |
| importGtf | 0 | 0 | 0 | |
| parseMsigdb | 0.000 | 0.002 | 0.018 | |
| plotFeatureBoundaryCoverage | 5.728 | 0.072 | 4.549 | |
| printMsigdbDataset | 0.054 | 0.000 | 0.054 | |
| queryGff | 0.643 | 0.036 | 0.680 | |
| retrieveOrthologs | 0.486 | 0.016 | 15.629 | |
| runGSEA | 1.310 | 0.055 | 1.368 | |
| runMotifRG | 49.317 | 3.935 | 31.095 | |
| runReport | 0.001 | 0.000 | 0.000 | |
| runReportMetaAnalysis | 1.446 | 0.498 | 2.319 | |
| runTopGO | 0 | 0 | 0 | |
| summarizeQueryRegions | 9.679 | 0.176 | 9.864 | |
| summarizeQueryRegionsMulti | 11.767 | 0.373 | 27.075 | |