| Back to Multiple platform build/check report for BioC 3.9 |
|
This page was generated on 2019-10-16 12:26:13 -0400 (Wed, 16 Oct 2019).
| Package 1292/1741 | Hostname | OS / Arch | INSTALL | BUILD | CHECK | BUILD BIN | ||||||
| QUALIFIER 1.28.0 Mike Jiang
| malbec2 | Linux (Ubuntu 18.04.2 LTS) / x86_64 | OK | OK | WARNINGS | |||||||
| tokay2 | Windows Server 2012 R2 Standard / x64 | OK | OK | WARNINGS | [ OK ] | |||||||
| celaya2 | OS X 10.11.6 El Capitan / x86_64 | OK | OK | WARNINGS | OK |
| Package: QUALIFIER |
| Version: 1.28.0 |
| Command: rm -rf QUALIFIER.buildbin-libdir && mkdir QUALIFIER.buildbin-libdir && C:\Users\biocbuild\bbs-3.9-bioc\R\bin\R.exe CMD INSTALL --merge-multiarch --build --library=QUALIFIER.buildbin-libdir QUALIFIER_1.28.0.tar.gz |
| StartedAt: 2019-10-16 09:59:12 -0400 (Wed, 16 Oct 2019) |
| EndedAt: 2019-10-16 10:00:07 -0400 (Wed, 16 Oct 2019) |
| EllapsedTime: 55.5 seconds |
| RetCode: 0 |
| Status: OK |
| PackageFile: QUALIFIER_1.28.0.zip |
| PackageFileSize: 1.195 MiB |
##############################################################################
##############################################################################
###
### Running command:
###
### rm -rf QUALIFIER.buildbin-libdir && mkdir QUALIFIER.buildbin-libdir && C:\Users\biocbuild\bbs-3.9-bioc\R\bin\R.exe CMD INSTALL --merge-multiarch --build --library=QUALIFIER.buildbin-libdir QUALIFIER_1.28.0.tar.gz
###
##############################################################################
##############################################################################
install for i386
* installing *source* package 'QUALIFIER' ...
** using staged installation
** R
** data
** inst
** byte-compile and prepare package for lazy loading
** help
*** installing help indices
converting help for package 'QUALIFIER'
finding HTML links ... done
ITNQASTUDY html
QUALIFIER-package html
getQAStats html
finding level-2 HTML links ... done
initDB html
outlierFunctions html
plot-methods html
qaCheck-methods html
Rd warning: C:/Users/biocbuild/bbs-3.9-bioc/tmpdir/RtmpOGP0E0/R.INSTALL164c24bd4136/QUALIFIER/man/qaCheck-methods.Rd:40: file link 'plot' in package 'QUALIFIER' does not exist and so has been treated as a topic
Rd warning: C:/Users/biocbuild/bbs-3.9-bioc/tmpdir/RtmpOGP0E0/R.INSTALL164c24bd4136/QUALIFIER/man/qaCheck-methods.Rd:131: file link 'plot' in package 'QUALIFIER' does not exist and so has been treated as a topic
qaPreprocess html
qaReport html
Rd warning: C:/Users/biocbuild/bbs-3.9-bioc/tmpdir/RtmpOGP0E0/R.INSTALL164c24bd4136/QUALIFIER/man/qaReport.Rd:20: file link 'plot' in package 'QUALIFIER' does not exist and so has been treated as a topic
Rd warning: C:/Users/biocbuild/bbs-3.9-bioc/tmpdir/RtmpOGP0E0/R.INSTALL164c24bd4136/QUALIFIER/man/qaReport.Rd:63: file link 'plot' in package 'QUALIFIER' does not exist and so has been treated as a topic
qaTask-class html
read.qaTask html
saveToDB html
save_db html
** building package indices
** installing vignettes
** testing if installed package can be loaded from temporary location
** testing if installed package can be loaded from final location
** testing if installed package keeps a record of temporary installation path
install for x64
* installing *source* package 'QUALIFIER' ...
** testing if installed package can be loaded
* MD5 sums
packaged installation of 'QUALIFIER' as QUALIFIER_1.28.0.zip
* DONE (QUALIFIER)