| Back to Multiple platform build/check report for BioC 3.9 | 
 | 
This page was generated on 2019-10-16 12:29:26 -0400 (Wed, 16 Oct 2019).
| Package 1284/1741 | Hostname | OS / Arch | INSTALL | BUILD | CHECK | BUILD BIN | ||||||
| QDNAseq 1.20.0 Daoud Sie 
 | malbec2 | Linux (Ubuntu 18.04.2 LTS) / x86_64 | OK | OK | WARNINGS |  | ||||||
| tokay2 | Windows Server 2012 R2 Standard / x64 | [ OK ] | OK | WARNINGS | OK |  | ||||||
| celaya2 | OS X 10.11.6 El Capitan / x86_64 | OK | OK | WARNINGS | OK |  | 
| Package: QDNAseq | 
| Version: 1.20.0 | 
| Command: C:\cygwin\bin\curl.exe -O https://malbec2.bioconductor.org/BBS/3.9/bioc/src/contrib/QDNAseq_1.20.0.tar.gz && rm -rf QDNAseq.buildbin-libdir && mkdir QDNAseq.buildbin-libdir && C:\Users\biocbuild\bbs-3.9-bioc\R\bin\R.exe CMD INSTALL --merge-multiarch --build --library=QDNAseq.buildbin-libdir QDNAseq_1.20.0.tar.gz && C:\Users\biocbuild\bbs-3.9-bioc\R\bin\R.exe CMD INSTALL QDNAseq_1.20.0.zip && rm QDNAseq_1.20.0.tar.gz QDNAseq_1.20.0.zip | 
| StartedAt: 2019-10-15 20:05:05 -0400 (Tue, 15 Oct 2019) | 
| EndedAt: 2019-10-15 20:06:01 -0400 (Tue, 15 Oct 2019) | 
| EllapsedTime: 56.2 seconds | 
| RetCode: 0 | 
| Status: OK | 
##############################################################################
##############################################################################
###
### Running command:
###
###   C:\cygwin\bin\curl.exe -O https://malbec2.bioconductor.org/BBS/3.9/bioc/src/contrib/QDNAseq_1.20.0.tar.gz && rm -rf QDNAseq.buildbin-libdir && mkdir QDNAseq.buildbin-libdir && C:\Users\biocbuild\bbs-3.9-bioc\R\bin\R.exe CMD INSTALL --merge-multiarch --build --library=QDNAseq.buildbin-libdir QDNAseq_1.20.0.tar.gz && C:\Users\biocbuild\bbs-3.9-bioc\R\bin\R.exe CMD INSTALL QDNAseq_1.20.0.zip && rm QDNAseq_1.20.0.tar.gz QDNAseq_1.20.0.zip
###
##############################################################################
##############################################################################
  % Total    % Received % Xferd  Average Speed   Time    Time     Time  Current
                                 Dload  Upload   Total   Spent    Left  Speed
  0     0    0     0    0     0      0      0 --:--:-- --:--:-- --:--:--     0
100  570k  100  570k    0     0  8157k      0 --:--:-- --:--:-- --:--:-- 9194k
install for i386
* installing *source* package 'QDNAseq' ...
** using staged installation
** R
** data
** inst
** byte-compile and prepare package for lazy loading
** help
*** installing help indices
  converting help for package 'QDNAseq'
    finding HTML links ... done
    LGG150                                  html  
    QDNAseq-defunct                         html  
    QDNAseq-package                         html  
    QDNAseqCopyNumbers                      html  
    QDNAseqReadCounts                       html  
    QDNAseqSignals                          html  
    addPhenodata                            html  
    applyFilters                            html  
Rd warning: C:/Users/biocbuild/bbs-3.9-bioc/tmpdir/RtmpyQnTy1/R.INSTALL1430419e3690/QDNAseq/man/applyFilters.Rd:31: file link 'madDiff' in package 'matrixStats' does not exist and so has been treated as a topic
    binReadCounts                           html  
Rd warning: C:/Users/biocbuild/bbs-3.9-bioc/tmpdir/RtmpyQnTy1/R.INSTALL1430419e3690/QDNAseq/man/binReadCounts.Rd:28: file link 'AnnotatedDataFrame' in package 'Biobase' does not exist and so has been treated as a topic
    callBins                                html  
    compareToReference                      html  
    correctBins                             html  
    createBins                              html  
    estimateCorrection                      html  
Rd warning: C:/Users/biocbuild/bbs-3.9-bioc/tmpdir/RtmpyQnTy1/R.INSTALL1430419e3690/QDNAseq/man/estimateCorrection.Rd:43: file link 'madDiff' in package 'matrixStats' does not exist and so has been treated as a topic
    exportBins                              html  
    finding level-2 HTML links ... done
    frequencyPlot                           html  
    getBinAnnotations                       html  
Rd warning: C:/Users/biocbuild/bbs-3.9-bioc/tmpdir/RtmpyQnTy1/R.INSTALL1430419e3690/QDNAseq/man/getBinAnnotations.Rd:43: file link 'AnnotatedDataFrame' in package 'Biobase' does not exist and so has been treated as a topic
    highlightFilters                        html  
Rd warning: C:/Users/biocbuild/bbs-3.9-bioc/tmpdir/RtmpyQnTy1/R.INSTALL1430419e3690/QDNAseq/man/highlightFilters.Rd:32: file link 'madDiff' in package 'matrixStats' does not exist and so has been treated as a topic
    isobarPlot                              html  
    makeCgh                                 html  
Rd warning: C:/Users/biocbuild/bbs-3.9-bioc/tmpdir/RtmpyQnTy1/R.INSTALL1430419e3690/QDNAseq/man/makeCgh.Rd:37: file link 'cghRaw' in package 'CGHbase' does not exist and so has been treated as a topic
Rd warning: C:/Users/biocbuild/bbs-3.9-bioc/tmpdir/RtmpyQnTy1/R.INSTALL1430419e3690/QDNAseq/man/makeCgh.Rd:38: file link 'cghSeg' in package 'CGHbase' does not exist and so has been treated as a topic
Rd warning: C:/Users/biocbuild/bbs-3.9-bioc/tmpdir/RtmpyQnTy1/R.INSTALL1430419e3690/QDNAseq/man/makeCgh.Rd:39: file link 'cghCall' in package 'CGHbase' does not exist and so has been treated as a topic
    noisePlot                               html  
    normalizeBins                           html  
    normalizeSegmentedBins                  html  
    plot                                    html  
    poolRuns                                html  
    segmentBins                             html  
    smoothOutlierBins                       html  
** building package indices
** installing vignettes
** testing if installed package can be loaded from temporary location
** testing if installed package can be loaded from final location
** testing if installed package keeps a record of temporary installation path
install for x64
* installing *source* package 'QDNAseq' ...
** testing if installed package can be loaded
* MD5 sums
packaged installation of 'QDNAseq' as QDNAseq_1.20.0.zip
* DONE (QDNAseq)
* installing to library 'C:/Users/biocbuild/bbs-3.9-bioc/R/library'
package 'QDNAseq' successfully unpacked and MD5 sums checked