| Back to Multiple platform build/check report for BioC 3.9 |
|
This page was generated on 2019-10-16 12:32:04 -0400 (Wed, 16 Oct 2019).
| Package 1263/1741 | Hostname | OS / Arch | INSTALL | BUILD | CHECK | BUILD BIN | ||||||
| PROPER 1.16.0 Hao Wu
| malbec2 | Linux (Ubuntu 18.04.2 LTS) / x86_64 | OK | OK | WARNINGS | |||||||
| tokay2 | Windows Server 2012 R2 Standard / x64 | [ OK ] | OK | WARNINGS | OK | |||||||
| celaya2 | OS X 10.11.6 El Capitan / x86_64 | OK | OK | WARNINGS | OK |
| Package: PROPER |
| Version: 1.16.0 |
| Command: C:\cygwin\bin\curl.exe -O https://malbec2.bioconductor.org/BBS/3.9/bioc/src/contrib/PROPER_1.16.0.tar.gz && rm -rf PROPER.buildbin-libdir && mkdir PROPER.buildbin-libdir && C:\Users\biocbuild\bbs-3.9-bioc\R\bin\R.exe CMD INSTALL --merge-multiarch --build --library=PROPER.buildbin-libdir PROPER_1.16.0.tar.gz && C:\Users\biocbuild\bbs-3.9-bioc\R\bin\R.exe CMD INSTALL PROPER_1.16.0.zip && rm PROPER_1.16.0.tar.gz PROPER_1.16.0.zip |
| StartedAt: 2019-10-15 19:02:24 -0400 (Tue, 15 Oct 2019) |
| EndedAt: 2019-10-15 19:02:39 -0400 (Tue, 15 Oct 2019) |
| EllapsedTime: 14.4 seconds |
| RetCode: 0 |
| Status: OK |
##############################################################################
##############################################################################
###
### Running command:
###
### C:\cygwin\bin\curl.exe -O https://malbec2.bioconductor.org/BBS/3.9/bioc/src/contrib/PROPER_1.16.0.tar.gz && rm -rf PROPER.buildbin-libdir && mkdir PROPER.buildbin-libdir && C:\Users\biocbuild\bbs-3.9-bioc\R\bin\R.exe CMD INSTALL --merge-multiarch --build --library=PROPER.buildbin-libdir PROPER_1.16.0.tar.gz && C:\Users\biocbuild\bbs-3.9-bioc\R\bin\R.exe CMD INSTALL PROPER_1.16.0.zip && rm PROPER_1.16.0.tar.gz PROPER_1.16.0.zip
###
##############################################################################
##############################################################################
% Total % Received % Xferd Average Speed Time Time Time Current
Dload Upload Total Spent Left Speed
0 0 0 0 0 0 0 0 --:--:-- --:--:-- --:--:-- 0
100 1598k 100 1598k 0 0 5093k 0 --:--:-- --:--:-- --:--:-- 5224k
install for i386
* installing *source* package 'PROPER' ...
** using staged installation
** R
** data
** inst
** byte-compile and prepare package for lazy loading
** help
*** installing help indices
converting help for package 'PROPER'
finding HTML links ... done
RNAseq.SimOptions.2grp html
comparePower html
estParam html
historicalData html
plotPowerHist html
plots html
power.seqDepth html
runSims html
simRNAseq html
summaryPower html
** building package indices
** installing vignettes
** testing if installed package can be loaded from temporary location
** testing if installed package can be loaded from final location
** testing if installed package keeps a record of temporary installation path
install for x64
* installing *source* package 'PROPER' ...
** testing if installed package can be loaded
* MD5 sums
packaged installation of 'PROPER' as PROPER_1.16.0.zip
* DONE (PROPER)
* installing to library 'C:/Users/biocbuild/bbs-3.9-bioc/R/library'
package 'PROPER' successfully unpacked and MD5 sums checked