| Back to Multiple platform build/check report for BioC 3.9 |
|
This page was generated on 2019-10-16 12:23:49 -0400 (Wed, 16 Oct 2019).
| Package 1262/1741 | Hostname | OS / Arch | INSTALL | BUILD | CHECK | BUILD BIN | ||||||
| PROMISE 1.36.0 Stan Pounds
| malbec2 | Linux (Ubuntu 18.04.2 LTS) / x86_64 | OK | OK | OK | |||||||
| tokay2 | Windows Server 2012 R2 Standard / x64 | OK | OK | [ OK ] | OK | |||||||
| celaya2 | OS X 10.11.6 El Capitan / x86_64 | OK | OK | OK | OK |
| Package: PROMISE |
| Version: 1.36.0 |
| Command: C:\Users\biocbuild\bbs-3.9-bioc\R\bin\R.exe CMD check --force-multiarch --install=check:PROMISE.install-out.txt --library=C:\Users\biocbuild\bbs-3.9-bioc\R\library --no-vignettes --timings PROMISE_1.36.0.tar.gz |
| StartedAt: 2019-10-16 06:10:13 -0400 (Wed, 16 Oct 2019) |
| EndedAt: 2019-10-16 06:12:58 -0400 (Wed, 16 Oct 2019) |
| EllapsedTime: 165.0 seconds |
| RetCode: 0 |
| Status: OK |
| CheckDir: PROMISE.Rcheck |
| Warnings: 0 |
##############################################################################
##############################################################################
###
### Running command:
###
### C:\Users\biocbuild\bbs-3.9-bioc\R\bin\R.exe CMD check --force-multiarch --install=check:PROMISE.install-out.txt --library=C:\Users\biocbuild\bbs-3.9-bioc\R\library --no-vignettes --timings PROMISE_1.36.0.tar.gz
###
##############################################################################
##############################################################################
* using log directory 'C:/Users/biocbuild/bbs-3.9-bioc/meat/PROMISE.Rcheck'
* using R version 3.6.1 (2019-07-05)
* using platform: x86_64-w64-mingw32 (64-bit)
* using session charset: ISO8859-1
* using option '--no-vignettes'
* checking for file 'PROMISE/DESCRIPTION' ... OK
* checking extension type ... Package
* this is package 'PROMISE' version '1.36.0'
* checking package namespace information ... OK
* checking package dependencies ... OK
* checking if this is a source package ... OK
* checking if there is a namespace ... OK
* checking for hidden files and directories ... OK
* checking for portable file names ... OK
* checking whether package 'PROMISE' can be installed ... OK
* checking installed package size ... OK
* checking package directory ... OK
* checking 'build' directory ... OK
* checking DESCRIPTION meta-information ... NOTE
Malformed Description field: should contain one or more complete sentences.
Packages listed in more than one of Depends, Imports, Suggests, Enhances:
'Biobase' 'GSEABase'
A package should be listed in only one of these fields.
* checking top-level files ... OK
* checking for left-over files ... OK
* checking index information ... OK
* checking package subdirectories ... OK
* checking R files for non-ASCII characters ... OK
* checking R files for syntax errors ... OK
* loading checks for arch 'i386'
** checking whether the package can be loaded ... OK
** checking whether the package can be loaded with stated dependencies ... OK
** checking whether the package can be unloaded cleanly ... OK
** checking whether the namespace can be loaded with stated dependencies ... OK
** checking whether the namespace can be unloaded cleanly ... OK
* loading checks for arch 'x64'
** checking whether the package can be loaded ... OK
** checking whether the package can be loaded with stated dependencies ... OK
** checking whether the package can be unloaded cleanly ... OK
** checking whether the namespace can be loaded with stated dependencies ... OK
** checking whether the namespace can be unloaded cleanly ... OK
* checking dependencies in R code ... OK
* checking S3 generic/method consistency ... OK
* checking replacement functions ... OK
* checking foreign function calls ... OK
* checking R code for possible problems ... NOTE
jung.rstat: no visible binding for global variable 'var'
jung.rstat: no visible global function definition for 'var'
spearman.rstat: no visible global function definition for 'var'
Undefined global functions or variables:
var
Consider adding
importFrom("stats", "var")
to your NAMESPACE file.
* checking Rd files ... OK
* checking Rd metadata ... OK
* checking Rd cross-references ... OK
* checking for missing documentation entries ... OK
* checking for code/documentation mismatches ... OK
* checking Rd \usage sections ... OK
* checking Rd contents ... OK
* checking for unstated dependencies in examples ... OK
* checking contents of 'data' directory ... OK
* checking data for non-ASCII characters ... OK
* checking data for ASCII and uncompressed saves ... OK
* checking files in 'vignettes' ... OK
* checking examples ...
** running examples for arch 'i386' ... OK
** running examples for arch 'x64' ... OK
* checking for unstated dependencies in vignettes ... OK
* checking package vignettes in 'inst/doc' ... OK
* checking running R code from vignettes ... SKIPPED
* checking re-building of vignette outputs ... SKIPPED
* checking PDF version of manual ... OK
* DONE
Status: 2 NOTEs
See
'C:/Users/biocbuild/bbs-3.9-bioc/meat/PROMISE.Rcheck/00check.log'
for details.
PROMISE.Rcheck/00install.out
##############################################################################
##############################################################################
###
### Running command:
###
### C:\cygwin\bin\curl.exe -O https://malbec2.bioconductor.org/BBS/3.9/bioc/src/contrib/PROMISE_1.36.0.tar.gz && rm -rf PROMISE.buildbin-libdir && mkdir PROMISE.buildbin-libdir && C:\Users\biocbuild\bbs-3.9-bioc\R\bin\R.exe CMD INSTALL --merge-multiarch --build --library=PROMISE.buildbin-libdir PROMISE_1.36.0.tar.gz && C:\Users\biocbuild\bbs-3.9-bioc\R\bin\R.exe CMD INSTALL PROMISE_1.36.0.zip && rm PROMISE_1.36.0.tar.gz PROMISE_1.36.0.zip
###
##############################################################################
##############################################################################
% Total % Received % Xferd Average Speed Time Time Time Current
Dload Upload Total Spent Left Speed
0 0 0 0 0 0 0 0 --:--:-- --:--:-- --:--:-- 0
100 170k 100 170k 0 0 1627k 0 --:--:-- --:--:-- --:--:-- 1725k
install for i386
* installing *source* package 'PROMISE' ...
** using staged installation
** R
** data
** byte-compile and prepare package for lazy loading
** help
*** installing help indices
converting help for package 'PROMISE'
finding HTML links ... done
PROMISE-package html
PROMISE html
avg.abs.genestat html
jung.rstat html
phPatt html
promise.genestat html
promise.pattern html
sampExprSet html
sampGeneSet html
spearman.rstat html
** building package indices
** installing vignettes
** testing if installed package can be loaded from temporary location
** testing if installed package can be loaded from final location
** testing if installed package keeps a record of temporary installation path
install for x64
* installing *source* package 'PROMISE' ...
** testing if installed package can be loaded
* MD5 sums
packaged installation of 'PROMISE' as PROMISE_1.36.0.zip
* DONE (PROMISE)
* installing to library 'C:/Users/biocbuild/bbs-3.9-bioc/R/library'
package 'PROMISE' successfully unpacked and MD5 sums checked
|
PROMISE.Rcheck/examples_i386/PROMISE-Ex.timings
|
PROMISE.Rcheck/examples_x64/PROMISE-Ex.timings
|