| Back to Multiple platform build/check report for BioC 3.9 |
|
This page was generated on 2019-10-16 12:38:25 -0400 (Wed, 16 Oct 2019).
| Package 1237/1741 | Hostname | OS / Arch | INSTALL | BUILD | CHECK | BUILD BIN | ||||||
| PPInfer 1.10.0 Dongmin Jung
| malbec2 | Linux (Ubuntu 18.04.2 LTS) / x86_64 | OK | OK | OK | |||||||
| tokay2 | Windows Server 2012 R2 Standard / x64 | OK | [ OK ] | OK | OK | |||||||
| celaya2 | OS X 10.11.6 El Capitan / x86_64 | OK | OK | OK | OK |
| Package: PPInfer |
| Version: 1.10.0 |
| Command: chmod a+r PPInfer -R && C:\Users\biocbuild\bbs-3.9-bioc\R\bin\R.exe CMD build --keep-empty-dirs --no-resave-data PPInfer |
| StartedAt: 2019-10-16 00:35:40 -0400 (Wed, 16 Oct 2019) |
| EndedAt: 2019-10-16 00:36:50 -0400 (Wed, 16 Oct 2019) |
| EllapsedTime: 69.8 seconds |
| RetCode: 0 |
| Status: OK |
| PackageFile: PPInfer_1.10.0.tar.gz |
| PackageFileSize: 245.4 KiB |
##############################################################################
##############################################################################
###
### Running command:
###
### chmod a+r PPInfer -R && C:\Users\biocbuild\bbs-3.9-bioc\R\bin\R.exe CMD build --keep-empty-dirs --no-resave-data PPInfer
###
##############################################################################
##############################################################################
* checking for file 'PPInfer/DESCRIPTION' ... OK
* preparing 'PPInfer':
* checking DESCRIPTION meta-information ... OK
* installing the package to process help pages
* saving partial Rd database
* creating vignettes ... OK
Warning: 'inst/doc' file
'PPInfer.pdf'
ignored as vignettes have been rebuilt.
Run R CMD build with --no-build-vignettes to prevent rebuilding.
* checking for LF line-endings in source and make files and shell scripts
* checking for empty or unneeded directories
* building 'PPInfer_1.10.0.tar.gz'