| Back to Multiple platform build/check report for BioC 3.9 |
|
This page was generated on 2019-10-16 12:17:10 -0400 (Wed, 16 Oct 2019).
| Package 1188/1741 | Hostname | OS / Arch | INSTALL | BUILD | CHECK | BUILD BIN | ||||||
| PCAtools 1.0.0 Kevin Blighe
| malbec2 | Linux (Ubuntu 18.04.2 LTS) / x86_64 | OK | OK | [ OK ] | |||||||
| tokay2 | Windows Server 2012 R2 Standard / x64 | OK | OK | OK | OK | |||||||
| celaya2 | OS X 10.11.6 El Capitan / x86_64 | OK | OK | OK | OK |
| Package: PCAtools |
| Version: 1.0.0 |
| Command: /home/biocbuild/bbs-3.9-bioc/R/bin/R CMD check --install=check:PCAtools.install-out.txt --library=/home/biocbuild/bbs-3.9-bioc/R/library --no-vignettes --timings PCAtools_1.0.0.tar.gz |
| StartedAt: 2019-10-16 03:50:30 -0400 (Wed, 16 Oct 2019) |
| EndedAt: 2019-10-16 03:51:38 -0400 (Wed, 16 Oct 2019) |
| EllapsedTime: 67.4 seconds |
| RetCode: 0 |
| Status: OK |
| CheckDir: PCAtools.Rcheck |
| Warnings: 0 |
##############################################################################
##############################################################################
###
### Running command:
###
### /home/biocbuild/bbs-3.9-bioc/R/bin/R CMD check --install=check:PCAtools.install-out.txt --library=/home/biocbuild/bbs-3.9-bioc/R/library --no-vignettes --timings PCAtools_1.0.0.tar.gz
###
##############################################################################
##############################################################################
* using log directory ‘/home/biocbuild/bbs-3.9-bioc/meat/PCAtools.Rcheck’
* using R version 3.6.1 (2019-07-05)
* using platform: x86_64-pc-linux-gnu (64-bit)
* using session charset: UTF-8
* using option ‘--no-vignettes’
* checking for file ‘PCAtools/DESCRIPTION’ ... OK
* checking extension type ... Package
* this is package ‘PCAtools’ version ‘1.0.0’
* checking package namespace information ... OK
* checking package dependencies ... OK
* checking if this is a source package ... OK
* checking if there is a namespace ... OK
* checking for hidden files and directories ... OK
* checking for portable file names ... OK
* checking for sufficient/correct file permissions ... OK
* checking whether package ‘PCAtools’ can be installed ... OK
* checking installed package size ... OK
* checking package directory ... OK
* checking ‘build’ directory ... OK
* checking DESCRIPTION meta-information ... OK
* checking top-level files ... OK
* checking for left-over files ... OK
* checking index information ... OK
* checking package subdirectories ... OK
* checking R files for non-ASCII characters ... OK
* checking R files for syntax errors ... OK
* checking whether the package can be loaded ... OK
* checking whether the package can be loaded with stated dependencies ... OK
* checking whether the package can be unloaded cleanly ... OK
* checking whether the namespace can be loaded with stated dependencies ... OK
* checking whether the namespace can be unloaded cleanly ... OK
* checking dependencies in R code ... OK
* checking S3 generic/method consistency ... OK
* checking replacement functions ... OK
* checking foreign function calls ... OK
* checking R code for possible problems ... OK
* checking Rd files ... OK
* checking Rd metadata ... OK
* checking Rd cross-references ... OK
* checking for missing documentation entries ... OK
* checking for code/documentation mismatches ... OK
* checking Rd \usage sections ... OK
* checking Rd contents ... OK
* checking for unstated dependencies in examples ... OK
* checking files in ‘vignettes’ ... OK
* checking examples ... OK
Examples with CPU or elapsed time > 5s
user system elapsed
pca 9.503 0.204 9.708
* checking for unstated dependencies in ‘tests’ ... OK
* checking tests ...
Running ‘runTests.R’
OK
* checking for unstated dependencies in vignettes ... OK
* checking package vignettes in ‘inst/doc’ ... OK
* checking running R code from vignettes ... SKIPPED
* checking re-building of vignette outputs ... SKIPPED
* checking PDF version of manual ... OK
* DONE
Status: OK
PCAtools.Rcheck/00install.out
############################################################################## ############################################################################## ### ### Running command: ### ### /home/biocbuild/bbs-3.9-bioc/R/bin/R CMD INSTALL PCAtools ### ############################################################################## ############################################################################## * installing to library ‘/home/biocbuild/bbs-3.9-bioc/R/library’ * installing *source* package ‘PCAtools’ ... ** using staged installation ** R ** inst ** byte-compile and prepare package for lazy loading ** help *** installing help indices ** building package indices ** installing vignettes ** testing if installed package can be loaded from temporary location ** testing if installed package can be loaded from final location ** testing if installed package keeps a record of temporary installation path * DONE (PCAtools)
PCAtools.Rcheck/tests/runTests.Rout
R version 3.6.1 (2019-07-05) -- "Action of the Toes"
Copyright (C) 2019 The R Foundation for Statistical Computing
Platform: x86_64-pc-linux-gnu (64-bit)
R is free software and comes with ABSOLUTELY NO WARRANTY.
You are welcome to redistribute it under certain conditions.
Type 'license()' or 'licence()' for distribution details.
R is a collaborative project with many contributors.
Type 'contributors()' for more information and
'citation()' on how to cite R or R packages in publications.
Type 'demo()' for some demos, 'help()' for on-line help, or
'help.start()' for an HTML browser interface to help.
Type 'q()' to quit R.
> BiocGenerics:::testPackage('PCAtools')
********************************************************
Note: As of version 1.0.0, cowplot does not change the
default ggplot2 theme anymore. To recover the previous
behavior, execute:
theme_set(theme_cowplot())
********************************************************
Attaching package: 'PCAtools'
The following objects are masked from 'package:stats':
biplot, screeplot
RUNIT TEST PROTOCOL -- Wed Oct 16 03:51:35 2019
***********************************************
Number of test functions: 0
Number of errors: 0
Number of failures: 0
1 Test Suite :
PCAtools RUnit Tests - 0 test functions, 0 errors, 0 failures
Number of test functions: 0
Number of errors: 0
Number of failures: 0
>
> proc.time()
user system elapsed
1.081 0.092 1.158
PCAtools.Rcheck/PCAtools-Ex.timings
| name | user | system | elapsed | |
| biplot | 3.430 | 0.068 | 3.501 | |
| eigencorplot | 1.366 | 0.016 | 1.383 | |
| getComponents | 1.052 | 0.004 | 1.056 | |
| getLoadings | 1.518 | 0.168 | 1.686 | |
| getVars | 0.988 | 0.004 | 0.993 | |
| pairsplot | 3.369 | 0.004 | 3.373 | |
| pca | 9.503 | 0.204 | 9.708 | |
| plotloadings | 3.561 | 0.000 | 3.561 | |
| screeplot | 1.379 | 0.004 | 1.382 | |