| Back to Multiple platform build/check report for BioC 3.9 |
|
This page was generated on 2019-10-16 12:43:13 -0400 (Wed, 16 Oct 2019).
| Package 1158/1741 | Hostname | OS / Arch | INSTALL | BUILD | CHECK | BUILD BIN | ||||||
| OVESEG 1.0.0 Lulu Chen
| malbec2 | Linux (Ubuntu 18.04.2 LTS) / x86_64 | OK | OK | OK | |||||||
| tokay2 | Windows Server 2012 R2 Standard / x64 | OK | OK | OK | [ OK ] | |||||||
| celaya2 | OS X 10.11.6 El Capitan / x86_64 | OK | OK | OK | OK |
| Package: OVESEG |
| Version: 1.0.0 |
| Command: rm -rf OVESEG.buildbin-libdir && mkdir OVESEG.buildbin-libdir && C:\Users\biocbuild\bbs-3.9-bioc\R\bin\R.exe CMD INSTALL --merge-multiarch --build --library=OVESEG.buildbin-libdir OVESEG_1.0.0.tar.gz |
| StartedAt: 2019-10-16 09:50:32 -0400 (Wed, 16 Oct 2019) |
| EndedAt: 2019-10-16 09:51:35 -0400 (Wed, 16 Oct 2019) |
| EllapsedTime: 62.6 seconds |
| RetCode: 0 |
| Status: OK |
| PackageFile: OVESEG_1.0.0.zip |
| PackageFileSize: 1.316 MiB |
##############################################################################
##############################################################################
###
### Running command:
###
### rm -rf OVESEG.buildbin-libdir && mkdir OVESEG.buildbin-libdir && C:\Users\biocbuild\bbs-3.9-bioc\R\bin\R.exe CMD INSTALL --merge-multiarch --build --library=OVESEG.buildbin-libdir OVESEG_1.0.0.tar.gz
###
##############################################################################
##############################################################################
install for i386
* installing *source* package 'OVESEG' ...
** using staged installation
** libs
C:/Rtools/mingw_32/bin/g++ -std=gnu++11 -I"C:/Users/BIOCBU~1/BBS-3~1.9-B/R/include" -DNDEBUG -I"C:/Users/biocbuild/bbs-3.9-bioc/R/library/Rcpp/include" -I"C:/extsoft/include" -O2 -Wall -mtune=generic -c RcppExports.cpp -o RcppExports.o
C:/Rtools/mingw_32/bin/g++ -std=gnu++11 -I"C:/Users/BIOCBU~1/BBS-3~1.9-B/R/include" -DNDEBUG -I"C:/Users/biocbuild/bbs-3.9-bioc/R/library/Rcpp/include" -I"C:/extsoft/include" -O2 -Wall -mtune=generic -c pairwise_tstat_unscaled.cpp -o pairwise_tstat_unscaled.o
C:/Rtools/mingw_32/bin/g++ -std=gnu++11 -I"C:/Users/BIOCBU~1/BBS-3~1.9-B/R/include" -DNDEBUG -I"C:/Users/biocbuild/bbs-3.9-bioc/R/library/Rcpp/include" -I"C:/extsoft/include" -O2 -Wall -mtune=generic -c row_min.cpp -o row_min.o
C:/Rtools/mingw_32/bin/g++ -std=gnu++11 -I"C:/Users/BIOCBU~1/BBS-3~1.9-B/R/include" -DNDEBUG -I"C:/Users/biocbuild/bbs-3.9-bioc/R/library/Rcpp/include" -I"C:/extsoft/include" -O2 -Wall -mtune=generic -c row_which_max.cpp -o row_which_max.o
C:/Rtools/mingw_32/bin/g++ -std=gnu++11 -I"C:/Users/BIOCBU~1/BBS-3~1.9-B/R/include" -DNDEBUG -I"C:/Users/biocbuild/bbs-3.9-bioc/R/library/Rcpp/include" -I"C:/extsoft/include" -O2 -Wall -mtune=generic -c shuffle_topm.cpp -o shuffle_topm.o
C:/Rtools/mingw_32/bin/g++ -shared -s -static-libgcc -o OVESEG.dll tmp.def RcppExports.o pairwise_tstat_unscaled.o row_min.o row_which_max.o shuffle_topm.o -LC:/extsoft/lib/i386 -LC:/extsoft/lib -LC:/Users/BIOCBU~1/BBS-3~1.9-B/R/bin/i386 -lR
installing to C:/Users/biocbuild/bbs-3.9-bioc/meat/OVESEG.buildbin-libdir/00LOCK-OVESEG/00new/OVESEG/libs/i386
** R
** data
** inst
** byte-compile and prepare package for lazy loading
** help
*** installing help indices
converting help for package 'OVESEG'
finding HTML links ... done
OVESEG-package html
OVESEGtest html
OVESEGtstat html
OVEtstatPermTopM html
RocheBT html
countBT html
nullDistri html
pairwise_tstat_unscaled html
patternDistri html
permfunc html
postProbNull html
pvalueWeightedEst html
row_min html
row_which_max html
shuffle_topm html
** building package indices
** installing vignettes
** testing if installed package can be loaded from temporary location
** testing if installed package can be loaded from final location
** testing if installed package keeps a record of temporary installation path
install for x64
* installing *source* package 'OVESEG' ...
** libs
C:/Rtools/mingw_64/bin/g++ -std=gnu++11 -I"C:/Users/BIOCBU~1/BBS-3~1.9-B/R/include" -DNDEBUG -I"C:/Users/biocbuild/bbs-3.9-bioc/R/library/Rcpp/include" -I"C:/extsoft/include" -O2 -Wall -mtune=generic -c RcppExports.cpp -o RcppExports.o
C:/Rtools/mingw_64/bin/g++ -std=gnu++11 -I"C:/Users/BIOCBU~1/BBS-3~1.9-B/R/include" -DNDEBUG -I"C:/Users/biocbuild/bbs-3.9-bioc/R/library/Rcpp/include" -I"C:/extsoft/include" -O2 -Wall -mtune=generic -c pairwise_tstat_unscaled.cpp -o pairwise_tstat_unscaled.o
C:/Rtools/mingw_64/bin/g++ -std=gnu++11 -I"C:/Users/BIOCBU~1/BBS-3~1.9-B/R/include" -DNDEBUG -I"C:/Users/biocbuild/bbs-3.9-bioc/R/library/Rcpp/include" -I"C:/extsoft/include" -O2 -Wall -mtune=generic -c row_min.cpp -o row_min.o
C:/Rtools/mingw_64/bin/g++ -std=gnu++11 -I"C:/Users/BIOCBU~1/BBS-3~1.9-B/R/include" -DNDEBUG -I"C:/Users/biocbuild/bbs-3.9-bioc/R/library/Rcpp/include" -I"C:/extsoft/include" -O2 -Wall -mtune=generic -c row_which_max.cpp -o row_which_max.o
C:/Rtools/mingw_64/bin/g++ -std=gnu++11 -I"C:/Users/BIOCBU~1/BBS-3~1.9-B/R/include" -DNDEBUG -I"C:/Users/biocbuild/bbs-3.9-bioc/R/library/Rcpp/include" -I"C:/extsoft/include" -O2 -Wall -mtune=generic -c shuffle_topm.cpp -o shuffle_topm.o
C:/Rtools/mingw_64/bin/g++ -shared -s -static-libgcc -o OVESEG.dll tmp.def RcppExports.o pairwise_tstat_unscaled.o row_min.o row_which_max.o shuffle_topm.o -LC:/extsoft/lib/x64 -LC:/extsoft/lib -LC:/Users/BIOCBU~1/BBS-3~1.9-B/R/bin/x64 -lR
installing to C:/Users/biocbuild/bbs-3.9-bioc/meat/OVESEG.buildbin-libdir/OVESEG/libs/x64
** testing if installed package can be loaded
* MD5 sums
packaged installation of 'OVESEG' as OVESEG_1.0.0.zip
* DONE (OVESEG)