| Back to Multiple platform build/check report for BioC 3.9 |
|
This page was generated on 2019-10-16 12:41:30 -0400 (Wed, 16 Oct 2019).
| Package 1150/1741 | Hostname | OS / Arch | INSTALL | BUILD | CHECK | BUILD BIN | ||||||
| ORFik 1.4.1 Kornel Labun
| malbec2 | Linux (Ubuntu 18.04.2 LTS) / x86_64 | OK | OK | OK | |||||||
| tokay2 | Windows Server 2012 R2 Standard / x64 | OK | OK | [ OK ] | OK | |||||||
| celaya2 | OS X 10.11.6 El Capitan / x86_64 | OK | OK | OK | OK |
| Package: ORFik |
| Version: 1.4.1 |
| Command: C:\Users\biocbuild\bbs-3.9-bioc\R\bin\R.exe CMD check --force-multiarch --install=check:ORFik.install-out.txt --library=C:\Users\biocbuild\bbs-3.9-bioc\R\library --no-vignettes --timings ORFik_1.4.1.tar.gz |
| StartedAt: 2019-10-16 05:45:41 -0400 (Wed, 16 Oct 2019) |
| EndedAt: 2019-10-16 05:54:33 -0400 (Wed, 16 Oct 2019) |
| EllapsedTime: 531.4 seconds |
| RetCode: 0 |
| Status: OK |
| CheckDir: ORFik.Rcheck |
| Warnings: 0 |
##############################################################################
##############################################################################
###
### Running command:
###
### C:\Users\biocbuild\bbs-3.9-bioc\R\bin\R.exe CMD check --force-multiarch --install=check:ORFik.install-out.txt --library=C:\Users\biocbuild\bbs-3.9-bioc\R\library --no-vignettes --timings ORFik_1.4.1.tar.gz
###
##############################################################################
##############################################################################
* using log directory 'C:/Users/biocbuild/bbs-3.9-bioc/meat/ORFik.Rcheck'
* using R version 3.6.1 (2019-07-05)
* using platform: x86_64-w64-mingw32 (64-bit)
* using session charset: ISO8859-1
* using option '--no-vignettes'
* checking for file 'ORFik/DESCRIPTION' ... OK
* checking extension type ... Package
* this is package 'ORFik' version '1.4.1'
* package encoding: UTF-8
* checking package namespace information ... OK
* checking package dependencies ... OK
* checking if this is a source package ... OK
* checking if there is a namespace ... OK
* checking for hidden files and directories ... OK
* checking for portable file names ... OK
* checking whether package 'ORFik' can be installed ... OK
* checking installed package size ... OK
* checking package directory ... OK
* checking 'build' directory ... OK
* checking DESCRIPTION meta-information ... OK
* checking top-level files ... OK
* checking for left-over files ... OK
* checking index information ... OK
* checking package subdirectories ... OK
* checking R files for non-ASCII characters ... OK
* checking R files for syntax errors ... OK
* loading checks for arch 'i386'
** checking whether the package can be loaded ... OK
** checking whether the package can be loaded with stated dependencies ... OK
** checking whether the package can be unloaded cleanly ... OK
** checking whether the namespace can be loaded with stated dependencies ... OK
** checking whether the namespace can be unloaded cleanly ... OK
* loading checks for arch 'x64'
** checking whether the package can be loaded ... OK
** checking whether the package can be loaded with stated dependencies ... OK
** checking whether the package can be unloaded cleanly ... OK
** checking whether the namespace can be loaded with stated dependencies ... OK
** checking whether the namespace can be unloaded cleanly ... OK
* checking dependencies in R code ... OK
* checking S3 generic/method consistency ... OK
* checking replacement functions ... OK
* checking foreign function calls ... OK
* checking R code for possible problems ... NOTE
allFeaturesHelper: no visible binding for global variable 'entropyRFP'
allFeaturesHelper: no visible binding for global variable
'disengagementScores'
allFeaturesHelper: no visible binding for global variable 'RRS'
allFeaturesHelper: no visible binding for global variable 'RSS'
allFeaturesHelper: no visible binding for global variable
'fractionLengths'
allFeaturesHelper: no visible binding for global variable 'te'
allFeaturesHelper: no visible binding for global variable 'fpkmRFP'
allFeaturesHelper: no visible binding for global variable 'fpkmRNA'
allFeaturesHelper: no visible binding for global variable 'ORFScores'
allFeaturesHelper: no visible binding for global variable 'ioScore'
allFeaturesHelper: no visible binding for global variable 'kozak'
allFeaturesHelper: no visible binding for global variable 'distORFCDS'
allFeaturesHelper: no visible binding for global variable 'inFrameCDS'
allFeaturesHelper: no visible binding for global variable
'isOverlappingCds'
allFeaturesHelper: no visible binding for global variable 'rankInTx'
convertToOneBasedRanges: no visible global function definition for '.'
coverageHeatMap: no visible binding for global variable 'position'
coverageHeatMap: no visible binding for global variable 'fraction'
coveragePerTiling: no visible binding for global variable 'ones'
coveragePerTiling: no visible binding for global variable 'position'
coveragePerTiling: no visible binding for global variable 'frame'
coverageScorings: no visible binding for global variable 'count'
coverageScorings: no visible binding for global variable 'zscore'
coverageScorings: no visible binding for global variable 'windowMean'
coverageScorings: no visible binding for global variable 'windowSD'
coverageScorings: no visible global function definition for '.'
coverageScorings: no visible binding for global variable 'gene_sum'
detectRibosomeShifts: no visible global function definition for '.'
detectRibosomeShifts: no visible binding for global variable 'fraction'
entropy: no visible binding for global variable 'Hx'
entropy: no visible binding for global variable 'codonSums'
entropy: no visible global function definition for '.'
filterTranscripts: no visible binding for global variable 'utr5_len'
filterTranscripts: no visible binding for global variable 'utr3_len'
gSort: no visible binding for global variable 'grnames'
initiationScore: no visible global function definition for '.'
initiationScore: no visible binding for global variable 'dif'
initiationScore: no visible binding for global variable 'fraction'
initiationScore: no visible binding for global variable 'difPer'
longestORFs: no visible global function definition for '.'
metaWindow: no visible binding for global variable 'position'
metaWindow: no visible binding for global variable 'frame'
orfScore: no visible binding for global variable 'frame'
orfScore: no visible binding for global variable 'frame_one_RP'
orfScore: no visible binding for global variable 'frame_two_RP'
pSitePlot: no visible binding for global variable 'position'
pSitePlot: no visible binding for global variable 'frame'
remakeTxdbExonIds: no visible global function definition for '.'
remakeTxdbExonIds: no visible binding for global variable 'chr'
removeTxdbExons: no visible binding for global variable 'exon_rank'
removeTxdbExons: no visible binding for global variable 'ranks'
scaledWindowPositions: no visible binding for global variable
'scalingFactor'
scaledWindowPositions: no visible binding for global variable
'position'
scaledWindowPositions: no visible global function definition for '.'
windowCoveragePlot: no visible binding for global variable 'feature'
windowCoveragePlot: no visible binding for global variable 'fraction'
windowCoveragePlot: no visible binding for global variable 'position'
windowCoveragePlot: no visible binding for global variable
'fraction_min'
Undefined global functions or variables:
. Hx ORFScores RRS RSS chr codonSums count dif difPer
disengagementScores distORFCDS entropyRFP exon_rank feature fpkmRFP
fpkmRNA fraction fractionLengths fraction_min frame frame_one_RP
frame_two_RP gene_sum grnames inFrameCDS ioScore isOverlappingCds
kozak ones position rankInTx ranks scalingFactor te utr3_len utr5_len
windowMean windowSD zscore
Consider adding
importFrom("graphics", "frame")
to your NAMESPACE file.
* checking Rd files ... OK
* checking Rd metadata ... OK
* checking Rd cross-references ... OK
* checking for missing documentation entries ... OK
* checking for code/documentation mismatches ... OK
* checking Rd \usage sections ... OK
* checking Rd contents ... OK
* checking for unstated dependencies in examples ... OK
* checking line endings in C/C++/Fortran sources/headers ... OK
* checking line endings in Makefiles ... OK
* checking compilation flags in Makevars ... OK
* checking for GNU extensions in Makefiles ... OK
* checking for portable use of $(BLAS_LIBS) and $(LAPACK_LIBS) ... OK
* checking compiled code ... NOTE
Note: information on .o files for i386 is not available
Note: information on .o files for x64 is not available
File 'C:/Users/biocbuild/bbs-3.9-bioc/R/library/ORFik/libs/i386/ORFik.dll':
Found 'abort', possibly from 'abort' (C), 'runtime' (Fortran)
Found 'exit', possibly from 'exit' (C), 'stop' (Fortran)
Found 'printf', possibly from 'printf' (C)
File 'C:/Users/biocbuild/bbs-3.9-bioc/R/library/ORFik/libs/x64/ORFik.dll':
Found 'abort', possibly from 'abort' (C), 'runtime' (Fortran)
Found 'exit', possibly from 'exit' (C), 'stop' (Fortran)
Found 'printf', possibly from 'printf' (C)
Compiled code should not call entry points which might terminate R nor
write to stdout/stderr instead of to the console, nor use Fortran I/O
nor system RNGs. The detected symbols are linked into the code but
might come from libraries and not actually be called.
See 'Writing portable packages' in the 'Writing R Extensions' manual.
* checking files in 'vignettes' ... OK
* checking examples ...
** running examples for arch 'i386' ... OK
Examples with CPU or elapsed time > 5s
user system elapsed
computeFeatures 6.97 0.59 14.27
** running examples for arch 'x64' ... OK
Examples with CPU or elapsed time > 5s
user system elapsed
computeFeatures 5.69 0.21 6.94
* checking for unstated dependencies in 'tests' ... OK
* checking tests ...
** running tests for arch 'i386' ...
Running 'testthat.R'
OK
** running tests for arch 'x64' ...
Running 'testthat.R'
OK
* checking for unstated dependencies in vignettes ... OK
* checking package vignettes in 'inst/doc' ... OK
* checking running R code from vignettes ... SKIPPED
* checking re-building of vignette outputs ... SKIPPED
* checking PDF version of manual ... OK
* DONE
Status: 2 NOTEs
See
'C:/Users/biocbuild/bbs-3.9-bioc/meat/ORFik.Rcheck/00check.log'
for details.
ORFik.Rcheck/00install.out
##############################################################################
##############################################################################
###
### Running command:
###
### C:\cygwin\bin\curl.exe -O https://malbec2.bioconductor.org/BBS/3.9/bioc/src/contrib/ORFik_1.4.1.tar.gz && rm -rf ORFik.buildbin-libdir && mkdir ORFik.buildbin-libdir && C:\Users\biocbuild\bbs-3.9-bioc\R\bin\R.exe CMD INSTALL --merge-multiarch --build --library=ORFik.buildbin-libdir ORFik_1.4.1.tar.gz && C:\Users\biocbuild\bbs-3.9-bioc\R\bin\R.exe CMD INSTALL ORFik_1.4.1.zip && rm ORFik_1.4.1.tar.gz ORFik_1.4.1.zip
###
##############################################################################
##############################################################################
% Total % Received % Xferd Average Speed Time Time Time Current
Dload Upload Total Spent Left Speed
0 0 0 0 0 0 0 0 --:--:-- --:--:-- --:--:-- 0
0 312k 0 0 0 0 0 0 --:--:-- --:--:-- --:--:-- 0
100 312k 100 312k 0 0 2919k 0 --:--:-- --:--:-- --:--:-- 3089k
install for i386
* installing *source* package 'ORFik' ...
** using staged installation
** libs
C:/Rtools/mingw_32/bin/g++ -std=gnu++11 -I"C:/Users/BIOCBU~1/BBS-3~1.9-B/R/include" -DNDEBUG -I"C:/Users/biocbuild/bbs-3.9-bioc/R/library/Rcpp/include" -I"C:/extsoft/include" -O2 -Wall -mtune=generic -c RcppExports.cpp -o RcppExports.o
C:/Rtools/mingw_32/bin/g++ -std=gnu++11 -I"C:/Users/BIOCBU~1/BBS-3~1.9-B/R/include" -DNDEBUG -I"C:/Users/biocbuild/bbs-3.9-bioc/R/library/Rcpp/include" -I"C:/extsoft/include" -O2 -Wall -mtune=generic -c findORFsHelpers.cpp -o findORFsHelpers.o
findORFsHelpers.cpp: In function 'Rcpp::IntegerMatrix orfs_as_matrix(std::string&, std::string, std::string, int)':
findORFsHelpers.cpp:212:21: warning: comparison between signed and unsigned integer expressions [-Wsign-compare]
for (int i = 0; i < uorfSize/2; i++) {
^
C:/Rtools/mingw_32/bin/g++ -std=gnu++11 -I"C:/Users/BIOCBU~1/BBS-3~1.9-B/R/include" -DNDEBUG -I"C:/Users/biocbuild/bbs-3.9-bioc/R/library/Rcpp/include" -I"C:/extsoft/include" -O2 -Wall -mtune=generic -c findOrfs.cpp -o findOrfs.o
C:/Rtools/mingw_32/bin/g++ -std=gnu++11 -I"C:/Users/BIOCBU~1/BBS-3~1.9-B/R/include" -DNDEBUG -I"C:/Users/biocbuild/bbs-3.9-bioc/R/library/Rcpp/include" -I"C:/extsoft/include" -O2 -Wall -mtune=generic -c findOrfsFasta.cpp -o findOrfsFasta.o
C:/Rtools/mingw_32/bin/g++ -std=gnu++11 -I"C:/Users/BIOCBU~1/BBS-3~1.9-B/R/include" -DNDEBUG -I"C:/Users/biocbuild/bbs-3.9-bioc/R/library/Rcpp/include" -I"C:/extsoft/include" -O2 -Wall -mtune=generic -c pmapFromTranscripts.cpp -o pmapFromTranscripts.o
pmapFromTranscripts.cpp: In function 'Rcpp::List pmapFromTranscriptsCPP(const std::vector&, const std::vector&, const std::vector&, const std::vector&, const std::vector&, const char&, bool)':
pmapFromTranscripts.cpp:151:20: warning: comparison between signed and unsigned integer expressions [-Wsign-compare]
for(auto i = 0;i < xSize; i++){
^
pmapFromTranscripts.cpp:155:21: warning: comparison between signed and unsigned integer expressions [-Wsign-compare]
for(auto i = 0; i < indexSize; i++){
^
pmapFromTranscripts.cpp:161:21: warning: comparison between signed and unsigned integer expressions [-Wsign-compare]
for(auto i = 1; i < indexSize; i++){
^
C:/Rtools/mingw_32/bin/g++ -shared -s -static-libgcc -o ORFik.dll tmp.def RcppExports.o findORFsHelpers.o findOrfs.o findOrfsFasta.o pmapFromTranscripts.o -LC:/extsoft/lib/i386 -LC:/extsoft/lib -LC:/Users/BIOCBU~1/BBS-3~1.9-B/R/bin/i386 -lR
installing to C:/Users/biocbuild/bbs-3.9-bioc/meat/ORFik.buildbin-libdir/00LOCK-ORFik/00new/ORFik/libs/i386
** R
** inst
** byte-compile and prepare package for lazy loading
** help
*** installing help indices
converting help for package 'ORFik'
finding HTML links ... done
ORFik-package html
addCdsOnLeaderEnds html
addNewTSSOnLeaders html
allFeaturesHelper html
finding level-2 HTML links ... done
asTX html
assignAnnotations html
assignFirstExonsStartSite html
assignLastExonsStopSite html
assignTSSByCage html
bedToGR html
changePointAnalysis html
checkRFP html
checkRNA html
codonSumsPerGroup html
computeFeatures html
computeFeaturesCage html
convertToOneBasedRanges html
coverageGroupings html
coverageHeatMap html
coveragePerTiling html
coverageScorings html
defineIsoform html
defineTrailer html
detectRibosomeShifts html
disengagementScore html
distToCds html
distToTSS html
downstreamFromPerGroup html
downstreamN html
downstreamOfPerGroup html
entropy html
extendLeaders html
extendsTSSexons html
filterCage html
filterTranscripts html
findFa html
findMapORFs html
findMaxPeaks html
findNewTSS html
findORFs html
findORFsFasta html
firstEndPerGroup html
firstExonPerGroup html
firstStartPerGroup html
floss html
fpkm html
fpkm_calc html
fractionLength html
fread.bed html
gSort html
gcContent html
groupGRangesBy html
groupings html
hasHits html
initiationScore html
insideOutsideORF html
is.ORF html
is.gr_or_grl html
is.grl html
isInFrame html
isOverlapping html
isPeriodic html
kozakSequenceScore html
lastExonEndPerGroup html
lastExonPerGroup html
lastExonStartPerGroup html
loadRegion html
loadTxdb html
longestORFs html
makeExonRanks html
makeORFNames html
mapToGRanges html
matchNaming html
metaWindow html
numCodons html
numExonsPerGroup html
optimizeReads html
orfID html
orfScore html
overlapsToCoverage html
pSitePlot html
parseCigar html
pmapFromTranscriptF html
rankOrder html
readWidths html
reassignTSSbyCage html
reassignTxDbByCage html
reduceKeepAttr html
remakeTxdbExonIds html
removeMetaCols html
removeTxdbExons html
removeTxdbTranscripts html
restrictTSSByUpstreamLeader html
ribosomeReleaseScore html
ribosomeStallingScore html
savePlot html
scaledWindowPositions html
seqnamesPerGroup html
shiftFootprints html
sortPerGroup html
startCodons html
startDefinition html
startRegion html
startRegionCoverage html
startRegionString html
startSites html
stopCodons html
stopDefinition html
stopSites html
strandBool html
strandPerGroup html
subsetCoverage html
subsetToFrame html
tile1 html
translationalEff html
txNames html
txSeqsFromFa html
uORFSearchSpace html
uniqueGroups html
uniqueOrder html
unlistGrl html
updateTxdbRanks html
updateTxdbStartSites html
upstreamFromPerGroup html
upstreamOfPerGroup html
validGRL html
validSeqlevels html
widthPerGroup html
windowCoveragePlot html
windowPerGroup html
windowPerReadLength html
windowPerTranscript html
** building package indices
** installing vignettes
** testing if installed package can be loaded from temporary location
** testing if installed package can be loaded from final location
** testing if installed package keeps a record of temporary installation path
install for x64
* installing *source* package 'ORFik' ...
** libs
C:/Rtools/mingw_64/bin/g++ -std=gnu++11 -I"C:/Users/BIOCBU~1/BBS-3~1.9-B/R/include" -DNDEBUG -I"C:/Users/biocbuild/bbs-3.9-bioc/R/library/Rcpp/include" -I"C:/extsoft/include" -O2 -Wall -mtune=generic -c RcppExports.cpp -o RcppExports.o
C:/Rtools/mingw_64/bin/g++ -std=gnu++11 -I"C:/Users/BIOCBU~1/BBS-3~1.9-B/R/include" -DNDEBUG -I"C:/Users/biocbuild/bbs-3.9-bioc/R/library/Rcpp/include" -I"C:/extsoft/include" -O2 -Wall -mtune=generic -c findORFsHelpers.cpp -o findORFsHelpers.o
findORFsHelpers.cpp: In function 'Rcpp::IntegerMatrix orfs_as_matrix(std::string&, std::string, std::string, int)':
findORFsHelpers.cpp:212:21: warning: comparison between signed and unsigned integer expressions [-Wsign-compare]
for (int i = 0; i < uorfSize/2; i++) {
^
C:/Rtools/mingw_64/bin/g++ -std=gnu++11 -I"C:/Users/BIOCBU~1/BBS-3~1.9-B/R/include" -DNDEBUG -I"C:/Users/biocbuild/bbs-3.9-bioc/R/library/Rcpp/include" -I"C:/extsoft/include" -O2 -Wall -mtune=generic -c findOrfs.cpp -o findOrfs.o
C:/Rtools/mingw_64/bin/g++ -std=gnu++11 -I"C:/Users/BIOCBU~1/BBS-3~1.9-B/R/include" -DNDEBUG -I"C:/Users/biocbuild/bbs-3.9-bioc/R/library/Rcpp/include" -I"C:/extsoft/include" -O2 -Wall -mtune=generic -c findOrfsFasta.cpp -o findOrfsFasta.o
C:/Rtools/mingw_64/bin/g++ -std=gnu++11 -I"C:/Users/BIOCBU~1/BBS-3~1.9-B/R/include" -DNDEBUG -I"C:/Users/biocbuild/bbs-3.9-bioc/R/library/Rcpp/include" -I"C:/extsoft/include" -O2 -Wall -mtune=generic -c pmapFromTranscripts.cpp -o pmapFromTranscripts.o
pmapFromTranscripts.cpp: In function 'Rcpp::List pmapFromTranscriptsCPP(const std::vector&, const std::vector&, const std::vector&, const std::vector&, const std::vector&, const char&, bool)':
pmapFromTranscripts.cpp:151:20: warning: comparison between signed and unsigned integer expressions [-Wsign-compare]
for(auto i = 0;i < xSize; i++){
^
pmapFromTranscripts.cpp:155:21: warning: comparison between signed and unsigned integer expressions [-Wsign-compare]
for(auto i = 0; i < indexSize; i++){
^
pmapFromTranscripts.cpp:161:21: warning: comparison between signed and unsigned integer expressions [-Wsign-compare]
for(auto i = 1; i < indexSize; i++){
^
C:/Rtools/mingw_64/bin/g++ -shared -s -static-libgcc -o ORFik.dll tmp.def RcppExports.o findORFsHelpers.o findOrfs.o findOrfsFasta.o pmapFromTranscripts.o -LC:/extsoft/lib/x64 -LC:/extsoft/lib -LC:/Users/BIOCBU~1/BBS-3~1.9-B/R/bin/x64 -lR
installing to C:/Users/biocbuild/bbs-3.9-bioc/meat/ORFik.buildbin-libdir/ORFik/libs/x64
** testing if installed package can be loaded
* MD5 sums
packaged installation of 'ORFik' as ORFik_1.4.1.zip
* DONE (ORFik)
* installing to library 'C:/Users/biocbuild/bbs-3.9-bioc/R/library'
package 'ORFik' successfully unpacked and MD5 sums checked
|
ORFik.Rcheck/tests_i386/testthat.Rout
R version 3.6.1 (2019-07-05) -- "Action of the Toes"
Copyright (C) 2019 The R Foundation for Statistical Computing
Platform: i386-w64-mingw32/i386 (32-bit)
R is free software and comes with ABSOLUTELY NO WARRANTY.
You are welcome to redistribute it under certain conditions.
Type 'license()' or 'licence()' for distribution details.
R is a collaborative project with many contributors.
Type 'contributors()' for more information and
'citation()' on how to cite R or R packages in publications.
Type 'demo()' for some demos, 'help()' for on-line help, or
'help.start()' for an HTML browser interface to help.
Type 'q()' to quit R.
> library(testthat)
> library(ORFik)
Loading required package: IRanges
Loading required package: BiocGenerics
Loading required package: parallel
Attaching package: 'BiocGenerics'
The following objects are masked from 'package:parallel':
clusterApply, clusterApplyLB, clusterCall, clusterEvalQ,
clusterExport, clusterMap, parApply, parCapply, parLapply,
parLapplyLB, parRapply, parSapply, parSapplyLB
The following objects are masked from 'package:stats':
IQR, mad, sd, var, xtabs
The following objects are masked from 'package:base':
Filter, Find, Map, Position, Reduce, anyDuplicated, append,
as.data.frame, basename, cbind, colnames, dirname, do.call,
duplicated, eval, evalq, get, grep, grepl, intersect, is.unsorted,
lapply, mapply, match, mget, order, paste, pmax, pmax.int, pmin,
pmin.int, rank, rbind, rownames, sapply, setdiff, sort, table,
tapply, union, unique, unsplit, which, which.max, which.min
Loading required package: S4Vectors
Loading required package: stats4
Attaching package: 'S4Vectors'
The following object is masked from 'package:base':
expand.grid
Attaching package: 'IRanges'
The following object is masked from 'package:grDevices':
windows
Loading required package: GenomicRanges
Loading required package: GenomeInfoDb
Loading required package: GenomicAlignments
Loading required package: SummarizedExperiment
Loading required package: Biobase
Welcome to Bioconductor
Vignettes contain introductory material; view with
'browseVignettes()'. To cite Bioconductor, see
'citation("Biobase")', and for packages 'citation("pkgname")'.
Loading required package: DelayedArray
Loading required package: matrixStats
Attaching package: 'matrixStats'
The following objects are masked from 'package:Biobase':
anyMissing, rowMedians
Loading required package: BiocParallel
Attaching package: 'DelayedArray'
The following objects are masked from 'package:matrixStats':
colMaxs, colMins, colRanges, rowMaxs, rowMins, rowRanges
The following objects are masked from 'package:base':
aperm, apply, rowsum
Loading required package: Biostrings
Loading required package: XVector
Attaching package: 'Biostrings'
The following object is masked from 'package:DelayedArray':
type
The following object is masked from 'package:base':
strsplit
Loading required package: Rsamtools
>
> test_check("ORFik")
== testthat results ===========================================================
[ OK: 262 | SKIPPED: 0 | WARNINGS: 0 | FAILED: 0 ]
>
> proc.time()
user system elapsed
45.87 2.18 56.10
|
ORFik.Rcheck/tests_x64/testthat.Rout
R version 3.6.1 (2019-07-05) -- "Action of the Toes"
Copyright (C) 2019 The R Foundation for Statistical Computing
Platform: x86_64-w64-mingw32/x64 (64-bit)
R is free software and comes with ABSOLUTELY NO WARRANTY.
You are welcome to redistribute it under certain conditions.
Type 'license()' or 'licence()' for distribution details.
R is a collaborative project with many contributors.
Type 'contributors()' for more information and
'citation()' on how to cite R or R packages in publications.
Type 'demo()' for some demos, 'help()' for on-line help, or
'help.start()' for an HTML browser interface to help.
Type 'q()' to quit R.
> library(testthat)
> library(ORFik)
Loading required package: IRanges
Loading required package: BiocGenerics
Loading required package: parallel
Attaching package: 'BiocGenerics'
The following objects are masked from 'package:parallel':
clusterApply, clusterApplyLB, clusterCall, clusterEvalQ,
clusterExport, clusterMap, parApply, parCapply, parLapply,
parLapplyLB, parRapply, parSapply, parSapplyLB
The following objects are masked from 'package:stats':
IQR, mad, sd, var, xtabs
The following objects are masked from 'package:base':
Filter, Find, Map, Position, Reduce, anyDuplicated, append,
as.data.frame, basename, cbind, colnames, dirname, do.call,
duplicated, eval, evalq, get, grep, grepl, intersect, is.unsorted,
lapply, mapply, match, mget, order, paste, pmax, pmax.int, pmin,
pmin.int, rank, rbind, rownames, sapply, setdiff, sort, table,
tapply, union, unique, unsplit, which, which.max, which.min
Loading required package: S4Vectors
Loading required package: stats4
Attaching package: 'S4Vectors'
The following object is masked from 'package:base':
expand.grid
Attaching package: 'IRanges'
The following object is masked from 'package:grDevices':
windows
Loading required package: GenomicRanges
Loading required package: GenomeInfoDb
Loading required package: GenomicAlignments
Loading required package: SummarizedExperiment
Loading required package: Biobase
Welcome to Bioconductor
Vignettes contain introductory material; view with
'browseVignettes()'. To cite Bioconductor, see
'citation("Biobase")', and for packages 'citation("pkgname")'.
Loading required package: DelayedArray
Loading required package: matrixStats
Attaching package: 'matrixStats'
The following objects are masked from 'package:Biobase':
anyMissing, rowMedians
Loading required package: BiocParallel
Attaching package: 'DelayedArray'
The following objects are masked from 'package:matrixStats':
colMaxs, colMins, colRanges, rowMaxs, rowMins, rowRanges
The following objects are masked from 'package:base':
aperm, apply, rowsum
Loading required package: Biostrings
Loading required package: XVector
Attaching package: 'Biostrings'
The following object is masked from 'package:DelayedArray':
type
The following object is masked from 'package:base':
strsplit
Loading required package: Rsamtools
>
> test_check("ORFik")
== testthat results ===========================================================
[ OK: 262 | SKIPPED: 0 | WARNINGS: 0 | FAILED: 0 ]
>
> proc.time()
user system elapsed
56.40 0.81 81.26
|
|
ORFik.Rcheck/examples_i386/ORFik-Ex.timings
|
ORFik.Rcheck/examples_x64/ORFik-Ex.timings
|