| Back to Multiple platform build/check report for BioC 3.9 |
|
This page was generated on 2019-10-16 12:38:51 -0400 (Wed, 16 Oct 2019).
| Package 1148/1741 | Hostname | OS / Arch | INSTALL | BUILD | CHECK | BUILD BIN | ||||||
| OPWeight 1.6.0 Mohamad Hasan
| malbec2 | Linux (Ubuntu 18.04.2 LTS) / x86_64 | OK | OK | OK | |||||||
| tokay2 | Windows Server 2012 R2 Standard / x64 | OK | OK | OK | [ OK ] | |||||||
| celaya2 | OS X 10.11.6 El Capitan / x86_64 | OK | OK | OK | OK |
| Package: OPWeight |
| Version: 1.6.0 |
| Command: rm -rf OPWeight.buildbin-libdir && mkdir OPWeight.buildbin-libdir && C:\Users\biocbuild\bbs-3.9-bioc\R\bin\R.exe CMD INSTALL --merge-multiarch --build --library=OPWeight.buildbin-libdir OPWeight_1.6.0.tar.gz |
| StartedAt: 2019-10-16 09:49:52 -0400 (Wed, 16 Oct 2019) |
| EndedAt: 2019-10-16 09:50:36 -0400 (Wed, 16 Oct 2019) |
| EllapsedTime: 43.8 seconds |
| RetCode: 0 |
| Status: OK |
| PackageFile: OPWeight_1.6.0.zip |
| PackageFileSize: 366.6 KiB |
##############################################################################
##############################################################################
###
### Running command:
###
### rm -rf OPWeight.buildbin-libdir && mkdir OPWeight.buildbin-libdir && C:\Users\biocbuild\bbs-3.9-bioc\R\bin\R.exe CMD INSTALL --merge-multiarch --build --library=OPWeight.buildbin-libdir OPWeight_1.6.0.tar.gz
###
##############################################################################
##############################################################################
install for i386
* installing *source* package 'OPWeight' ...
** using staged installation
** R
** inst
** byte-compile and prepare package for lazy loading
** help
*** installing help indices
converting help for package 'OPWeight'
finding HTML links ... done
opw html
finding level-2 HTML links ... done
prob_rank_givenEffect html
prob_rank_givenEffect_approx html
prob_rank_givenEffect_exact html
prob_rank_givenEffect_simu html
weight_binary html
weight_by_delta html
weight_continuous html
** building package indices
** installing vignettes
** testing if installed package can be loaded from temporary location
** testing if installed package can be loaded from final location
** testing if installed package keeps a record of temporary installation path
install for x64
* installing *source* package 'OPWeight' ...
** testing if installed package can be loaded
* MD5 sums
packaged installation of 'OPWeight' as OPWeight_1.6.0.zip
* DONE (OPWeight)