| Back to Multiple platform build/check report for BioC 3.9 |
|
This page was generated on 2019-10-16 12:28:04 -0400 (Wed, 16 Oct 2019).
| Package 1101/1741 | Hostname | OS / Arch | INSTALL | BUILD | CHECK | BUILD BIN | ||||||
| NetSAM 1.24.0 Bing Zhang
| malbec2 | Linux (Ubuntu 18.04.2 LTS) / x86_64 | OK | OK | OK | |||||||
| tokay2 | Windows Server 2012 R2 Standard / x64 | OK | OK | OK | [ OK ] | |||||||
| celaya2 | OS X 10.11.6 El Capitan / x86_64 | OK | OK | OK | OK |
| Package: NetSAM |
| Version: 1.24.0 |
| Command: rm -rf NetSAM.buildbin-libdir && mkdir NetSAM.buildbin-libdir && C:\Users\biocbuild\bbs-3.9-bioc\R\bin\R.exe CMD INSTALL --merge-multiarch --build --library=NetSAM.buildbin-libdir NetSAM_1.24.0.tar.gz |
| StartedAt: 2019-10-16 09:46:49 -0400 (Wed, 16 Oct 2019) |
| EndedAt: 2019-10-16 09:47:30 -0400 (Wed, 16 Oct 2019) |
| EllapsedTime: 40.1 seconds |
| RetCode: 0 |
| Status: OK |
| PackageFile: NetSAM_1.24.0.zip |
| PackageFileSize: 180.5 KiB |
##############################################################################
##############################################################################
###
### Running command:
###
### rm -rf NetSAM.buildbin-libdir && mkdir NetSAM.buildbin-libdir && C:\Users\biocbuild\bbs-3.9-bioc\R\bin\R.exe CMD INSTALL --merge-multiarch --build --library=NetSAM.buildbin-libdir NetSAM_1.24.0.tar.gz
###
##############################################################################
##############################################################################
install for i386
* installing *source* package 'NetSAM' ...
** using staged installation
** R
** data
** inst
** byte-compile and prepare package for lazy loading
** help
*** installing help indices
converting help for package 'NetSAM'
finding HTML links ... done
NetSAM-package html
NetSAM html
inputNetwork html
** building package indices
** installing vignettes
** testing if installed package can be loaded from temporary location
******************************************
* *
* Welcome to use NetSAM ! *
* *
******************************************
** testing if installed package can be loaded from final location
******************************************
* *
* Welcome to use NetSAM ! *
* *
******************************************
** testing if installed package keeps a record of temporary installation path
install for x64
* installing *source* package 'NetSAM' ...
** testing if installed package can be loaded
******************************************
* *
* Welcome to use NetSAM ! *
* *
******************************************
* MD5 sums
packaged installation of 'NetSAM' as NetSAM_1.24.0.zip
* DONE (NetSAM)