| Back to Multiple platform build/check report for BioC 3.9 |
|
This page was generated on 2019-10-16 12:26:12 -0400 (Wed, 16 Oct 2019).
| Package 1085/1741 | Hostname | OS / Arch | INSTALL | BUILD | CHECK | BUILD BIN | ||||||
| NarrowPeaks 1.28.0 Pedro Madrigal
| malbec2 | Linux (Ubuntu 18.04.2 LTS) / x86_64 | OK | OK | OK | |||||||
| tokay2 | Windows Server 2012 R2 Standard / x64 | OK | OK | OK | [ OK ] | |||||||
| celaya2 | OS X 10.11.6 El Capitan / x86_64 | OK | OK | WARNINGS | OK |
| Package: NarrowPeaks |
| Version: 1.28.0 |
| Command: rm -rf NarrowPeaks.buildbin-libdir && mkdir NarrowPeaks.buildbin-libdir && C:\Users\biocbuild\bbs-3.9-bioc\R\bin\R.exe CMD INSTALL --merge-multiarch --build --library=NarrowPeaks.buildbin-libdir NarrowPeaks_1.28.0.tar.gz |
| StartedAt: 2019-10-16 09:45:54 -0400 (Wed, 16 Oct 2019) |
| EndedAt: 2019-10-16 09:46:30 -0400 (Wed, 16 Oct 2019) |
| EllapsedTime: 35.5 seconds |
| RetCode: 0 |
| Status: OK |
| PackageFile: NarrowPeaks_1.28.0.zip |
| PackageFileSize: 460.9 KiB |
##############################################################################
##############################################################################
###
### Running command:
###
### rm -rf NarrowPeaks.buildbin-libdir && mkdir NarrowPeaks.buildbin-libdir && C:\Users\biocbuild\bbs-3.9-bioc\R\bin\R.exe CMD INSTALL --merge-multiarch --build --library=NarrowPeaks.buildbin-libdir NarrowPeaks_1.28.0.tar.gz
###
##############################################################################
##############################################################################
install for i386
* installing *source* package 'NarrowPeaks' ...
** using staged installation
** libs
C:/Rtools/mingw_32/bin/gcc -I"C:/Users/BIOCBU~1/BBS-3~1.9-B/R/include" -DNDEBUG -I"C:/extsoft/include" -O3 -Wall -std=gnu99 -mtune=generic -c wig2CSARScore.c -o wig2CSARScore.o
C:/Rtools/mingw_32/bin/gcc -I"C:/Users/BIOCBU~1/BBS-3~1.9-B/R/include" -DNDEBUG -I"C:/extsoft/include" -O3 -Wall -std=gnu99 -mtune=generic -c wig2CSARScore_R_wrapper.c -o wig2CSARScore_R_wrapper.o
C:/Rtools/mingw_32/bin/gcc -shared -s -static-libgcc -o NarrowPeaks.dll tmp.def wig2CSARScore.o wig2CSARScore_R_wrapper.o -LC:/extsoft/lib/i386 -LC:/extsoft/lib -LC:/Users/BIOCBU~1/BBS-3~1.9-B/R/bin/i386 -lR
installing to C:/Users/biocbuild/bbs-3.9-bioc/meat/NarrowPeaks.buildbin-libdir/00LOCK-NarrowPeaks/00new/NarrowPeaks/libs/i386
** R
** data
** inst
** byte-compile and prepare package for lazy loading
** help
*** installing help indices
converting help for package 'NarrowPeaks'
finding HTML links ... done
NarrowPeaks-internal html
NarrowPeaks-package html
narrowpeaks html
narrowpeaksDiff html
wig2CSARScore html
wigfile_test html
** building package indices
** installing vignettes
** testing if installed package can be loaded from temporary location
** testing if installed package can be loaded from final location
** testing if installed package keeps a record of temporary installation path
install for x64
* installing *source* package 'NarrowPeaks' ...
** libs
C:/Rtools/mingw_64/bin/gcc -I"C:/Users/BIOCBU~1/BBS-3~1.9-B/R/include" -DNDEBUG -I"C:/extsoft/include" -O2 -Wall -std=gnu99 -mtune=generic -c wig2CSARScore.c -o wig2CSARScore.o
C:/Rtools/mingw_64/bin/gcc -I"C:/Users/BIOCBU~1/BBS-3~1.9-B/R/include" -DNDEBUG -I"C:/extsoft/include" -O2 -Wall -std=gnu99 -mtune=generic -c wig2CSARScore_R_wrapper.c -o wig2CSARScore_R_wrapper.o
C:/Rtools/mingw_64/bin/gcc -shared -s -static-libgcc -o NarrowPeaks.dll tmp.def wig2CSARScore.o wig2CSARScore_R_wrapper.o -LC:/extsoft/lib/x64 -LC:/extsoft/lib -LC:/Users/BIOCBU~1/BBS-3~1.9-B/R/bin/x64 -lR
installing to C:/Users/biocbuild/bbs-3.9-bioc/meat/NarrowPeaks.buildbin-libdir/NarrowPeaks/libs/x64
** testing if installed package can be loaded
* MD5 sums
packaged installation of 'NarrowPeaks' as NarrowPeaks_1.28.0.zip
* DONE (NarrowPeaks)