| Back to Multiple platform build/check report for BioC 3.9 |
|
This page was generated on 2019-10-16 12:41:55 -0400 (Wed, 16 Oct 2019).
| Package 1087/1741 | Hostname | OS / Arch | INSTALL | BUILD | CHECK | BUILD BIN | ||||||
| NBSplice 1.2.1 Gabriela Merino
| malbec2 | Linux (Ubuntu 18.04.2 LTS) / x86_64 | OK | OK | OK | |||||||
| tokay2 | Windows Server 2012 R2 Standard / x64 | [ OK ] | OK | OK | OK | |||||||
| celaya2 | OS X 10.11.6 El Capitan / x86_64 | OK | OK | WARNINGS | OK |
| Package: NBSplice |
| Version: 1.2.1 |
| Command: C:\cygwin\bin\curl.exe -O https://malbec2.bioconductor.org/BBS/3.9/bioc/src/contrib/NBSplice_1.2.1.tar.gz && rm -rf NBSplice.buildbin-libdir && mkdir NBSplice.buildbin-libdir && C:\Users\biocbuild\bbs-3.9-bioc\R\bin\R.exe CMD INSTALL --merge-multiarch --build --library=NBSplice.buildbin-libdir NBSplice_1.2.1.tar.gz && C:\Users\biocbuild\bbs-3.9-bioc\R\bin\R.exe CMD INSTALL NBSplice_1.2.1.zip && rm NBSplice_1.2.1.tar.gz NBSplice_1.2.1.zip |
| StartedAt: 2019-10-15 20:19:54 -0400 (Tue, 15 Oct 2019) |
| EndedAt: 2019-10-15 20:20:27 -0400 (Tue, 15 Oct 2019) |
| EllapsedTime: 33.3 seconds |
| RetCode: 0 |
| Status: OK |
##############################################################################
##############################################################################
###
### Running command:
###
### C:\cygwin\bin\curl.exe -O https://malbec2.bioconductor.org/BBS/3.9/bioc/src/contrib/NBSplice_1.2.1.tar.gz && rm -rf NBSplice.buildbin-libdir && mkdir NBSplice.buildbin-libdir && C:\Users\biocbuild\bbs-3.9-bioc\R\bin\R.exe CMD INSTALL --merge-multiarch --build --library=NBSplice.buildbin-libdir NBSplice_1.2.1.tar.gz && C:\Users\biocbuild\bbs-3.9-bioc\R\bin\R.exe CMD INSTALL NBSplice_1.2.1.zip && rm NBSplice_1.2.1.tar.gz NBSplice_1.2.1.zip
###
##############################################################################
##############################################################################
% Total % Received % Xferd Average Speed Time Time Time Current
Dload Upload Total Spent Left Speed
0 0 0 0 0 0 0 0 --:--:-- --:--:-- --:--:-- 0
0 916k 0 0 0 0 0 0 --:--:-- --:--:-- --:--:-- 0
100 916k 100 916k 0 0 12.0M 0 --:--:-- --:--:-- --:--:-- 12.9M
install for i386
* installing *source* package 'NBSplice' ...
** using staged installation
** R
** data
** inst
** byte-compile and prepare package for lazy loading
** help
*** installing help indices
converting help for package 'NBSplice'
finding HTML links ... done
IsoDataSet-NBTest html
IsoDataSet-buildLowExpIdx html
IsoDataSet-class html
IsoDataSet-constructor html
IsoDataSet-core html
IsoDataSet-getters html
IsoDataSet-initialize html
IsoDataSet-print html
IsoDataSet-show html
NBSplice-package html
NBSpliceRes-GetDSGenes html
NBSpliceRes-GetDSResults html
NBSpliceRes-GetGeneResults html
NBSpliceRes-class html
NBSpliceRes-constructor html
NBSpliceRes-getters html
NBSpliceRes-initialize html
NBSpliceRes-plotGeneResults html
NBSpliceRes-plotRatiosDisp html
NBSpliceRes-plotVolcano html
NBSpliceRes-print html
NBSpliceRes-show html
designMatrix html
geneIso html
isoCountsData html
myDSResults html
myIsoDataSet html
totalGeneCounts html
** building package indices
** installing vignettes
** testing if installed package can be loaded from temporary location
** testing if installed package can be loaded from final location
** testing if installed package keeps a record of temporary installation path
install for x64
* installing *source* package 'NBSplice' ...
** testing if installed package can be loaded
* MD5 sums
packaged installation of 'NBSplice' as NBSplice_1.2.1.zip
* DONE (NBSplice)
* installing to library 'C:/Users/biocbuild/bbs-3.9-bioc/R/library'
package 'NBSplice' successfully unpacked and MD5 sums checked