| Back to Multiple platform build/check report for BioC 3.9 |
|
This page was generated on 2019-10-16 12:35:46 -0400 (Wed, 16 Oct 2019).
| Package 1066/1741 | Hostname | OS / Arch | INSTALL | BUILD | CHECK | BUILD BIN | ||||||
| MultiDataSet 1.12.0 Carlos Ruiz-Arenas
| malbec2 | Linux (Ubuntu 18.04.2 LTS) / x86_64 | OK | OK | OK | |||||||
| tokay2 | Windows Server 2012 R2 Standard / x64 | OK | OK | OK | [ OK ] | |||||||
| celaya2 | OS X 10.11.6 El Capitan / x86_64 | OK | OK | OK | OK |
| Package: MultiDataSet |
| Version: 1.12.0 |
| Command: rm -rf MultiDataSet.buildbin-libdir && mkdir MultiDataSet.buildbin-libdir && C:\Users\biocbuild\bbs-3.9-bioc\R\bin\R.exe CMD INSTALL --merge-multiarch --build --library=MultiDataSet.buildbin-libdir MultiDataSet_1.12.0.tar.gz |
| StartedAt: 2019-10-16 09:44:40 -0400 (Wed, 16 Oct 2019) |
| EndedAt: 2019-10-16 09:45:31 -0400 (Wed, 16 Oct 2019) |
| EllapsedTime: 50.7 seconds |
| RetCode: 0 |
| Status: OK |
| PackageFile: MultiDataSet_1.12.0.zip |
| PackageFileSize: 1.079 MiB |
##############################################################################
##############################################################################
###
### Running command:
###
### rm -rf MultiDataSet.buildbin-libdir && mkdir MultiDataSet.buildbin-libdir && C:\Users\biocbuild\bbs-3.9-bioc\R\bin\R.exe CMD INSTALL --merge-multiarch --build --library=MultiDataSet.buildbin-libdir MultiDataSet_1.12.0.tar.gz
###
##############################################################################
##############################################################################
install for i386
* installing *source* package 'MultiDataSet' ...
** using staged installation
** R
** data
*** moving datasets to lazyload DB
** inst
** byte-compile and prepare package for lazy loading
in method for 'add_methy' with signature '"MultiDataSet","GenomicRatioSet"': no definition for class "GenomicRatioSet"
** help
*** installing help indices
converting help for package 'MultiDataSet'
finding HTML links ... done
MultiDataSet-class html
MultiDataSet html
ResultSet-class html
add_eset html
add_genexp html
add_methy html
add_rnaseq-methods html
add_rse html
add_se html
add_snps html
add_table html
chrNumToChar html
commonIds html
commonSamples html
getAssociation-methods html
lambdaClayton html
mae2mds html
mds2mae html
opt-methods html
qq_plot html
rowRangesElements html
rset html
volcano_plot html
w_iclusterplus html
w_mcia html
** building package indices
** installing vignettes
** testing if installed package can be loaded from temporary location
** testing if installed package can be loaded from final location
** testing if installed package keeps a record of temporary installation path
install for x64
* installing *source* package 'MultiDataSet' ...
** testing if installed package can be loaded
* MD5 sums
packaged installation of 'MultiDataSet' as MultiDataSet_1.12.0.zip
* DONE (MultiDataSet)