| Back to Multiple platform build/check report for BioC 3.9 |
|
This page was generated on 2019-10-16 12:50:27 -0400 (Wed, 16 Oct 2019).
| Package 1041/1741 | Hostname | OS / Arch | INSTALL | BUILD | CHECK | BUILD BIN | ||||||
| MotifDb 1.26.0 Paul Shannon
| malbec2 | Linux (Ubuntu 18.04.2 LTS) / x86_64 | OK | OK | OK | |||||||
| tokay2 | Windows Server 2012 R2 Standard / x64 | OK | OK | OK | OK | |||||||
| celaya2 | OS X 10.11.6 El Capitan / x86_64 | OK | OK | OK | [ OK ] |
| Package: MotifDb |
| Version: 1.26.0 |
| Command: rm -rf MotifDb.buildbin-libdir && mkdir MotifDb.buildbin-libdir && /Users/biocbuild/BBS/utils/build-universal.sh MotifDb_1.26.0.tar.gz /Library/Frameworks/R.framework/Versions/Current/Resources/bin/R MotifDb.buildbin-libdir |
| StartedAt: 2019-10-16 08:59:16 -0400 (Wed, 16 Oct 2019) |
| EndedAt: 2019-10-16 09:00:10 -0400 (Wed, 16 Oct 2019) |
| EllapsedTime: 54.0 seconds |
| RetCode: 0 |
| Status: OK |
| PackageFile: MotifDb_1.26.0.tgz |
| PackageFileSize: 3.502 MiB |
##############################################################################
##############################################################################
###
### Running command:
###
### rm -rf MotifDb.buildbin-libdir && mkdir MotifDb.buildbin-libdir && /Users/biocbuild/BBS/utils/build-universal.sh MotifDb_1.26.0.tar.gz /Library/Frameworks/R.framework/Versions/Current/Resources/bin/R MotifDb.buildbin-libdir
###
##############################################################################
##############################################################################
>>>>>>>
>>>>>>> INSTALLATION WITH 'R CMD INSTALL --preclean --no-multiarch --library=MotifDb.buildbin-libdir MotifDb_1.26.0.tar.gz'
>>>>>>>
* installing *source* package ‘MotifDb’ ...
** using staged installation
** R
** inst
** byte-compile and prepare package for lazy loading
** help
*** installing help indices
** building package indices
** installing vignettes
** testing if installed package can be loaded from temporary location
See system.file("LICENSE", package="MotifDb") for use restrictions.
** testing if installed package can be loaded from final location
See system.file("LICENSE", package="MotifDb") for use restrictions.
** testing if installed package keeps a record of temporary installation path
* DONE (MotifDb)