| Back to Multiple platform build/check report for BioC 3.9 |
|
This page was generated on 2019-10-16 12:25:51 -0400 (Wed, 16 Oct 2019).
| Package 1029/1741 | Hostname | OS / Arch | INSTALL | BUILD | CHECK | BUILD BIN | ||||||
| MmPalateMiRNA 1.34.0 Guy Brock
| malbec2 | Linux (Ubuntu 18.04.2 LTS) / x86_64 | OK | OK | OK | |||||||
| tokay2 | Windows Server 2012 R2 Standard / x64 | [ OK ] | OK | WARNINGS | OK | |||||||
| celaya2 | OS X 10.11.6 El Capitan / x86_64 | OK | OK | OK | OK |
| Package: MmPalateMiRNA |
| Version: 1.34.0 |
| Command: C:\cygwin\bin\curl.exe -O https://malbec2.bioconductor.org/BBS/3.9/bioc/src/contrib/MmPalateMiRNA_1.34.0.tar.gz && rm -rf MmPalateMiRNA.buildbin-libdir && mkdir MmPalateMiRNA.buildbin-libdir && C:\Users\biocbuild\bbs-3.9-bioc\R\bin\R.exe CMD INSTALL --merge-multiarch --build --library=MmPalateMiRNA.buildbin-libdir MmPalateMiRNA_1.34.0.tar.gz && C:\Users\biocbuild\bbs-3.9-bioc\R\bin\R.exe CMD INSTALL MmPalateMiRNA_1.34.0.zip && rm MmPalateMiRNA_1.34.0.tar.gz MmPalateMiRNA_1.34.0.zip |
| StartedAt: 2019-10-15 19:30:54 -0400 (Tue, 15 Oct 2019) |
| EndedAt: 2019-10-15 19:31:23 -0400 (Tue, 15 Oct 2019) |
| EllapsedTime: 28.6 seconds |
| RetCode: 0 |
| Status: OK |
##############################################################################
##############################################################################
###
### Running command:
###
### C:\cygwin\bin\curl.exe -O https://malbec2.bioconductor.org/BBS/3.9/bioc/src/contrib/MmPalateMiRNA_1.34.0.tar.gz && rm -rf MmPalateMiRNA.buildbin-libdir && mkdir MmPalateMiRNA.buildbin-libdir && C:\Users\biocbuild\bbs-3.9-bioc\R\bin\R.exe CMD INSTALL --merge-multiarch --build --library=MmPalateMiRNA.buildbin-libdir MmPalateMiRNA_1.34.0.tar.gz && C:\Users\biocbuild\bbs-3.9-bioc\R\bin\R.exe CMD INSTALL MmPalateMiRNA_1.34.0.zip && rm MmPalateMiRNA_1.34.0.tar.gz MmPalateMiRNA_1.34.0.zip
###
##############################################################################
##############################################################################
% Total % Received % Xferd Average Speed Time Time Time Current
Dload Upload Total Spent Left Speed
0 0 0 0 0 0 0 0 --:--:-- --:--:-- --:--:-- 0
100 506k 100 506k 0 0 4836k 0 --:--:-- --:--:-- --:--:-- 5226k
install for i386
* installing *source* package 'MmPalateMiRNA' ...
** using staged installation
** R
** data
** byte-compile and prepare package for lazy loading
** help
*** installing help indices
converting help for package 'MmPalateMiRNA'
finding HTML links ... done
MADvsMedianPlot html
Rd warning: C:/Users/biocbuild/bbs-3.9-bioc/tmpdir/Rtmpi89bk6/R.INSTALL59c70ff3e8e/MmPalateMiRNA/man/MADvsMedianPlot.Rd:29: file link 'MAList-class' in package 'limma' does not exist and so has been treated as a topic
Rd warning: C:/Users/biocbuild/bbs-3.9-bioc/tmpdir/Rtmpi89bk6/R.INSTALL59c70ff3e8e/MmPalateMiRNA/man/MADvsMedianPlot.Rd:30: file link 'NChannelSet-class' in package 'Biobase' does not exist and so has been treated as a topic
Rd warning: C:/Users/biocbuild/bbs-3.9-bioc/tmpdir/Rtmpi89bk6/R.INSTALL59c70ff3e8e/MmPalateMiRNA/man/MADvsMedianPlot.Rd:36: file link 'RGList-class' in package 'limma' does not exist and so has been treated as a topic
Rd warning: C:/Users/biocbuild/bbs-3.9-bioc/tmpdir/Rtmpi89bk6/R.INSTALL59c70ff3e8e/MmPalateMiRNA/man/MADvsMedianPlot.Rd:40: file link 'densityplot' in package 'lattice' does not exist and so has been treated as a topic
Rd warning: C:/Users/biocbuild/bbs-3.9-bioc/tmpdir/Rtmpi89bk6/R.INSTALL59c70ff3e8e/MmPalateMiRNA/man/MADvsMedianPlot.Rd:49: file link 'MAList-class' in package 'limma' does not exist and so has been treated as a topic
Rd warning: C:/Users/biocbuild/bbs-3.9-bioc/tmpdir/Rtmpi89bk6/R.INSTALL59c70ff3e8e/MmPalateMiRNA/man/MADvsMedianPlot.Rd:50: file link 'NChannelSet-class' in package 'Biobase' does not exist and so has been treated as a topic
MAplot html
Rd warning: C:/Users/biocbuild/bbs-3.9-bioc/tmpdir/Rtmpi89bk6/R.INSTALL59c70ff3e8e/MmPalateMiRNA/man/MAplot.Rd:29: file link 'MAList-class' in package 'limma' does not exist and so has been treated as a topic
Rd warning: C:/Users/biocbuild/bbs-3.9-bioc/tmpdir/Rtmpi89bk6/R.INSTALL59c70ff3e8e/MmPalateMiRNA/man/MAplot.Rd:30: file link 'NChannelSet-class' in package 'Biobase' does not exist and so has been treated as a topic
MmPalateMiRNA-package html
Rd warning: C:/Users/biocbuild/bbs-3.9-bioc/tmpdir/Rtmpi89bk6/R.INSTALL59c70ff3e8e/MmPalateMiRNA/man/MmPalateMiRNA-package.Rd:29: file link 'RGList-class' in package 'limma' does not exist and so has been treated as a topic
Rd warning: C:/Users/biocbuild/bbs-3.9-bioc/tmpdir/Rtmpi89bk6/R.INSTALL59c70ff3e8e/MmPalateMiRNA/man/MmPalateMiRNA-package.Rd:33: file link 'RGList-class' in package 'limma' does not exist and so has been treated as a topic
Rd warning: C:/Users/biocbuild/bbs-3.9-bioc/tmpdir/Rtmpi89bk6/R.INSTALL59c70ff3e8e/MmPalateMiRNA/man/MmPalateMiRNA-package.Rd:34: file link 'MAList-class' in package 'limma' does not exist and so has been treated as a topic
Rd warning: C:/Users/biocbuild/bbs-3.9-bioc/tmpdir/Rtmpi89bk6/R.INSTALL59c70ff3e8e/MmPalateMiRNA/man/MmPalateMiRNA-package.Rd:35: file link 'NChannelSet-class' in package 'Biobase' does not exist and so has been treated as a topic
Rd warning: C:/Users/biocbuild/bbs-3.9-bioc/tmpdir/Rtmpi89bk6/R.INSTALL59c70ff3e8e/MmPalateMiRNA/man/MmPalateMiRNA-package.Rd:36: file link 'lattice-package' in package 'lattice' does not exist and so has been treated as a topic
PalateData html
finding level-2 HTML links ... done
checkMVs html
Rd warning: C:/Users/biocbuild/bbs-3.9-bioc/tmpdir/Rtmpi89bk6/R.INSTALL59c70ff3e8e/MmPalateMiRNA/man/checkMVs.Rd:9: file link 'RGList-class' in package 'limma' does not exist and so has been treated as a topic
Rd warning: C:/Users/biocbuild/bbs-3.9-bioc/tmpdir/Rtmpi89bk6/R.INSTALL59c70ff3e8e/MmPalateMiRNA/man/checkMVs.Rd:13: file link 'RGList-class' in package 'limma' does not exist and so has been treated as a topic
Rd warning: C:/Users/biocbuild/bbs-3.9-bioc/tmpdir/Rtmpi89bk6/R.INSTALL59c70ff3e8e/MmPalateMiRNA/man/checkMVs.Rd:22: file link 'RGList-class' in package 'limma' does not exist and so has been treated as a topic
checkOutliers html
Rd warning: C:/Users/biocbuild/bbs-3.9-bioc/tmpdir/Rtmpi89bk6/R.INSTALL59c70ff3e8e/MmPalateMiRNA/man/checkOutliers.Rd:8: file link 'RGList-class' in package 'limma' does not exist and so has been treated as a topic
Rd warning: C:/Users/biocbuild/bbs-3.9-bioc/tmpdir/Rtmpi89bk6/R.INSTALL59c70ff3e8e/MmPalateMiRNA/man/checkOutliers.Rd:13: file link 'RGList-class' in package 'limma' does not exist and so has been treated as a topic
Rd warning: C:/Users/biocbuild/bbs-3.9-bioc/tmpdir/Rtmpi89bk6/R.INSTALL59c70ff3e8e/MmPalateMiRNA/man/checkOutliers.Rd:23: file link 'RGList-class' in package 'limma' does not exist and so has been treated as a topic
clustPlot html
densityplot html
Rd warning: C:/Users/biocbuild/bbs-3.9-bioc/tmpdir/Rtmpi89bk6/R.INSTALL59c70ff3e8e/MmPalateMiRNA/man/densityplot.Rd:32: file link 'RGList-class' in package 'limma' does not exist and so has been treated as a topic
Rd warning: C:/Users/biocbuild/bbs-3.9-bioc/tmpdir/Rtmpi89bk6/R.INSTALL59c70ff3e8e/MmPalateMiRNA/man/densityplot.Rd:33: file link 'MAList-class' in package 'limma' does not exist and so has been treated as a topic
Rd warning: C:/Users/biocbuild/bbs-3.9-bioc/tmpdir/Rtmpi89bk6/R.INSTALL59c70ff3e8e/MmPalateMiRNA/man/densityplot.Rd:34: file link 'NChannelSet-class' in package 'Biobase' does not exist and so has been treated as a topic
Rd warning: C:/Users/biocbuild/bbs-3.9-bioc/tmpdir/Rtmpi89bk6/R.INSTALL59c70ff3e8e/MmPalateMiRNA/man/densityplot.Rd:40: file link 'RGList-class' in package 'limma' does not exist and so has been treated as a topic
Rd warning: C:/Users/biocbuild/bbs-3.9-bioc/tmpdir/Rtmpi89bk6/R.INSTALL59c70ff3e8e/MmPalateMiRNA/man/densityplot.Rd:44: file link 'densityplot' in package 'lattice' does not exist and so has been treated as a topic
Rd warning: C:/Users/biocbuild/bbs-3.9-bioc/tmpdir/Rtmpi89bk6/R.INSTALL59c70ff3e8e/MmPalateMiRNA/man/densityplot.Rd:51: file link 'RGList-class' in package 'limma' does not exist and so has been treated as a topic
Rd warning: C:/Users/biocbuild/bbs-3.9-bioc/tmpdir/Rtmpi89bk6/R.INSTALL59c70ff3e8e/MmPalateMiRNA/man/densityplot.Rd:60: file link 'MAList-class' in package 'limma' does not exist and so has been treated as a topic
Rd warning: C:/Users/biocbuild/bbs-3.9-bioc/tmpdir/Rtmpi89bk6/R.INSTALL59c70ff3e8e/MmPalateMiRNA/man/densityplot.Rd:61: file link 'NChannelSet-class' in package 'Biobase' does not exist and so has been treated as a topic
filterArray html
Rd warning: C:/Users/biocbuild/bbs-3.9-bioc/tmpdir/Rtmpi89bk6/R.INSTALL59c70ff3e8e/MmPalateMiRNA/man/filterArray.Rd:8: file link 'RGList-class' in package 'limma' does not exist and so has been treated as a topic
Rd warning: C:/Users/biocbuild/bbs-3.9-bioc/tmpdir/Rtmpi89bk6/R.INSTALL59c70ff3e8e/MmPalateMiRNA/man/filterArray.Rd:12: file link 'RGList-class' in package 'limma' does not exist and so has been treated as a topic
Rd warning: C:/Users/biocbuild/bbs-3.9-bioc/tmpdir/Rtmpi89bk6/R.INSTALL59c70ff3e8e/MmPalateMiRNA/man/filterArray.Rd:26: file link 'RGList-class' in package 'limma' does not exist and so has been treated as a topic
Rd warning: C:/Users/biocbuild/bbs-3.9-bioc/tmpdir/Rtmpi89bk6/R.INSTALL59c70ff3e8e/MmPalateMiRNA/man/filterArray.Rd:57: file link 'RGList-class' in package 'limma' does not exist and so has been treated as a topic
fixMVs html
fixOutliers html
imputeKNN html
levelplot html
Rd warning: C:/Users/biocbuild/bbs-3.9-bioc/tmpdir/Rtmpi89bk6/R.INSTALL59c70ff3e8e/MmPalateMiRNA/man/levelplot.Rd:37: file link 'RGList-class' in package 'limma' does not exist and so has been treated as a topic
Rd warning: C:/Users/biocbuild/bbs-3.9-bioc/tmpdir/Rtmpi89bk6/R.INSTALL59c70ff3e8e/MmPalateMiRNA/man/levelplot.Rd:38: file link 'MAList-class' in package 'limma' does not exist and so has been treated as a topic
Rd warning: C:/Users/biocbuild/bbs-3.9-bioc/tmpdir/Rtmpi89bk6/R.INSTALL59c70ff3e8e/MmPalateMiRNA/man/levelplot.Rd:39: file link 'NChannelSet-class' in package 'Biobase' does not exist and so has been treated as a topic
Rd warning: C:/Users/biocbuild/bbs-3.9-bioc/tmpdir/Rtmpi89bk6/R.INSTALL59c70ff3e8e/MmPalateMiRNA/man/levelplot.Rd:45: file link 'RGList-class' in package 'limma' does not exist and so has been treated as a topic
Rd warning: C:/Users/biocbuild/bbs-3.9-bioc/tmpdir/Rtmpi89bk6/R.INSTALL59c70ff3e8e/MmPalateMiRNA/man/levelplot.Rd:59: file link 'RGList-class' in package 'limma' does not exist and so has been treated as a topic
Rd warning: C:/Users/biocbuild/bbs-3.9-bioc/tmpdir/Rtmpi89bk6/R.INSTALL59c70ff3e8e/MmPalateMiRNA/man/levelplot.Rd:68: file link 'MAList-class' in package 'limma' does not exist and so has been treated as a topic
Rd warning: C:/Users/biocbuild/bbs-3.9-bioc/tmpdir/Rtmpi89bk6/R.INSTALL59c70ff3e8e/MmPalateMiRNA/man/levelplot.Rd:69: file link 'NChannelSet-class' in package 'Biobase' does not exist and so has been treated as a topic
** building package indices
** installing vignettes
** testing if installed package can be loaded from temporary location
** testing if installed package can be loaded from final location
** testing if installed package keeps a record of temporary installation path
install for x64
* installing *source* package 'MmPalateMiRNA' ...
** testing if installed package can be loaded
* MD5 sums
packaged installation of 'MmPalateMiRNA' as MmPalateMiRNA_1.34.0.zip
* DONE (MmPalateMiRNA)
* installing to library 'C:/Users/biocbuild/bbs-3.9-bioc/R/library'
package 'MmPalateMiRNA' successfully unpacked and MD5 sums checked